Workbook
Name alpha: 'Multiple trajectories'!$P$55
Name alpha: 'Traj 1'!$W$68
Name alpha: 'Traj 2'!$W$68
Name alpha: 'Traj 3'!$W$68
Name alpha: 'Traj 4'!$W$68
Name alpha: 'Traj 5'!$W$68
Name alpha: #REF!
Name displ: 'Multiple trajectories'!$O$55
Name displ: 'Traj 1'!$V$68
Name displ: 'Traj 2'!$V$68
Name displ: 'Traj 3'!$V$68
Name displ: 'Traj 4'!$V$68
Name displ: 'Traj 5'!$V$68
Name displ: #REF!
Name dp_dy: 'Multiple trajectories'!#REF!
Name dp_dy: 'Traj 1'!$D$5
Name dp_dy: 'Traj 2'!$D$5
Name dp_dy: 'Traj 3'!$D$5
Name dp_dy: 'Traj 4'!$D$5
Name dp_dy: 'Traj 5'!$D$5
Name dp_dy: #REF!
Name f: 'Multiple trajectories'!#REF!
Name f: 'Traj 1'!$D$8
Name f: 'Traj 2'!$D$8
Name f: 'Traj 3'!$D$8
Name f: 'Traj 4'!$D$8
Name f: 'Traj 5'!$D$8
Name f: #REF!
Name init_km_from_eq: 'Multiple trajectories'!#REF!
Name init_km_from_eq: 'Traj 1'!$H$7
Name init_km_from_eq: 'Traj 2'!$H$7
Name init_km_from_eq: 'Traj 3'!$H$7
Name init_km_from_eq: 'Traj 4'!$H$7
Name init_km_from_eq: 'Traj 5'!$H$7
Name init_km_from_eq: #REF!
Name latitude: 'Multiple trajectories'!#REF!
Name latitude: 'Traj 1'!$D$7
Name latitude: 'Traj 2'!$D$7
Name latitude: 'Traj 3'!$D$7
Name latitude: 'Traj 4'!$D$7
Name latitude: 'Traj 5'!$D$7
Name latitude: #REF!
Name rho: 'Multiple trajectories'!#REF!
Name rho: 'Traj 1'!$D$3
Name rho: 'Traj 2'!$D$3
Name rho: 'Traj 3'!$D$3
Name rho: 'Traj 4'!$D$3
Name rho: 'Traj 5'!$D$3
Name rho: #REF!
Name sharpness: 'Multiple trajectories'!#REF!
Name sharpness: 'Traj 1'!$D$6
Name sharpness: 'Traj 2'!$D$6
Name sharpness: 'Traj 3'!$D$6
Name sharpness: 'Traj 4'!$D$6
Name sharpness: 'Traj 5'!$D$6
Name sharpness: #REF!
Name time_step: 'Multiple trajectories'!#REF!
Name time_step: 'Traj 1'!$D$13
Name time_step: 'Traj 2'!$D$13
Name time_step: 'Traj 3'!$D$13

Sheet Multiple trajectories
A1: Enter:
F2: trajectory 1 | G2: traj 2 | H2: traj 3 | I2: traj 4 | J2: traj 5
B3: timestep: | C3: =1/12 -> 0.083333333 | D3: hr | E3: initial latitudes: | F3: 0 | G3: 5 | H3: 10 | I3: 15 | J3: -5 | K3: deg
C4: =C3*60 -> 5 | D4: minutes

Sheet Traj 1
C2: Enter:
C3: air density r | D3: 0.4 | E3: kg m-3 | F3: 1.225 | G3: kg m-3 at MSL | I3: 0.4 | J3: kg m-3 at tropopause
C4: N-S pressure gradient at pole | D4: -3.6 | E4: hPa 100km-1
C5: = | D5: =D4*100/10^5 -> -0.0036 | E5: Pa m-1
C6: inflection of NS press. gradient | D6: 0.5 | E6: see diagram to right
C7: initial latitude | D7: ='Multiple trajectories'!F3 -> 0 | E7: deg | H7: =2*PI()*6.37*10^3*IF(latitude=0,10^(-6),latitude)/360 -> 0.00011117747 | I7: km from equator (y distance) | L7: where f = | M7: =2*7.292*10^(-5)*SIN(360*H7/(2*PI()*6.37*10^3)*PI()/180) -> 2.5453882e-12 | N7: s-1
C8: f = | D8: =2*7.292*10^(-5)*SIN(IF(latitude=0,10^(-6),latitude)*PI()/180) -> 2.5453882e-12 | E8: s-1 | L8: =IF(latitude>0,"Air parcel initially in Northern Hemisphere",IF(latitude=0,"Air parcel initially at equator","Air parcel initially in Southern Hemisphere")) -> Air parcel initially at equator
B10: initial velocity | C10: uo = | D10: 0 | E10: m s-1
C11: vo = | D11: 0 | E11: m s-1 | L11: Equator is at | M11: =-init_km_from_eq -> -0.00011117747 | N11: km on y-axis
C13: time-step = | D13: ='Multiple trajectories'!C3 -> 0.083333333 | E13: hr | I13: max u:
I14: =MAX(I17:I400) -> 92.496837 | J14: m s-1
F15: dp/dy | G15: dp/dy
A16: time (hr) | B16: x (km) | C16: y (km) | D16: =B16 -> x (km) | E16: lat (deg) | F16: Pa m-1 | G16: hPa 100km-1 | H16: f (s-1) | I16: u (ms-1) | J16: v (ms-1)
A17: 0 | B17: =((uo+dp_dy/(f*rho))/f*SIN(f*A17*3600)-vo/f*COS(f*A17*3600)-dp_dy*A17*3600/(f*rho)+vo/f)/1000 -> 0 | C17: =((uo+dp_dy/(f*rho))/f*COS(f*A17*3600)+vo/f*SIN(f*A17*3600)-(uo+dp_dy/(f*rho))/f)/1000 -> 0 | D17: =B17 -> 0 | E17: =IF(latitude=0,10^(-6),latitude) -> 1e-06 | F17: =dp_dy*(1+EXP(-(ABS(E17)-displ)/9*sharpness))^(-alpha) -> -0.00027308946 | G17: =F17*10^5/100 -> -0.27308946 | H17: =2*7.292*10^(-5)*SIN(E17*PI()/180) -> 2.5453882e-12 | I17: =(uo+dp_dy/(f*rho))*COS(f*$A17*3600)+vo*SIN(f*$A17*3600)-dp_dy/(f*rho) -> 0 | J17: =-(uo+dp_dy/(f*rho))*SIN(f*$A17*3600)+vo*COS(f*$A17*3600) -> 0
A18: =A17+time_step -> 0.083333333 | B18: =B17+((I17+dp_dy*(1+EXP(-(ABS(E17)-displ)/9*sharpness))^(-alpha)/(H17*rho))/H17*SIN(H17*time_step*3600)-J17/H17*COS(H17*time_step*3600)-dp_dy*(1+EXP(-(ABS(E17)-displ)/9*sharpness))^(-alpha)*time_step*3600/(H17*rho)+J17/H17)/1000 -> 0 | C18: =C17+((I17+dp_dy*(1+EXP(-(ABS(E17)-displ)/9*sharpness))^(-alpha)/(H17*rho))/H17*COS(H17*time_step*3600)+J17/H17*SIN(H17*time_step*3600)-(I17+dp_dy*(1+EXP(-(ABS(E17)-displ)/9*sharpness))^(-alpha)/(H17*rho))/H17)/1000 -> 0 | D18: =B18 -> 0 | E18: =360*(init_km_from_eq+C18)/(2*PI()*6.37*10^3) -> 1e-06 | F18: =dp_dy*(1+EXP(-(ABS(E17)-displ)/9*sharpness))^(-alpha) -> -0.00027308946 | G18: =F18*10^5/100 -> -0.27308946 | H18: =2*7.292*10^(-5)*SIN(E18*PI()/180) -> 2.5453882e-12 | I18: =(I17+dp_dy*(1+EXP(-(ABS(E17)-displ)/9*sharpness))^(-alpha)/(H17*rho))*COS(H17*time_step*3600)+J17*SIN(H17*time_step*3600)-dp_dy*(1+EXP(-(ABS(E17)-displ)/9*sharpness))^(-alpha)/(H17*rho) -> 0 | J18: =-(I17+dp_dy*(1+EXP(-(ABS(E17)-displ)/9*sharpness))^(-alpha)/(H17*rho))*SIN(H17*time_step*3600)+J17*COS(H17*time_step*3600) -> 0.2048171
A19: =A18+time_step -> 0.16666667 | B19: =B18+((I18+dp_dy*(1+EXP(-(ABS(E18)-displ)/9*sharpness))^(-alpha)/(H18*rho))/H18*SIN(H18*time_step*3600)-J18/H18*COS(H18*time_step*3600)-dp_dy*(1+EXP(-(ABS(E18)-displ)/9*sharpness))^(-alpha)*time_step*3600/(H18*rho)+J18/H18)/1000 -> 0 | C19: =C18+((I18+dp_dy*(1+EXP(-(ABS(E18)-displ)/9*sharpness))^(-alpha)/(H18*rho))/H18*COS(H18*time_step*3600)+J18/H18*SIN(H18*time_step*3600)-(I18+dp_dy*(1+EXP(-(ABS(E18)-displ)/9*sharpness))^(-alpha)/(H18*rho))/H18)/1000 -> 0 | D19: =B19 -> 0 | E19: =360*(init_km_from_eq+C19)/(2*PI()*6.37*10^3) -> 1e-06 | F19: =dp_dy*(1+EXP(-(ABS(E18)-displ)/9*sharpness))^(-alpha) -> -0.00027308946 | G19: =F19*10^5/100 -> -0.27308946 | H19: =2*7.292*10^(-5)*SIN(E19*PI()/180) -> 2.5453882e-12 | I19: =(I18+dp_dy*(1+EXP(-(ABS(E18)-displ)/9*sharpness))^(-alpha)/(H18*rho))*COS(H18*time_step*3600)+J18*SIN(H18*time_step*3600)-dp_dy*(1+EXP(-(ABS(E18)-displ)/9*sharpness))^(-alpha)/(H18*rho) -> 0 | J19: =-(I18+dp_dy*(1+EXP(-(ABS(E18)-displ)/9*sharpness))^(-alpha)/(H18*rho))*SIN(H18*time_step*3600)+J18*COS(H18*time_step*3600) -> 0.40963419
A20: =A19+time_step -> 0.25 | B20: =B19+((I19+dp_dy*(1+EXP(-(ABS(E19)-displ)/9*sharpness))^(-alpha)/(H19*rho))/H19*SIN(H19*time_step*3600)-J19/H19*COS(H19*time_step*3600)-dp_dy*(1+EXP(-(ABS(E19)-displ)/9*sharpness))^(-alpha)*time_step*3600/(H19*rho)+J19/H19)/1000 -> 0 | C20: =C19+((I19+dp_dy*(1+EXP(-(ABS(E19)-displ)/9*sharpness))^(-alpha)/(H19*rho))/H19*COS(H19*time_step*3600)+J19/H19*SIN(H19*time_step*3600)-(I19+dp_dy*(1+EXP(-(ABS(E19)-displ)/9*sharpness))^(-alpha)/(H19*rho))/H19)/1000 -> 0 | D20: =B20 -> 0 | E20: =360*(init_km_from_eq+C20)/(2*PI()*6.37*10^3) -> 1e-06 | F20: =dp_dy*(1+EXP(-(ABS(E19)-displ)/9*sharpness))^(-alpha) -> -0.00027308946 | G20: =F20*10^5/100 -> -0.27308946 | H20: =2*7.292*10^(-5)*SIN(E20*PI()/180) -> 2.5453882e-12 | I20: =(I19+dp_dy*(1+EXP(-(ABS(E19)-displ)/9*sharpness))^(-alpha)/(H19*rho))*COS(H19*time_step*3600)+J19*SIN(H19*time_step*3600)-dp_dy*(1+EXP(-(ABS(E19)-displ)/9*sharpness))^(-alpha)/(H19*rho) -> 0 | J20: =-(I19+dp_dy*(1+EXP(-(ABS(E19)-displ)/9*sharpness))^(-alpha)/(H19*rho))*SIN(H19*time_step*3600)+J19*COS(H19*time_step*3600) -> 0.61445129
A21: =A20+time_step -> 0.33333333 | B21: =B20+((I20+dp_dy*(1+EXP(-(ABS(E20)-displ)/9*sharpness))^(-alpha)/(H20*rho))/H20*SIN(H20*time_step*3600)-J20/H20*COS(H20*time_step*3600)-dp_dy*(1+EXP(-(ABS(E20)-displ)/9*sharpness))^(-alpha)*time_step*3600/(H20*rho)+J20/H20)/1000 -> 0 | C21: =C20+((I20+dp_dy*(1+EXP(-(ABS(E20)-displ)/9*sharpness))^(-alpha)/(H20*rho))/H20*COS(H20*time_step*3600)+J20/H20*SIN(H20*time_step*3600)-(I20+dp_dy*(1+EXP(-(ABS(E20)-displ)/9*sharpness))^(-alpha)/(H20*rho))/H20)/1000 -> 0 | D21: =B21 -> 0 | E21: =360*(init_km_from_eq+C21)/(2*PI()*6.37*10^3) -> 1e-06 | F21: =dp_dy*(1+EXP(-(ABS(E20)-displ)/9*sharpness))^(-alpha) -> -0.00027308946 | G21: =F21*10^5/100 -> -0.27308946 | H21: =2*7.292*10^(-5)*SIN(E21*PI()/180) -> 2.5453882e-12 | I21: =(I20+dp_dy*(1+EXP(-(ABS(E20)-displ)/9*sharpness))^(-alpha)/(H20*rho))*COS(H20*time_step*3600)+J20*SIN(H20*time_step*3600)-dp_dy*(1+EXP(-(ABS(E20)-displ)/9*sharpness))^(-alpha)/(H20*rho) -> 0 | J21: =-(I20+dp_dy*(1+EXP(-(ABS(E20)-displ)/9*sharpness))^(-alpha)/(H20*rho))*SIN(H20*time_step*3600)+J20*COS(H20*time_step*3600) -> 0.81926839
A22: =A21+time_step -> 0.41666667 | B22: =B21+((I21+dp_dy*(1+EXP(-(ABS(E21)-displ)/9*sharpness))^(-alpha)/(H21*rho))/H21*SIN(H21*time_step*3600)-J21/H21*COS(H21*time_step*3600)-dp_dy*(1+EXP(-(ABS(E21)-displ)/9*sharpness))^(-alpha)*time_step*3600/(H21*rho)+J21/H21)/1000 -> 0 | C22: =C21+((I21+dp_dy*(1+EXP(-(ABS(E21)-displ)/9*sharpness))^(-alpha)/(H21*rho))/H21*COS(H21*time_step*3600)+J21/H21*SIN(H21*time_step*3600)-(I21+dp_dy*(1+EXP(-(ABS(E21)-displ)/9*sharpness))^(-alpha)/(H21*rho))/H21)/1000 -> 0 | D22: =B22 -> 0 | E22: =360*(init_km_from_eq+C22)/(2*PI()*6.37*10^3) -> 1e-06 | F22: =dp_dy*(1+EXP(-(ABS(E21)-displ)/9*sharpness))^(-alpha) -> -0.00027308946 | G22: =F22*10^5/100 -> -0.27308946 | H22: =2*7.292*10^(-5)*SIN(E22*PI()/180) -> 2.5453882e-12 | I22: =(I21+dp_dy*(1+EXP(-(ABS(E21)-displ)/9*sharpness))^(-alpha)/(H21*rho))*COS(H21*time_step*3600)+J21*SIN(H21*time_step*3600)-dp_dy*(1+EXP(-(ABS(E21)-displ)/9*sharpness))^(-alpha)/(H21*rho) -> 0 | J22: =-(I21+dp_dy*(1+EXP(-(ABS(E21)-displ)/9*sharpness))^(-alpha)/(H21*rho))*SIN(H21*time_step*3600)+J21*COS(H21*time_step*3600) -> 1.0240855
A23: =A22+time_step -> 0.5 | B23: =B22+((I22+dp_dy*(1+EXP(-(ABS(E22)-displ)/9*sharpness))^(-alpha)/(H22*rho))/H22*SIN(H22*time_step*3600)-J22/H22*COS(H22*time_step*3600)-dp_dy*(1+EXP(-(ABS(E22)-displ)/9*sharpness))^(-alpha)*time_step*3600/(H22*rho)+J22/H22)/1000 -> 0 | C23: =C22+((I22+dp_dy*(1+EXP(-(ABS(E22)-displ)/9*sharpness))^(-alpha)/(H22*rho))/H22*COS(H22*time_step*3600)+J22/H22*SIN(H22*time_step*3600)-(I22+dp_dy*(1+EXP(-(ABS(E22)-displ)/9*sharpness))^(-alpha)/(H22*rho))/H22)/1000 -> 0 | D23: =B23 -> 0 | E23: =360*(init_km_from_eq+C23)/(2*PI()*6.37*10^3) -> 1e-06 | F23: =dp_dy*(1+EXP(-(ABS(E22)-displ)/9*sharpness))^(-alpha) -> -0.00027308946 | G23: =F23*10^5/100 -> -0.27308946 | H23: =2*7.292*10^(-5)*SIN(E23*PI()/180) -> 2.5453882e-12 | I23: =(I22+dp_dy*(1+EXP(-(ABS(E22)-displ)/9*sharpness))^(-alpha)/(H22*rho))*COS(H22*time_step*3600)+J22*SIN(H22*time_step*3600)-dp_dy*(1+EXP(-(ABS(E22)-displ)/9*sharpness))^(-alpha)/(H22*rho) -> 0 | J23: =-(I22+dp_dy*(1+EXP(-(ABS(E22)-displ)/9*sharpness))^(-alpha)/(H22*rho))*SIN(H22*time_step*3600)+J22*COS(H22*time_step*3600) -> 1.2289026
A24: =A23+time_step -> 0.58333333 | B24: =B23+((I23+dp_dy*(1+EXP(-(ABS(E23)-displ)/9*sharpness))^(-alpha)/(H23*rho))/H23*SIN(H23*time_step*3600)-J23/H23*COS(H23*time_step*3600)-dp_dy*(1+EXP(-(ABS(E23)-displ)/9*sharpness))^(-alpha)*time_step*3600/(H23*rho)+J23/H23)/1000 -> 0 | C24: =C23+((I23+dp_dy*(1+EXP(-(ABS(E23)-displ)/9*sharpness))^(-alpha)/(H23*rho))/H23*COS(H23*time_step*3600)+J23/H23*SIN(H23*time_step*3600)-(I23+dp_dy*(1+EXP(-(ABS(E23)-displ)/9*sharpness))^(-alpha)/(H23*rho))/H23)/1000 -> 0 | D24: =B24 -> 0 | E24: =360*(init_km_from_eq+C24)/(2*PI()*6.37*10^3) -> 1e-06 | F24: =dp_dy*(1+EXP(-(ABS(E23)-displ)/9*sharpness))^(-alpha) -> -0.00027308946 | G24: =F24*10^5/100 -> -0.27308946 | H24: =2*7.292*10^(-5)*SIN(E24*PI()/180) -> 2.5453882e-12 | I24: =(I23+dp_dy*(1+EXP(-(ABS(E23)-displ)/9*sharpness))^(-alpha)/(H23*rho))*COS(H23*time_step*3600)+J23*SIN(H23*time_step*3600)-dp_dy*(1+EXP(-(ABS(E23)-displ)/9*sharpness))^(-alpha)/(H23*rho) -> 0 | J24: =-(I23+dp_dy*(1+EXP(-(ABS(E23)-displ)/9*sharpness))^(-alpha)/(H23*rho))*SIN(H23*time_step*3600)+J23*COS(H23*time_step*3600) -> 1.4337197
A25: =A24+time_step -> 0.66666667 | B25: =B24+((I24+dp_dy*(1+EXP(-(ABS(E24)-displ)/9*sharpness))^(-alpha)/(H24*rho))/H24*SIN(H24*time_step*3600)-J24/H24*COS(H24*time_step*3600)-dp_dy*(1+EXP(-(ABS(E24)-displ)/9*sharpness))^(-alpha)*time_step*3600/(H24*rho)+J24/H24)/1000 -> 0 | C25: =C24+((I24+dp_dy*(1+EXP(-(ABS(E24)-displ)/9*sharpness))^(-alpha)/(H24*rho))/H24*COS(H24*time_step*3600)+J24/H24*SIN(H24*time_step*3600)-(I24+dp_dy*(1+EXP(-(ABS(E24)-displ)/9*sharpness))^(-alpha)/(H24*rho))/H24)/1000 -> 0 | D25: =B25 -> 0 | E25: =360*(init_km_from_eq+C25)/(2*PI()*6.37*10^3) -> 1e-06 | F25: =dp_dy*(1+EXP(-(ABS(E24)-displ)/9*sharpness))^(-alpha) -> -0.00027308946 | G25: =F25*10^5/100 -> -0.27308946 | H25: =2*7.292*10^(-5)*SIN(E25*PI()/180) -> 2.5453882e-12 | I25: =(I24+dp_dy*(1+EXP(-(ABS(E24)-displ)/9*sharpness))^(-alpha)/(H24*rho))*COS(H24*time_step*3600)+J24*SIN(H24*time_step*3600)-dp_dy*(1+EXP(-(ABS(E24)-displ)/9*sharpness))^(-alpha)/(H24*rho) -> 0 | J25: =-(I24+dp_dy*(1+EXP(-(ABS(E24)-displ)/9*sharpness))^(-alpha)/(H24*rho))*SIN(H24*time_step*3600)+J24*COS(H24*time_step*3600) -> 1.6385368
A26: =A25+time_step -> 0.75 | B26: =B25+((I25+dp_dy*(1+EXP(-(ABS(E25)-displ)/9*sharpness))^(-alpha)/(H25*rho))/H25*SIN(H25*time_step*3600)-J25/H25*COS(H25*time_step*3600)-dp_dy*(1+EXP(-(ABS(E25)-displ)/9*sharpness))^(-alpha)*time_step*3600/(H25*rho)+J25/H25)/1000 -> 0 | C26: =C25+((I25+dp_dy*(1+EXP(-(ABS(E25)-displ)/9*sharpness))^(-alpha)/(H25*rho))/H25*COS(H25*time_step*3600)+J25/H25*SIN(H25*time_step*3600)-(I25+dp_dy*(1+EXP(-(ABS(E25)-displ)/9*sharpness))^(-alpha)/(H25*rho))/H25)/1000 -> 0 | D26: =B26 -> 0 | E26: =360*(init_km_from_eq+C26)/(2*PI()*6.37*10^3) -> 1e-06 | F26: =dp_dy*(1+EXP(-(ABS(E25)-displ)/9*sharpness))^(-alpha) -> -0.00027308946 | G26: =F26*10^5/100 -> -0.27308946 | H26: =2*7.292*10^(-5)*SIN(E26*PI()/180) -> 2.5453882e-12 | I26: =(I25+dp_dy*(1+EXP(-(ABS(E25)-displ)/9*sharpness))^(-alpha)/(H25*rho))*COS(H25*time_step*3600)+J25*SIN(H25*time_step*3600)-dp_dy*(1+EXP(-(ABS(E25)-displ)/9*sharpness))^(-alpha)/(H25*rho) -> 0 | J26: =-(I25+dp_dy*(1+EXP(-(ABS(E25)-displ)/9*sharpness))^(-alpha)/(H25*rho))*SIN(H25*time_step*3600)+J25*COS(H25*time_step*3600) -> 1.8433539
A27: =A26+time_step -> 0.83333333 | B27: =B26+((I26+dp_dy*(1+EXP(-(ABS(E26)-displ)/9*sharpness))^(-alpha)/(H26*rho))/H26*SIN(H26*time_step*3600)-J26/H26*COS(H26*time_step*3600)-dp_dy*(1+EXP(-(ABS(E26)-displ)/9*sharpness))^(-alpha)*time_step*3600/(H26*rho)+J26/H26)/1000 -> 0 | C27: =C26+((I26+dp_dy*(1+EXP(-(ABS(E26)-displ)/9*sharpness))^(-alpha)/(H26*rho))/H26*COS(H26*time_step*3600)+J26/H26*SIN(H26*time_step*3600)-(I26+dp_dy*(1+EXP(-(ABS(E26)-displ)/9*sharpness))^(-alpha)/(H26*rho))/H26)/1000 -> 0 | D27: =B27 -> 0 | E27: =360*(init_km_from_eq+C27)/(2*PI()*6.37*10^3) -> 1e-06 | F27: =dp_dy*(1+EXP(-(ABS(E26)-displ)/9*sharpness))^(-alpha) -> -0.00027308946 | G27: =F27*10^5/100 -> -0.27308946 | H27: =2*7.292*10^(-5)*SIN(E27*PI()/180) -> 2.5453882e-12 | I27: =(I26+dp_dy*(1+EXP(-(ABS(E26)-displ)/9*sharpness))^(-alpha)/(H26*rho))*COS(H26*time_step*3600)+J26*SIN(H26*time_step*3600)-dp_dy*(1+EXP(-(ABS(E26)-displ)/9*sharpness))^(-alpha)/(H26*rho) -> 0 | J27: =-(I26+dp_dy*(1+EXP(-(ABS(E26)-displ)/9*sharpness))^(-alpha)/(H26*rho))*SIN(H26*time_step*3600)+J26*COS(H26*time_step*3600) -> 2.048171
A28: =A27+time_step -> 0.91666667 | B28: =B27+((I27+dp_dy*(1+EXP(-(ABS(E27)-displ)/9*sharpness))^(-alpha)/(H27*rho))/H27*SIN(H27*time_step*3600)-J27/H27*COS(H27*time_step*3600)-dp_dy*(1+EXP(-(ABS(E27)-displ)/9*sharpness))^(-alpha)*time_step*3600/(H27*rho)+J27/H27)/1000 -> 0 | C28: =C27+((I27+dp_dy*(1+EXP(-(ABS(E27)-displ)/9*sharpness))^(-alpha)/(H27*rho))/H27*COS(H27*time_step*3600)+J27/H27*SIN(H27*time_step*3600)-(I27+dp_dy*(1+EXP(-(ABS(E27)-displ)/9*sharpness))^(-alpha)/(H27*rho))/H27)/1000 -> 0 | D28: =B28 -> 0 | E28: =360*(init_km_from_eq+C28)/(2*PI()*6.37*10^3) -> 1e-06 | F28: =dp_dy*(1+EXP(-(ABS(E27)-displ)/9*sharpness))^(-alpha) -> -0.00027308946 | G28: =F28*10^5/100 -> -0.27308946 | H28: =2*7.292*10^(-5)*SIN(E28*PI()/180) -> 2.5453882e-12 | I28: =(I27+dp_dy*(1+EXP(-(ABS(E27)-displ)/9*sharpness))^(-alpha)/(H27*rho))*COS(H27*time_step*3600)+J27*SIN(H27*time_step*3600)-dp_dy*(1+EXP(-(ABS(E27)-displ)/9*sharpness))^(-alpha)/(H27*rho) -> 0 | J28: =-(I27+dp_dy*(1+EXP(-(ABS(E27)-displ)/9*sharpness))^(-alpha)/(H27*rho))*SIN(H27*time_step*3600)+J27*COS(H27*time_step*3600) -> 2.2529881
A29: =A28+time_step -> 1 | B29: =B28+((I28+dp_dy*(1+EXP(-(ABS(E28)-displ)/9*sharpness))^(-alpha)/(H28*rho))/H28*SIN(H28*time_step*3600)-J28/H28*COS(H28*time_step*3600)-dp_dy*(1+EXP(-(ABS(E28)-displ)/9*sharpness))^(-alpha)*time_step*3600/(H28*rho)+J28/H28)/1000 -> 0 | C29: =C28+((I28+dp_dy*(1+EXP(-(ABS(E28)-displ)/9*sharpness))^(-alpha)/(H28*rho))/H28*COS(H28*time_step*3600)+J28/H28*SIN(H28*time_step*3600)-(I28+dp_dy*(1+EXP(-(ABS(E28)-displ)/9*sharpness))^(-alpha)/(H28*rho))/H28)/1000 -> 0 | D29: =B29 -> 0 | E29: =360*(init_km_from_eq+C29)/(2*PI()*6.37*10^3) -> 1e-06 | F29: =dp_dy*(1+EXP(-(ABS(E28)-displ)/9*sharpness))^(-alpha) -> -0.00027308946 | G29: =F29*10^5/100 -> -0.27308946 | H29: =2*7.292*10^(-5)*SIN(E29*PI()/180) -> 2.5453882e-12 | I29: =(I28+dp_dy*(1+EXP(-(ABS(E28)-displ)/9*sharpness))^(-alpha)/(H28*rho))*COS(H28*time_step*3600)+J28*SIN(H28*time_step*3600)-dp_dy*(1+EXP(-(ABS(E28)-displ)/9*sharpness))^(-alpha)/(H28*rho) -> 0 | J29: =-(I28+dp_dy*(1+EXP(-(ABS(E28)-displ)/9*sharpness))^(-alpha)/(H28*rho))*SIN(H28*time_step*3600)+J28*COS(H28*time_step*3600) -> 2.4578052
... A65: =A64+time_step -> 4 | B65: =B64+((I64+dp_dy*(1+EXP(-(ABS(E64)-displ)/9*sharpness))^(-alpha)/(H64*rho))/H64*SIN(H64*time_step*3600)-J64/H64*COS(H64*time_step*3600)-dp_dy*(1+EXP(-(ABS(E64)-displ)/9*sharpness))^(-alpha)*time_step*3600/(H64*rho)+J64/H64)/1000 -> 2.1972656e-06 | C65: =C64+((I64+dp_dy*(1+EXP(-(ABS(E64)-displ)/9*sharpness))^(-alpha)/(H64*rho))/H64*COS(H64*time_step*3600)+J64/H64*SIN(H64*time_step*3600)-(I64+dp_dy*(1+EXP(-(ABS(E64)-displ)/9*sharpness))^(-alpha)/(H64*rho))/H64)/1000 -> 0 | D65: =B65 -> 2.1972656e-06 | E65: =360*(init_km_from_eq+C65)/(2*PI()*6.37*10^3) -> 1e-06 | F65: =dp_dy*(1+EXP(-(ABS(E64)-displ)/9*sharpness))^(-alpha) -> -0.00027308946 | G65: =F65*10^5/100 -> -0.27308946 | H65: =2*7.292*10^(-5)*SIN(E65*PI()/180) -> 2.5453882e-12 | I65: =(I64+dp_dy*(1+EXP(-(ABS(E64)-displ)/9*sharpness))^(-alpha)/(H64*rho))*COS(H64*time_step*3600)+J64*SIN(H64*time_step*3600)-dp_dy*(1+EXP(-(ABS(E64)-displ)/9*sharpness))^(-alpha)/(H64*rho) -> 0 | J65: =-(I64+dp_dy*(1+EXP(-(ABS(E64)-displ)/9*sharpness))^(-alpha)/(H64*rho))*SIN(H64*time_step*3600)+J64*COS(H64*time_step*3600) -> 9.8312206
A66: =A65+time_step -> 4.0833333 | B66: =B65+((I65+dp_dy*(1+EXP(-(ABS(E65)-displ)/9*sharpness))^(-alpha)/(H65*rho))/H65*SIN(H65*time_step*3600)-J65/H65*COS(H65*time_step*3600)-dp_dy*(1+EXP(-(ABS(E65)-displ)/9*sharpness))^(-alpha)*time_step*3600/(H65*rho)+J65/H65)/1000 -> 2.1972656e-06 | C66: =C65+((I65+dp_dy*(1+EXP(-(ABS(E65)-displ)/9*sharpness))^(-alpha)/(H65*rho))/H65*COS(H65*time_step*3600)+J65/H65*SIN(H65*time_step*3600)-(I65+dp_dy*(1+EXP(-(ABS(E65)-displ)/9*sharpness))^(-alpha)/(H65*rho))/H65)/1000 -> 0 | D66: =B66 -> 2.1972656e-06 | E66: =360*(init_km_from_eq+C66)/(2*PI()*6.37*10^3) -> 1e-06 | F66: =dp_dy*(1+EXP(-(ABS(E65)-displ)/9*sharpness))^(-alpha) -> -0.00027308946 | G66: =F66*10^5/100 -> -0.27308946 | H66: =2*7.292*10^(-5)*SIN(E66*PI()/180) -> 2.5453882e-12 | I66: =(I65+dp_dy*(1+EXP(-(ABS(E65)-displ)/9*sharpness))^(-alpha)/(H65*rho))*COS(H65*time_step*3600)+J65*SIN(H65*time_step*3600)-dp_dy*(1+EXP(-(ABS(E65)-displ)/9*sharpness))^(-alpha)/(H65*rho) -> 0 | J66: =-(I65+dp_dy*(1+EXP(-(ABS(E65)-displ)/9*sharpness))^(-alpha)/(H65*rho))*SIN(H65*time_step*3600)+J65*COS(H65*time_step*3600) -> 10.036038 | V66: P-grad slope
A67: =A66+time_step -> 4.1666667 | B67: =B66+((I66+dp_dy*(1+EXP(-(ABS(E66)-displ)/9*sharpness))^(-alpha)/(H66*rho))/H66*SIN(H66*time_step*3600)-J66/H66*COS(H66*time_step*3600)-dp_dy*(1+EXP(-(ABS(E66)-displ)/9*sharpness))^(-alpha)*time_step*3600/(H66*rho)+J66/H66)/1000 -> 2.1972656e-06 | C67: =C66+((I66+dp_dy*(1+EXP(-(ABS(E66)-displ)/9*sharpness))^(-alpha)/(H66*rho))/H66*COS(H66*time_step*3600)+J66/H66*SIN(H66*time_step*3600)-(I66+dp_dy*(1+EXP(-(ABS(E66)-displ)/9*sharpness))^(-alpha)/(H66*rho))/H66)/1000 -> 0 | D67: =B67 -> 2.1972656e-06 | E67: =360*(init_km_from_eq+C67)/(2*PI()*6.37*10^3) -> 1e-06 | F67: =dp_dy*(1+EXP(-(ABS(E66)-displ)/9*sharpness))^(-alpha) -> -0.00027308946 | G67: =F67*10^5/100 -> -0.27308946 | H67: =2*7.292*10^(-5)*SIN(E67*PI()/180) -> 2.5453882e-12 | I67: =(I66+dp_dy*(1+EXP(-(ABS(E66)-displ)/9*sharpness))^(-alpha)/(H66*rho))*COS(H66*time_step*3600)+J66*SIN(H66*time_step*3600)-dp_dy*(1+EXP(-(ABS(E66)-displ)/9*sharpness))^(-alpha)/(H66*rho) -> 0 | J67: =-(I66+dp_dy*(1+EXP(-(ABS(E66)-displ)/9*sharpness))^(-alpha)/(H66*rho))*SIN(H66*time_step*3600)+J66*COS(H66*time_step*3600) -> 10.240855 | V67: displ | W67: alpha
A68: =A67+time_step -> 4.25 | B68: =B67+((I67+dp_dy*(1+EXP(-(ABS(E67)-displ)/9*sharpness))^(-alpha)/(H67*rho))/H67*SIN(H67*time_step*3600)-J67/H67*COS(H67*time_step*3600)-dp_dy*(1+EXP(-(ABS(E67)-displ)/9*sharpness))^(-alpha)*time_step*3600/(H67*rho)+J67/H67)/1000 -> 2.1972656e-06 | C68: =C67+((I67+dp_dy*(1+EXP(-(ABS(E67)-displ)/9*sharpness))^(-alpha)/(H67*rho))/H67*COS(H67*time_step*3600)+J67/H67*SIN(H67*time_step*3600)-(I67+dp_dy*(1+EXP(-(ABS(E67)-displ)/9*sharpness))^(-alpha)/(H67*rho))/H67)/1000 -> 0 | D68: =B68 -> 2.1972656e-06 | E68: =360*(init_km_from_eq+C68)/(2*PI()*6.37*10^3) -> 1e-06 | F68: =dp_dy*(1+EXP(-(ABS(E67)-displ)/9*sharpness))^(-alpha) -> -0.00027308946 | G68: =F68*10^5/100 -> -0.27308946 | H68: =2*7.292*10^(-5)*SIN(E68*PI()/180) -> 2.5453882e-12 | I68: =(I67+dp_dy*(1+EXP(-(ABS(E67)-displ)/9*sharpness))^(-alpha)/(H67*rho))*COS(H67*time_step*3600)+J67*SIN(H67*time_step*3600)-dp_dy*(1+EXP(-(ABS(E67)-displ)/9*sharpness))^(-alpha)/(H67*rho) -> 0 | J68: =-(I67+dp_dy*(1+EXP(-(ABS(E67)-displ)/9*sharpness))^(-alpha)/(H67*rho))*SIN(H67*time_step*3600)+J67*COS(H67*time_step*3600) -> 10.445672 | V68: 45 | W68: 1
A69: =A68+time_step -> 4.3333333 | B69: =B68+((I68+dp_dy*(1+EXP(-(ABS(E68)-displ)/9*sharpness))^(-alpha)/(H68*rho))/H68*SIN(H68*time_step*3600)-J68/H68*COS(H68*time_step*3600)-dp_dy*(1+EXP(-(ABS(E68)-displ)/9*sharpness))^(-alpha)*time_step*3600/(H68*rho)+J68/H68)/1000 -> 2.1972656e-06 | C69: =C68+((I68+dp_dy*(1+EXP(-(ABS(E68)-displ)/9*sharpness))^(-alpha)/(H68*rho))/H68*COS(H68*time_step*3600)+J68/H68*SIN(H68*time_step*3600)-(I68+dp_dy*(1+EXP(-(ABS(E68)-displ)/9*sharpness))^(-alpha)/(H68*rho))/H68)/1000 -> 0 | D69: =B69 -> 2.1972656e-06 | E69: =360*(init_km_from_eq+C69)/(2*PI()*6.37*10^3) -> 1e-06 | F69: =dp_dy*(1+EXP(-(ABS(E68)-displ)/9*sharpness))^(-alpha) -> -0.00027308946 | G69: =F69*10^5/100 -> -0.27308946 | H69: =2*7.292*10^(-5)*SIN(E69*PI()/180) -> 2.5453882e-12 | I69: =(I68+dp_dy*(1+EXP(-(ABS(E68)-displ)/9*sharpness))^(-alpha)/(H68*rho))*COS(H68*time_step*3600)+J68*SIN(H68*time_step*3600)-dp_dy*(1+EXP(-(ABS(E68)-displ)/9*sharpness))^(-alpha)/(H68*rho) -> 0 | J69: =-(I68+dp_dy*(1+EXP(-(ABS(E68)-displ)/9*sharpness))^(-alpha)/(H68*rho))*SIN(H68*time_step*3600)+J68*COS(H68*time_step*3600) -> 10.650489
A70: =A69+time_step -> 4.4166667 | B70: =B69+((I69+dp_dy*(1+EXP(-(ABS(E69)-displ)/9*sharpness))^(-alpha)/(H69*rho))/H69*SIN(H69*time_step*3600)-J69/H69*COS(H69*time_step*3600)-dp_dy*(1+EXP(-(ABS(E69)-displ)/9*sharpness))^(-alpha)*time_step*3600/(H69*rho)+J69/H69)/1000 -> 2.1972656e-06 | C70: =C69+((I69+dp_dy*(1+EXP(-(ABS(E69)-displ)/9*sharpness))^(-alpha)/(H69*rho))/H69*COS(H69*time_step*3600)+J69/H69*SIN(H69*time_step*3600)-(I69+dp_dy*(1+EXP(-(ABS(E69)-displ)/9*sharpness))^(-alpha)/(H69*rho))/H69)/1000 -> 0 | D70: =B70 -> 2.1972656e-06 | E70: =360*(init_km_from_eq+C70)/(2*PI()*6.37*10^3) -> 1e-06 | F70: =dp_dy*(1+EXP(-(ABS(E69)-displ)/9*sharpness))^(-alpha) -> -0.00027308946 | G70: =F70*10^5/100 -> -0.27308946 | H70: =2*7.292*10^(-5)*SIN(E70*PI()/180) -> 2.5453882e-12 | I70: =(I69+dp_dy*(1+EXP(-(ABS(E69)-displ)/9*sharpness))^(-alpha)/(H69*rho))*COS(H69*time_step*3600)+J69*SIN(H69*time_step*3600)-dp_dy*(1+EXP(-(ABS(E69)-displ)/9*sharpness))^(-alpha)/(H69*rho) -> 0 | J70: =-(I69+dp_dy*(1+EXP(-(ABS(E69)-displ)/9*sharpness))^(-alpha)/(H69*rho))*SIN(H69*time_step*3600)+J69*COS(H69*time_step*3600) -> 10.855306
A71: =A70+time_step -> 4.5 | B71: =B70+((I70+dp_dy*(1+EXP(-(ABS(E70)-displ)/9*sharpness))^(-alpha)/(H70*rho))/H70*SIN(H70*time_step*3600)-J70/H70*COS(H70*time_step*3600)-dp_dy*(1+EXP(-(ABS(E70)-displ)/9*sharpness))^(-alpha)*time_step*3600/(H70*rho)+J70/H70)/1000 -> 2.1972656e-06 | C71: =C70+((I70+dp_dy*(1+EXP(-(ABS(E70)-displ)/9*sharpness))^(-alpha)/(H70*rho))/H70*COS(H70*time_step*3600)+J70/H70*SIN(H70*time_step*3600)-(I70+dp_dy*(1+EXP(-(ABS(E70)-displ)/9*sharpness))^(-alpha)/(H70*rho))/H70)/1000 -> 0 | D71: =B71 -> 2.1972656e-06 | E71: =360*(init_km_from_eq+C71)/(2*PI()*6.37*10^3) -> 1e-06 | F71: =dp_dy*(1+EXP(-(ABS(E70)-displ)/9*sharpness))^(-alpha) -> -0.00027308946 | G71: =F71*10^5/100 -> -0.27308946 | H71: =2*7.292*10^(-5)*SIN(E71*PI()/180) -> 2.5453882e-12 | I71: =(I70+dp_dy*(1+EXP(-(ABS(E70)-displ)/9*sharpness))^(-alpha)/(H70*rho))*COS(H70*time_step*3600)+J70*SIN(H70*time_step*3600)-dp_dy*(1+EXP(-(ABS(E70)-displ)/9*sharpness))^(-alpha)/(H70*rho) -> 0 | J71: =-(I70+dp_dy*(1+EXP(-(ABS(E70)-displ)/9*sharpness))^(-alpha)/(H70*rho))*SIN(H70*time_step*3600)+J70*COS(H70*time_step*3600) -> 11.060123 | U71: latitude | V71: fraction of p gradient at pole | X71: hPa 100km-1
A72: =A71+time_step -> 4.5833333 | B72: =B71+((I71+dp_dy*(1+EXP(-(ABS(E71)-displ)/9*sharpness))^(-alpha)/(H71*rho))/H71*SIN(H71*time_step*3600)-J71/H71*COS(H71*time_step*3600)-dp_dy*(1+EXP(-(ABS(E71)-displ)/9*sharpness))^(-alpha)*time_step*3600/(H71*rho)+J71/H71)/1000 -> 2.6855469e-06 | C72: =C71+((I71+dp_dy*(1+EXP(-(ABS(E71)-displ)/9*sharpness))^(-alpha)/(H71*rho))/H71*COS(H71*time_step*3600)+J71/H71*SIN(H71*time_step*3600)-(I71+dp_dy*(1+EXP(-(ABS(E71)-displ)/9*sharpness))^(-alpha)/(H71*rho))/H71)/1000 -> 0 | D72: =B72 -> 2.6855469e-06 | E72: =360*(init_km_from_eq+C72)/(2*PI()*6.37*10^3) -> 1e-06 | F72: =dp_dy*(1+EXP(-(ABS(E71)-displ)/9*sharpness))^(-alpha) -> -0.00027308946 | G72: =F72*10^5/100 -> -0.27308946 | H72: =2*7.292*10^(-5)*SIN(E72*PI()/180) -> 2.5453882e-12 | I72: =(I71+dp_dy*(1+EXP(-(ABS(E71)-displ)/9*sharpness))^(-alpha)/(H71*rho))*COS(H71*time_step*3600)+J71*SIN(H71*time_step*3600)-dp_dy*(1+EXP(-(ABS(E71)-displ)/9*sharpness))^(-alpha)/(H71*rho) -> 0 | J72: =-(I71+dp_dy*(1+EXP(-(ABS(E71)-displ)/9*sharpness))^(-alpha)/(H71*rho))*SIN(H71*time_step*3600)+J71*COS(H71*time_step*3600) -> 11.26494 | U72: -45 | V72: =(1+EXP(-(U72-displ)/9*sharpness))^(-alpha) -> 0.0066928509 | X72: =V72*$D$4 -> -0.024094263
A73: =A72+time_step -> 4.6666667 | B73: =B72+((I72+dp_dy*(1+EXP(-(ABS(E72)-displ)/9*sharpness))^(-alpha)/(H72*rho))/H72*SIN(H72*time_step*3600)-J72/H72*COS(H72*time_step*3600)-dp_dy*(1+EXP(-(ABS(E72)-displ)/9*sharpness))^(-alpha)*time_step*3600/(H72*rho)+J72/H72)/1000 -> 2.6855469e-06 | C73: =C72+((I72+dp_dy*(1+EXP(-(ABS(E72)-displ)/9*sharpness))^(-alpha)/(H72*rho))/H72*COS(H72*time_step*3600)+J72/H72*SIN(H72*time_step*3600)-(I72+dp_dy*(1+EXP(-(ABS(E72)-displ)/9*sharpness))^(-alpha)/(H72*rho))/H72)/1000 -> 0 | D73: =B73 -> 2.6855469e-06 | E73: =360*(init_km_from_eq+C73)/(2*PI()*6.37*10^3) -> 1e-06 | F73: =dp_dy*(1+EXP(-(ABS(E72)-displ)/9*sharpness))^(-alpha) -> -0.00027308946 | G73: =F73*10^5/100 -> -0.27308946 | H73: =2*7.292*10^(-5)*SIN(E73*PI()/180) -> 2.5453882e-12 | I73: =(I72+dp_dy*(1+EXP(-(ABS(E72)-displ)/9*sharpness))^(-alpha)/(H72*rho))*COS(H72*time_step*3600)+J72*SIN(H72*time_step*3600)-dp_dy*(1+EXP(-(ABS(E72)-displ)/9*sharpness))^(-alpha)/(H72*rho) -> 0 | J73: =-(I72+dp_dy*(1+EXP(-(ABS(E72)-displ)/9*sharpness))^(-alpha)/(H72*rho))*SIN(H72*time_step*3600)+J72*COS(H72*time_step*3600) -> 11.469757 | U73: =U72+9 -> -36 | V73: =(1+EXP(-(U73-displ)/9*sharpness))^(-alpha) -> 0.010986943 | X73: =V73*$D$4 -> -0.039552993
A74: =A73+time_step -> 4.75 | B74: =B73+((I73+dp_dy*(1+EXP(-(ABS(E73)-displ)/9*sharpness))^(-alpha)/(H73*rho))/H73*SIN(H73*time_step*3600)-J73/H73*COS(H73*time_step*3600)-dp_dy*(1+EXP(-(ABS(E73)-displ)/9*sharpness))^(-alpha)*time_step*3600/(H73*rho)+J73/H73)/1000 -> 2.6855469e-06 | C74: =C73+((I73+dp_dy*(1+EXP(-(ABS(E73)-displ)/9*sharpness))^(-alpha)/(H73*rho))/H73*COS(H73*time_step*3600)+J73/H73*SIN(H73*time_step*3600)-(I73+dp_dy*(1+EXP(-(ABS(E73)-displ)/9*sharpness))^(-alpha)/(H73*rho))/H73)/1000 -> 0 | D74: =B74 -> 2.6855469e-06 | E74: =360*(init_km_from_eq+C74)/(2*PI()*6.37*10^3) -> 1e-06 | F74: =dp_dy*(1+EXP(-(ABS(E73)-displ)/9*sharpness))^(-alpha) -> -0.00027308946 | G74: =F74*10^5/100 -> -0.27308946 | H74: =2*7.292*10^(-5)*SIN(E74*PI()/180) -> 2.5453882e-12 | I74: =(I73+dp_dy*(1+EXP(-(ABS(E73)-displ)/9*sharpness))^(-alpha)/(H73*rho))*COS(H73*time_step*3600)+J73*SIN(H73*time_step*3600)-dp_dy*(1+EXP(-(ABS(E73)-displ)/9*sharpness))^(-alpha)/(H73*rho) -> 0 | J74: =-(I73+dp_dy*(1+EXP(-(ABS(E73)-displ)/9*sharpness))^(-alpha)/(H73*rho))*SIN(H73*time_step*3600)+J73*COS(H73*time_step*3600) -> 11.674575 | L74: Southern Hemisphere | U74: =U73+9 -> -27 | V74: =(1+EXP(-(U74-displ)/9*sharpness))^(-alpha) -> 0.01798621 | X74: =V74*$D$4 -> -0.064750356
A75: =A74+time_step -> 4.8333333 | B75: =B74+((I74+dp_dy*(1+EXP(-(ABS(E74)-displ)/9*sharpness))^(-alpha)/(H74*rho))/H74*SIN(H74*time_step*3600)-J74/H74*COS(H74*time_step*3600)-dp_dy*(1+EXP(-(ABS(E74)-displ)/9*sharpness))^(-alpha)*time_step*3600/(H74*rho)+J74/H74)/1000 -> 2.6855469e-06 | C75: =C74+((I74+dp_dy*(1+EXP(-(ABS(E74)-displ)/9*sharpness))^(-alpha)/(H74*rho))/H74*COS(H74*time_step*3600)+J74/H74*SIN(H74*time_step*3600)-(I74+dp_dy*(1+EXP(-(ABS(E74)-displ)/9*sharpness))^(-alpha)/(H74*rho))/H74)/1000 -> 0 | D75: =B75 -> 2.6855469e-06 | E75: =360*(init_km_from_eq+C75)/(2*PI()*6.37*10^3) -> 1e-06 | F75: =dp_dy*(1+EXP(-(ABS(E74)-displ)/9*sharpness))^(-alpha) -> -0.00027308946 | G75: =F75*10^5/100 -> -0.27308946 | H75: =2*7.292*10^(-5)*SIN(E75*PI()/180) -> 2.5453882e-12 | I75: =(I74+dp_dy*(1+EXP(-(ABS(E74)-displ)/9*sharpness))^(-alpha)/(H74*rho))*COS(H74*time_step*3600)+J74*SIN(H74*time_step*3600)-dp_dy*(1+EXP(-(ABS(E74)-displ)/9*sharpness))^(-alpha)/(H74*rho) -> 0 | J75: =-(I74+dp_dy*(1+EXP(-(ABS(E74)-displ)/9*sharpness))^(-alpha)/(H74*rho))*SIN(H74*time_step*3600)+J74*COS(H74*time_step*3600) -> 11.879392 | L75: Typical climatology of NS pressure gradient at 250hPa | Q75: Δ z | S75: ∂p/∂n | U75: =U74+9 -> -18 | V75: =(1+EXP(-(U75-displ)/9*sharpness))^(-alpha) -> 0.029312231 | X75: =V75*$D$4 -> -0.10552403
A76: =A75+time_step -> 4.9166667 | B76: =B75+((I75+dp_dy*(1+EXP(-(ABS(E75)-displ)/9*sharpness))^(-alpha)/(H75*rho))/H75*SIN(H75*time_step*3600)-J75/H75*COS(H75*time_step*3600)-dp_dy*(1+EXP(-(ABS(E75)-displ)/9*sharpness))^(-alpha)*time_step*3600/(H75*rho)+J75/H75)/1000 -> 2.6855469e-06 | C76: =C75+((I75+dp_dy*(1+EXP(-(ABS(E75)-displ)/9*sharpness))^(-alpha)/(H75*rho))/H75*COS(H75*time_step*3600)+J75/H75*SIN(H75*time_step*3600)-(I75+dp_dy*(1+EXP(-(ABS(E75)-displ)/9*sharpness))^(-alpha)/(H75*rho))/H75)/1000 -> 0 | D76: =B76 -> 2.6855469e-06 | E76: =360*(init_km_from_eq+C76)/(2*PI()*6.37*10^3) -> 1e-06 | F76: =dp_dy*(1+EXP(-(ABS(E75)-displ)/9*sharpness))^(-alpha) -> -0.00027308946 | G76: =F76*10^5/100 -> -0.27308946 | H76: =2*7.292*10^(-5)*SIN(E76*PI()/180) -> 2.5453882e-12 | I76: =(I75+dp_dy*(1+EXP(-(ABS(E75)-displ)/9*sharpness))^(-alpha)/(H75*rho))*COS(H75*time_step*3600)+J75*SIN(H75*time_step*3600)-dp_dy*(1+EXP(-(ABS(E75)-displ)/9*sharpness))^(-alpha)/(H75*rho) -> 0 | J76: =-(I75+dp_dy*(1+EXP(-(ABS(E75)-displ)/9*sharpness))^(-alpha)/(H75*rho))*SIN(H75*time_step*3600)+J75*COS(H75*time_step*3600) -> 12.084209 | S76: hPa 100km-1 | U76: =U75+9 -> -9 | V76: =(1+EXP(-(U76-displ)/9*sharpness))^(-alpha) -> 0.047425873 | X76: =V76*$D$4 -> -0.17073314
A77: =A76+time_step -> 5 | B77: =B76+((I76+dp_dy*(1+EXP(-(ABS(E76)-displ)/9*sharpness))^(-alpha)/(H76*rho))/H76*SIN(H76*time_step*3600)-J76/H76*COS(H76*time_step*3600)-dp_dy*(1+EXP(-(ABS(E76)-displ)/9*sharpness))^(-alpha)*time_step*3600/(H76*rho)+J76/H76)/1000 -> 2.6855469e-06 | C77: =C76+((I76+dp_dy*(1+EXP(-(ABS(E76)-displ)/9*sharpness))^(-alpha)/(H76*rho))/H76*COS(H76*time_step*3600)+J76/H76*SIN(H76*time_step*3600)-(I76+dp_dy*(1+EXP(-(ABS(E76)-displ)/9*sharpness))^(-alpha)/(H76*rho))/H76)/1000 -> 0 | D77: =B77 -> 2.6855469e-06 | E77: =360*(init_km_from_eq+C77)/(2*PI()*6.37*10^3) -> 1e-06 | F77: =dp_dy*(1+EXP(-(ABS(E76)-displ)/9*sharpness))^(-alpha) -> -0.00027308946 | G77: =F77*10^5/100 -> -0.27308946 | H77: =2*7.292*10^(-5)*SIN(E77*PI()/180) -> 2.5453882e-12 | I77: =(I76+dp_dy*(1+EXP(-(ABS(E76)-displ)/9*sharpness))^(-alpha)/(H76*rho))*COS(H76*time_step*3600)+J76*SIN(H76*time_step*3600)-dp_dy*(1+EXP(-(ABS(E76)-displ)/9*sharpness))^(-alpha)/(H76*rho) -> 0 | J77: =-(I76+dp_dy*(1+EXP(-(ABS(E76)-displ)/9*sharpness))^(-alpha)/(H76*rho))*SIN(H76*time_step*3600)+J76*COS(H76*time_step*3600) -> 12.289026 | L77: 250 height at latitude 0 (equator): | O77: 10970 | P77: m | U77: =U76+9 -> 0 | V77: =(1+EXP(-(U77-displ)/9*sharpness))^(-alpha) -> 0.07585818 | X77: =V77*$D$4 -> -0.27308945
A78: =A77+time_step -> 5.0833333 | B78: =B77+((I77+dp_dy*(1+EXP(-(ABS(E77)-displ)/9*sharpness))^(-alpha)/(H77*rho))/H77*SIN(H77*time_step*3600)-J77/H77*COS(H77*time_step*3600)-dp_dy*(1+EXP(-(ABS(E77)-displ)/9*sharpness))^(-alpha)*time_step*3600/(H77*rho)+J77/H77)/1000 -> 2.6855469e-06 | C78: =C77+((I77+dp_dy*(1+EXP(-(ABS(E77)-displ)/9*sharpness))^(-alpha)/(H77*rho))/H77*COS(H77*time_step*3600)+J77/H77*SIN(H77*time_step*3600)-(I77+dp_dy*(1+EXP(-(ABS(E77)-displ)/9*sharpness))^(-alpha)/(H77*rho))/H77)/1000 -> 0 | D78: =B78 -> 2.6855469e-06 | E78: =360*(init_km_from_eq+C78)/(2*PI()*6.37*10^3) -> 1e-06 | F78: =dp_dy*(1+EXP(-(ABS(E77)-displ)/9*sharpness))^(-alpha) -> -0.00027308946 | G78: =F78*10^5/100 -> -0.27308946 | H78: =2*7.292*10^(-5)*SIN(E78*PI()/180) -> 2.5453882e-12 | I78: =(I77+dp_dy*(1+EXP(-(ABS(E77)-displ)/9*sharpness))^(-alpha)/(H77*rho))*COS(H77*time_step*3600)+J77*SIN(H77*time_step*3600)-dp_dy*(1+EXP(-(ABS(E77)-displ)/9*sharpness))^(-alpha)/(H77*rho) -> 0 | J78: =-(I77+dp_dy*(1+EXP(-(ABS(E77)-displ)/9*sharpness))^(-alpha)/(H77*rho))*SIN(H77*time_step*3600)+J77*COS(H77*time_step*3600) -> 12.493843 | Q78: =O77-O79 -> 30 | R78: m | S78: 0.22 | U78: =U77+9 -> 9 | V78: =(1+EXP(-(U78-displ)/9*sharpness))^(-alpha) -> 0.11920292 | X78: =V78*$D$4 -> -0.42913052
A79: =A78+time_step -> 5.1666667 | B79: =B78+((I78+dp_dy*(1+EXP(-(ABS(E78)-displ)/9*sharpness))^(-alpha)/(H78*rho))/H78*SIN(H78*time_step*3600)-J78/H78*COS(H78*time_step*3600)-dp_dy*(1+EXP(-(ABS(E78)-displ)/9*sharpness))^(-alpha)*time_step*3600/(H78*rho)+J78/H78)/1000 -> 2.6855469e-06 | C79: =C78+((I78+dp_dy*(1+EXP(-(ABS(E78)-displ)/9*sharpness))^(-alpha)/(H78*rho))/H78*COS(H78*time_step*3600)+J78/H78*SIN(H78*time_step*3600)-(I78+dp_dy*(1+EXP(-(ABS(E78)-displ)/9*sharpness))^(-alpha)/(H78*rho))/H78)/1000 -> 0 | D79: =B79 -> 2.6855469e-06 | E79: =360*(init_km_from_eq+C79)/(2*PI()*6.37*10^3) -> 1e-06 | F79: =dp_dy*(1+EXP(-(ABS(E78)-displ)/9*sharpness))^(-alpha) -> -0.00027308946 | G79: =F79*10^5/100 -> -0.27308946 | H79: =2*7.292*10^(-5)*SIN(E79*PI()/180) -> 2.5453882e-12 | I79: =(I78+dp_dy*(1+EXP(-(ABS(E78)-displ)/9*sharpness))^(-alpha)/(H78*rho))*COS(H78*time_step*3600)+J78*SIN(H78*time_step*3600)-dp_dy*(1+EXP(-(ABS(E78)-displ)/9*sharpness))^(-alpha)/(H78*rho) -> 0 | J79: =-(I78+dp_dy*(1+EXP(-(ABS(E78)-displ)/9*sharpness))^(-alpha)/(H78*rho))*SIN(H78*time_step*3600)+J78*COS(H78*time_step*3600) -> 12.69866 | L79: =1668 -> 1668 | M79: km from eq | N79: 15 S | O79: 10940 | P79: m | U79: =U78+9 -> 18 | V79: =(1+EXP(-(U79-displ)/9*sharpness))^(-alpha) -> 0.18242552 | X79: =V79*$D$4 -> -0.65673189
A80: =A79+time_step -> 5.25 | B80: =B79+((I79+dp_dy*(1+EXP(-(ABS(E79)-displ)/9*sharpness))^(-alpha)/(H79*rho))/H79*SIN(H79*time_step*3600)-J79/H79*COS(H79*time_step*3600)-dp_dy*(1+EXP(-(ABS(E79)-displ)/9*sharpness))^(-alpha)*time_step*3600/(H79*rho)+J79/H79)/1000 -> 2.6855469e-06 | C80: =C79+((I79+dp_dy*(1+EXP(-(ABS(E79)-displ)/9*sharpness))^(-alpha)/(H79*rho))/H79*COS(H79*time_step*3600)+J79/H79*SIN(H79*time_step*3600)-(I79+dp_dy*(1+EXP(-(ABS(E79)-displ)/9*sharpness))^(-alpha)/(H79*rho))/H79)/1000 -> 0 | D80: =B80 -> 2.6855469e-06 | E80: =360*(init_km_from_eq+C80)/(2*PI()*6.37*10^3) -> 1e-06 | F80: =dp_dy*(1+EXP(-(ABS(E79)-displ)/9*sharpness))^(-alpha) -> -0.00027308946 | G80: =F80*10^5/100 -> -0.27308946 | H80: =2*7.292*10^(-5)*SIN(E80*PI()/180) -> 2.5453882e-12 | I80: =(I79+dp_dy*(1+EXP(-(ABS(E79)-displ)/9*sharpness))^(-alpha)/(H79*rho))*COS(H79*time_step*3600)+J79*SIN(H79*time_step*3600)-dp_dy*(1+EXP(-(ABS(E79)-displ)/9*sharpness))^(-alpha)/(H79*rho) -> 0 | J80: =-(I79+dp_dy*(1+EXP(-(ABS(E79)-displ)/9*sharpness))^(-alpha)/(H79*rho))*SIN(H79*time_step*3600)+J79*COS(H79*time_step*3600) -> 12.903477 | Q80: =O79-O81 -> 410 | R80: m | S80: 2.95 | U80: =U79+9 -> 27 | V80: =(1+EXP(-(U80-displ)/9*sharpness))^(-alpha) -> 0.26894142 | X80: =V80*$D$4 -> -0.96818912
A81: =A80+time_step -> 5.3333333 | B81: =B80+((I80+dp_dy*(1+EXP(-(ABS(E80)-displ)/9*sharpness))^(-alpha)/(H80*rho))/H80*SIN(H80*time_step*3600)-J80/H80*COS(H80*time_step*3600)-dp_dy*(1+EXP(-(ABS(E80)-displ)/9*sharpness))^(-alpha)*time_step*3600/(H80*rho)+J80/H80)/1000 -> 2.6855469e-06 | C81: =C80+((I80+dp_dy*(1+EXP(-(ABS(E80)-displ)/9*sharpness))^(-alpha)/(H80*rho))/H80*COS(H80*time_step*3600)+J80/H80*SIN(H80*time_step*3600)-(I80+dp_dy*(1+EXP(-(ABS(E80)-displ)/9*sharpness))^(-alpha)/(H80*rho))/H80)/1000 -> 0 | D81: =B81 -> 2.6855469e-06 | E81: =360*(init_km_from_eq+C81)/(2*PI()*6.37*10^3) -> 1e-06 | F81: =dp_dy*(1+EXP(-(ABS(E80)-displ)/9*sharpness))^(-alpha) -> -0.00027308946 | G81: =F81*10^5/100 -> -0.27308946 | H81: =2*7.292*10^(-5)*SIN(E81*PI()/180) -> 2.5453882e-12 | I81: =(I80+dp_dy*(1+EXP(-(ABS(E80)-displ)/9*sharpness))^(-alpha)/(H80*rho))*COS(H80*time_step*3600)+J80*SIN(H80*time_step*3600)-dp_dy*(1+EXP(-(ABS(E80)-displ)/9*sharpness))^(-alpha)/(H80*rho) -> 0 | J81: =-(I80+dp_dy*(1+EXP(-(ABS(E80)-displ)/9*sharpness))^(-alpha)/(H80*rho))*SIN(H80*time_step*3600)+J80*COS(H80*time_step*3600) -> 13.108294 | L81: =1668+L79 -> 3336 | M81: km from eq | N81: 30 S | O81: 10530 | P81: m | U81: =U80+9 -> 36 | V81: =(1+EXP(-(U81-displ)/9*sharpness))^(-alpha) -> 0.37754067 | X81: =V81*$D$4 -> -1.3591464
A82: =A81+time_step -> 5.4166667 | B82: =B81+((I81+dp_dy*(1+EXP(-(ABS(E81)-displ)/9*sharpness))^(-alpha)/(H81*rho))/H81*SIN(H81*time_step*3600)-J81/H81*COS(H81*time_step*3600)-dp_dy*(1+EXP(-(ABS(E81)-displ)/9*sharpness))^(-alpha)*time_step*3600/(H81*rho)+J81/H81)/1000 -> 2.6855469e-06 | C82: =C81+((I81+dp_dy*(1+EXP(-(ABS(E81)-displ)/9*sharpness))^(-alpha)/(H81*rho))/H81*COS(H81*time_step*3600)+J81/H81*SIN(H81*time_step*3600)-(I81+dp_dy*(1+EXP(-(ABS(E81)-displ)/9*sharpness))^(-alpha)/(H81*rho))/H81)/1000 -> 0 | D82: =B82 -> 2.6855469e-06 | E82: =360*(init_km_from_eq+C82)/(2*PI()*6.37*10^3) -> 1e-06 | F82: =dp_dy*(1+EXP(-(ABS(E81)-displ)/9*sharpness))^(-alpha) -> -0.00027308946 | G82: =F82*10^5/100 -> -0.27308946 | H82: =2*7.292*10^(-5)*SIN(E82*PI()/180) -> 2.5453882e-12 | I82: =(I81+dp_dy*(1+EXP(-(ABS(E81)-displ)/9*sharpness))^(-alpha)/(H81*rho))*COS(H81*time_step*3600)+J81*SIN(H81*time_step*3600)-dp_dy*(1+EXP(-(ABS(E81)-displ)/9*sharpness))^(-alpha)/(H81*rho) -> 0 | J82: =-(I81+dp_dy*(1+EXP(-(ABS(E81)-displ)/9*sharpness))^(-alpha)/(H81*rho))*SIN(H81*time_step*3600)+J81*COS(H81*time_step*3600) -> 13.313111 | Q82: =O81-O83 -> 430 | R82: m | S82: 3.1 | U82: =U81+9 -> 45 | V82: =(1+EXP(-(U82-displ)/9*sharpness))^(-alpha) -> 0.5 | X82: =V82*$D$4 -> -1.8
A83: =A82+time_step -> 5.5 | B83: =B82+((I82+dp_dy*(1+EXP(-(ABS(E82)-displ)/9*sharpness))^(-alpha)/(H82*rho))/H82*SIN(H82*time_step*3600)-J82/H82*COS(H82*time_step*3600)-dp_dy*(1+EXP(-(ABS(E82)-displ)/9*sharpness))^(-alpha)*time_step*3600/(H82*rho)+J82/H82)/1000 -> 2.6855469e-06 | C83: =C82+((I82+dp_dy*(1+EXP(-(ABS(E82)-displ)/9*sharpness))^(-alpha)/(H82*rho))/H82*COS(H82*time_step*3600)+J82/H82*SIN(H82*time_step*3600)-(I82+dp_dy*(1+EXP(-(ABS(E82)-displ)/9*sharpness))^(-alpha)/(H82*rho))/H82)/1000 -> 0 | D83: =B83 -> 2.6855469e-06 | E83: =360*(init_km_from_eq+C83)/(2*PI()*6.37*10^3) -> 1e-06 | F83: =dp_dy*(1+EXP(-(ABS(E82)-displ)/9*sharpness))^(-alpha) -> -0.00027308946 | G83: =F83*10^5/100 -> -0.27308946 | H83: =2*7.292*10^(-5)*SIN(E83*PI()/180) -> 2.5453882e-12 | I83: =(I82+dp_dy*(1+EXP(-(ABS(E82)-displ)/9*sharpness))^(-alpha)/(H82*rho))*COS(H82*time_step*3600)+J82*SIN(H82*time_step*3600)-dp_dy*(1+EXP(-(ABS(E82)-displ)/9*sharpness))^(-alpha)/(H82*rho) -> 0 | J83: =-(I82+dp_dy*(1+EXP(-(ABS(E82)-displ)/9*sharpness))^(-alpha)/(H82*rho))*SIN(H82*time_step*3600)+J82*COS(H82*time_step*3600) -> 13.517928 | L83: =1668+L81 -> 5004 | M83: km from eq | N83: 45 S | O83: 10100 | P83: m | U83: =U82+9 -> 54 | V83: =(1+EXP(-(U83-displ)/9*sharpness))^(-alpha) -> 0.62245933 | X83: =V83*$D$4 -> -2.2408536
A84: =A83+time_step -> 5.5833333 | B84: =B83+((I83+dp_dy*(1+EXP(-(ABS(E83)-displ)/9*sharpness))^(-alpha)/(H83*rho))/H83*SIN(H83*time_step*3600)-J83/H83*COS(H83*time_step*3600)-dp_dy*(1+EXP(-(ABS(E83)-displ)/9*sharpness))^(-alpha)*time_step*3600/(H83*rho)+J83/H83)/1000 -> 2.6855469e-06 | C84: =C83+((I83+dp_dy*(1+EXP(-(ABS(E83)-displ)/9*sharpness))^(-alpha)/(H83*rho))/H83*COS(H83*time_step*3600)+J83/H83*SIN(H83*time_step*3600)-(I83+dp_dy*(1+EXP(-(ABS(E83)-displ)/9*sharpness))^(-alpha)/(H83*rho))/H83)/1000 -> 0 | D84: =B84 -> 2.6855469e-06 | E84: =360*(init_km_from_eq+C84)/(2*PI()*6.37*10^3) -> 1e-06 | F84: =dp_dy*(1+EXP(-(ABS(E83)-displ)/9*sharpness))^(-alpha) -> -0.00027308946 | G84: =F84*10^5/100 -> -0.27308946 | H84: =2*7.292*10^(-5)*SIN(E84*PI()/180) -> 2.5453882e-12 | I84: =(I83+dp_dy*(1+EXP(-(ABS(E83)-displ)/9*sharpness))^(-alpha)/(H83*rho))*COS(H83*time_step*3600)+J83*SIN(H83*time_step*3600)-dp_dy*(1+EXP(-(ABS(E83)-displ)/9*sharpness))^(-alpha)/(H83*rho) -> 0 | J84: =-(I83+dp_dy*(1+EXP(-(ABS(E83)-displ)/9*sharpness))^(-alpha)/(H83*rho))*SIN(H83*time_step*3600)+J83*COS(H83*time_step*3600) -> 13.722745 | Q84: =O83-O85 -> 500 | R84: m | S84: 3.6 | U84: =U83+9 -> 63 | V84: =(1+EXP(-(U84-displ)/9*sharpness))^(-alpha) -> 0.73105858 | X84: =V84*$D$4 -> -2.6318109
A85: =A84+time_step -> 5.6666667 | B85: =B84+((I84+dp_dy*(1+EXP(-(ABS(E84)-displ)/9*sharpness))^(-alpha)/(H84*rho))/H84*SIN(H84*time_step*3600)-J84/H84*COS(H84*time_step*3600)-dp_dy*(1+EXP(-(ABS(E84)-displ)/9*sharpness))^(-alpha)*time_step*3600/(H84*rho)+J84/H84)/1000 -> 2.6855469e-06 | C85: =C84+((I84+dp_dy*(1+EXP(-(ABS(E84)-displ)/9*sharpness))^(-alpha)/(H84*rho))/H84*COS(H84*time_step*3600)+J84/H84*SIN(H84*time_step*3600)-(I84+dp_dy*(1+EXP(-(ABS(E84)-displ)/9*sharpness))^(-alpha)/(H84*rho))/H84)/1000 -> 0 | D85: =B85 -> 2.6855469e-06 | E85: =360*(init_km_from_eq+C85)/(2*PI()*6.37*10^3) -> 1e-06 | F85: =dp_dy*(1+EXP(-(ABS(E84)-displ)/9*sharpness))^(-alpha) -> -0.00027308946 | G85: =F85*10^5/100 -> -0.27308946 | H85: =2*7.292*10^(-5)*SIN(E85*PI()/180) -> 2.5453882e-12 | I85: =(I84+dp_dy*(1+EXP(-(ABS(E84)-displ)/9*sharpness))^(-alpha)/(H84*rho))*COS(H84*time_step*3600)+J84*SIN(H84*time_step*3600)-dp_dy*(1+EXP(-(ABS(E84)-displ)/9*sharpness))^(-alpha)/(H84*rho) -> 0 | J85: =-(I84+dp_dy*(1+EXP(-(ABS(E84)-displ)/9*sharpness))^(-alpha)/(H84*rho))*SIN(H84*time_step*3600)+J84*COS(H84*time_step*3600) -> 13.927563 | L85: =1668+L83 -> 6672 | M85: km from eq | N85: 60 S | O85: 9600 | P85: m | U85: =U84+9 -> 72 | V85: =(1+EXP(-(U85-displ)/9*sharpness))^(-alpha) -> 0.81757448 | X85: =V85*$D$4 -> -2.9432681
A86: =A85+time_step -> 5.75 | B86: =B85+((I85+dp_dy*(1+EXP(-(ABS(E85)-displ)/9*sharpness))^(-alpha)/(H85*rho))/H85*SIN(H85*time_step*3600)-J85/H85*COS(H85*time_step*3600)-dp_dy*(1+EXP(-(ABS(E85)-displ)/9*sharpness))^(-alpha)*time_step*3600/(H85*rho)+J85/H85)/1000 -> 2.6855469e-06 | C86: =C85+((I85+dp_dy*(1+EXP(-(ABS(E85)-displ)/9*sharpness))^(-alpha)/(H85*rho))/H85*COS(H85*time_step*3600)+J85/H85*SIN(H85*time_step*3600)-(I85+dp_dy*(1+EXP(-(ABS(E85)-displ)/9*sharpness))^(-alpha)/(H85*rho))/H85)/1000 -> 0 | D86: =B86 -> 2.6855469e-06 | E86: =360*(init_km_from_eq+C86)/(2*PI()*6.37*10^3) -> 1e-06 | F86: =dp_dy*(1+EXP(-(ABS(E85)-displ)/9*sharpness))^(-alpha) -> -0.00027308946 | G86: =F86*10^5/100 -> -0.27308946 | H86: =2*7.292*10^(-5)*SIN(E86*PI()/180) -> 2.5453882e-12 | I86: =(I85+dp_dy*(1+EXP(-(ABS(E85)-displ)/9*sharpness))^(-alpha)/(H85*rho))*COS(H85*time_step*3600)+J85*SIN(H85*time_step*3600)-dp_dy*(1+EXP(-(ABS(E85)-displ)/9*sharpness))^(-alpha)/(H85*rho) -> 0 | J86: =-(I85+dp_dy*(1+EXP(-(ABS(E85)-displ)/9*sharpness))^(-alpha)/(H85*rho))*SIN(H85*time_step*3600)+J85*COS(H85*time_step*3600) -> 14.13238 | U86: =U85+9 -> 81 | V86: =(1+EXP(-(U86-displ)/9*sharpness))^(-alpha) -> 0.88079708 | X86: =V86*$D$4 -> -3.1708695
A87: =A86+time_step -> 5.8333333 | B87: =B86+((I86+dp_dy*(1+EXP(-(ABS(E86)-displ)/9*sharpness))^(-alpha)/(H86*rho))/H86*SIN(H86*time_step*3600)-J86/H86*COS(H86*time_step*3600)-dp_dy*(1+EXP(-(ABS(E86)-displ)/9*sharpness))^(-alpha)*time_step*3600/(H86*rho)+J86/H86)/1000 -> 2.6855469e-06 | C87: =C86+((I86+dp_dy*(1+EXP(-(ABS(E86)-displ)/9*sharpness))^(-alpha)/(H86*rho))/H86*COS(H86*time_step*3600)+J86/H86*SIN(H86*time_step*3600)-(I86+dp_dy*(1+EXP(-(ABS(E86)-displ)/9*sharpness))^(-alpha)/(H86*rho))/H86)/1000 -> 0 | D87: =B87 -> 2.6855469e-06 | E87: =360*(init_km_from_eq+C87)/(2*PI()*6.37*10^3) -> 1e-06 | F87: =dp_dy*(1+EXP(-(ABS(E86)-displ)/9*sharpness))^(-alpha) -> -0.00027308946 | G87: =F87*10^5/100 -> -0.27308946 | H87: =2*7.292*10^(-5)*SIN(E87*PI()/180) -> 2.5453882e-12 | I87: =(I86+dp_dy*(1+EXP(-(ABS(E86)-displ)/9*sharpness))^(-alpha)/(H86*rho))*COS(H86*time_step*3600)+J86*SIN(H86*time_step*3600)-dp_dy*(1+EXP(-(ABS(E86)-displ)/9*sharpness))^(-alpha)/(H86*rho) -> 0 | J87: =-(I86+dp_dy*(1+EXP(-(ABS(E86)-displ)/9*sharpness))^(-alpha)/(H86*rho))*SIN(H86*time_step*3600)+J86*COS(H86*time_step*3600) -> 14.337197 | U87: =U86+9 -> 90 | V87: =(1+EXP(-(U87-displ)/9*sharpness))^(-alpha) -> 0.92414182 | X87: =V87*$D$4 -> -3.3269106
A88: =A87+time_step -> 5.9166667 | B88: =B87+((I87+dp_dy*(1+EXP(-(ABS(E87)-displ)/9*sharpness))^(-alpha)/(H87*rho))/H87*SIN(H87*time_step*3600)-J87/H87*COS(H87*time_step*3600)-dp_dy*(1+EXP(-(ABS(E87)-displ)/9*sharpness))^(-alpha)*time_step*3600/(H87*rho)+J87/H87)/1000 -> 2.6855469e-06 | C88: =C87+((I87+dp_dy*(1+EXP(-(ABS(E87)-displ)/9*sharpness))^(-alpha)/(H87*rho))/H87*COS(H87*time_step*3600)+J87/H87*SIN(H87*time_step*3600)-(I87+dp_dy*(1+EXP(-(ABS(E87)-displ)/9*sharpness))^(-alpha)/(H87*rho))/H87)/1000 -> 0 | D88: =B88 -> 2.6855469e-06 | E88: =360*(init_km_from_eq+C88)/(2*PI()*6.37*10^3) -> 1e-06 | F88: =dp_dy*(1+EXP(-(ABS(E87)-displ)/9*sharpness))^(-alpha) -> -0.00027308946 | G88: =F88*10^5/100 -> -0.27308946 | H88: =2*7.292*10^(-5)*SIN(E88*PI()/180) -> 2.5453882e-12 | I88: =(I87+dp_dy*(1+EXP(-(ABS(E87)-displ)/9*sharpness))^(-alpha)/(H87*rho))*COS(H87*time_step*3600)+J87*SIN(H87*time_step*3600)-dp_dy*(1+EXP(-(ABS(E87)-displ)/9*sharpness))^(-alpha)/(H87*rho) -> 0 | J88: =-(I87+dp_dy*(1+EXP(-(ABS(E87)-displ)/9*sharpness))^(-alpha)/(H87*rho))*SIN(H87*time_step*3600)+J87*COS(H87*time_step*3600) -> 14.542014
A89: =A88+time_step -> 6 | B89: =B88+((I88+dp_dy*(1+EXP(-(ABS(E88)-displ)/9*sharpness))^(-alpha)/(H88*rho))/H88*SIN(H88*time_step*3600)-J88/H88*COS(H88*time_step*3600)-dp_dy*(1+EXP(-(ABS(E88)-displ)/9*sharpness))^(-alpha)*time_step*3600/(H88*rho)+J88/H88)/1000 -> 2.6855469e-06 | C89: =C88+((I88+dp_dy*(1+EXP(-(ABS(E88)-displ)/9*sharpness))^(-alpha)/(H88*rho))/H88*COS(H88*time_step*3600)+J88/H88*SIN(H88*time_step*3600)-(I88+dp_dy*(1+EXP(-(ABS(E88)-displ)/9*sharpness))^(-alpha)/(H88*rho))/H88)/1000 -> 0 | D89: =B89 -> 2.6855469e-06 | E89: =360*(init_km_from_eq+C89)/(2*PI()*6.37*10^3) -> 1e-06 | F89: =dp_dy*(1+EXP(-(ABS(E88)-displ)/9*sharpness))^(-alpha) -> -0.00027308946 | G89: =F89*10^5/100 -> -0.27308946 | H89: =2*7.292*10^(-5)*SIN(E89*PI()/180) -> 2.5453882e-12 | I89: =(I88+dp_dy*(1+EXP(-(ABS(E88)-displ)/9*sharpness))^(-alpha)/(H88*rho))*COS(H88*time_step*3600)+J88*SIN(H88*time_step*3600)-dp_dy*(1+EXP(-(ABS(E88)-displ)/9*sharpness))^(-alpha)/(H88*rho) -> 0 | J89: =-(I88+dp_dy*(1+EXP(-(ABS(E88)-displ)/9*sharpness))^(-alpha)/(H88*rho))*SIN(H88*time_step*3600)+J88*COS(H88*time_step*3600) -> 14.746831
A90: =A89+time_step -> 6.0833333 | B90: =B89+((I89+dp_dy*(1+EXP(-(ABS(E89)-displ)/9*sharpness))^(-alpha)/(H89*rho))/H89*SIN(H89*time_step*3600)-J89/H89*COS(H89*time_step*3600)-dp_dy*(1+EXP(-(ABS(E89)-displ)/9*sharpness))^(-alpha)*time_step*3600/(H89*rho)+J89/H89)/1000 -> 2.6855469e-06 | C90: =C89+((I89+dp_dy*(1+EXP(-(ABS(E89)-displ)/9*sharpness))^(-alpha)/(H89*rho))/H89*COS(H89*time_step*3600)+J89/H89*SIN(H89*time_step*3600)-(I89+dp_dy*(1+EXP(-(ABS(E89)-displ)/9*sharpness))^(-alpha)/(H89*rho))/H89)/1000 -> 0 | D90: =B90 -> 2.6855469e-06 | E90: =360*(init_km_from_eq+C90)/(2*PI()*6.37*10^3) -> 1e-06 | F90: =dp_dy*(1+EXP(-(ABS(E89)-displ)/9*sharpness))^(-alpha) -> -0.00027308946 | G90: =F90*10^5/100 -> -0.27308946 | H90: =2*7.292*10^(-5)*SIN(E90*PI()/180) -> 2.5453882e-12 | I90: =(I89+dp_dy*(1+EXP(-(ABS(E89)-displ)/9*sharpness))^(-alpha)/(H89*rho))*COS(H89*time_step*3600)+J89*SIN(H89*time_step*3600)-dp_dy*(1+EXP(-(ABS(E89)-displ)/9*sharpness))^(-alpha)/(H89*rho) -> 0 | J90: =-(I89+dp_dy*(1+EXP(-(ABS(E89)-displ)/9*sharpness))^(-alpha)/(H89*rho))*SIN(H89*time_step*3600)+J89*COS(H89*time_step*3600) -> 14.951648
A91: =A90+time_step -> 6.1666667 | B91: =B90+((I90+dp_dy*(1+EXP(-(ABS(E90)-displ)/9*sharpness))^(-alpha)/(H90*rho))/H90*SIN(H90*time_step*3600)-J90/H90*COS(H90*time_step*3600)-dp_dy*(1+EXP(-(ABS(E90)-displ)/9*sharpness))^(-alpha)*time_step*3600/(H90*rho)+J90/H90)/1000 -> 2.6855469e-06 | C91: =C90+((I90+dp_dy*(1+EXP(-(ABS(E90)-displ)/9*sharpness))^(-alpha)/(H90*rho))/H90*COS(H90*time_step*3600)+J90/H90*SIN(H90*time_step*3600)-(I90+dp_dy*(1+EXP(-(ABS(E90)-displ)/9*sharpness))^(-alpha)/(H90*rho))/H90)/1000 -> 0 | D91: =B91 -> 2.6855469e-06 | E91: =360*(init_km_from_eq+C91)/(2*PI()*6.37*10^3) -> 1e-06 | F91: =dp_dy*(1+EXP(-(ABS(E90)-displ)/9*sharpness))^(-alpha) -> -0.00027308946 | G91: =F91*10^5/100 -> -0.27308946 | H91: =2*7.292*10^(-5)*SIN(E91*PI()/180) -> 2.5453882e-12 | I91: =(I90+dp_dy*(1+EXP(-(ABS(E90)-displ)/9*sharpness))^(-alpha)/(H90*rho))*COS(H90*time_step*3600)+J90*SIN(H90*time_step*3600)-dp_dy*(1+EXP(-(ABS(E90)-displ)/9*sharpness))^(-alpha)/(H90*rho) -> 0 | J91: =-(I90+dp_dy*(1+EXP(-(ABS(E90)-displ)/9*sharpness))^(-alpha)/(H90*rho))*SIN(H90*time_step*3600)+J90*COS(H90*time_step*3600) -> 15.156465
A92: =A91+time_step -> 6.25 | B92: =B91+((I91+dp_dy*(1+EXP(-(ABS(E91)-displ)/9*sharpness))^(-alpha)/(H91*rho))/H91*SIN(H91*time_step*3600)-J91/H91*COS(H91*time_step*3600)-dp_dy*(1+EXP(-(ABS(E91)-displ)/9*sharpness))^(-alpha)*time_step*3600/(H91*rho)+J91/H91)/1000 -> 2.6855469e-06 | C92: =C91+((I91+dp_dy*(1+EXP(-(ABS(E91)-displ)/9*sharpness))^(-alpha)/(H91*rho))/H91*COS(H91*time_step*3600)+J91/H91*SIN(H91*time_step*3600)-(I91+dp_dy*(1+EXP(-(ABS(E91)-displ)/9*sharpness))^(-alpha)/(H91*rho))/H91)/1000 -> 0 | D92: =B92 -> 2.6855469e-06 | E92: =360*(init_km_from_eq+C92)/(2*PI()*6.37*10^3) -> 1e-06 | F92: =dp_dy*(1+EXP(-(ABS(E91)-displ)/9*sharpness))^(-alpha) -> -0.00027308946 | G92: =F92*10^5/100 -> -0.27308946 | H92: =2*7.292*10^(-5)*SIN(E92*PI()/180) -> 2.5453882e-12 | I92: =(I91+dp_dy*(1+EXP(-(ABS(E91)-displ)/9*sharpness))^(-alpha)/(H91*rho))*COS(H91*time_step*3600)+J91*SIN(H91*time_step*3600)-dp_dy*(1+EXP(-(ABS(E91)-displ)/9*sharpness))^(-alpha)/(H91*rho) -> 0 | J92: =-(I91+dp_dy*(1+EXP(-(ABS(E91)-displ)/9*sharpness))^(-alpha)/(H91*rho))*SIN(H91*time_step*3600)+J91*COS(H91*time_step*3600) -> 15.361282
A93: =A92+time_step -> 6.3333333 | B93: =B92+((I92+dp_dy*(1+EXP(-(ABS(E92)-displ)/9*sharpness))^(-alpha)/(H92*rho))/H92*SIN(H92*time_step*3600)-J92/H92*COS(H92*time_step*3600)-dp_dy*(1+EXP(-(ABS(E92)-displ)/9*sharpness))^(-alpha)*time_step*3600/(H92*rho)+J92/H92)/1000 -> 2.6855469e-06 | C93: =C92+((I92+dp_dy*(1+EXP(-(ABS(E92)-displ)/9*sharpness))^(-alpha)/(H92*rho))/H92*COS(H92*time_step*3600)+J92/H92*SIN(H92*time_step*3600)-(I92+dp_dy*(1+EXP(-(ABS(E92)-displ)/9*sharpness))^(-alpha)/(H92*rho))/H92)/1000 -> 0 | D93: =B93 -> 2.6855469e-06 | E93: =360*(init_km_from_eq+C93)/(2*PI()*6.37*10^3) -> 1e-06 | F93: =dp_dy*(1+EXP(-(ABS(E92)-displ)/9*sharpness))^(-alpha) -> -0.00027308946 | G93: =F93*10^5/100 -> -0.27308946 | H93: =2*7.292*10^(-5)*SIN(E93*PI()/180) -> 2.5453882e-12 | I93: =(I92+dp_dy*(1+EXP(-(ABS(E92)-displ)/9*sharpness))^(-alpha)/(H92*rho))*COS(H92*time_step*3600)+J92*SIN(H92*time_step*3600)-dp_dy*(1+EXP(-(ABS(E92)-displ)/9*sharpness))^(-alpha)/(H92*rho) -> 0 | J93: =-(I92+dp_dy*(1+EXP(-(ABS(E92)-displ)/9*sharpness))^(-alpha)/(H92*rho))*SIN(H92*time_step*3600)+J92*COS(H92*time_step*3600) -> 15.566099
A94: =A93+time_step -> 6.4166667 | B94: =B93+((I93+dp_dy*(1+EXP(-(ABS(E93)-displ)/9*sharpness))^(-alpha)/(H93*rho))/H93*SIN(H93*time_step*3600)-J93/H93*COS(H93*time_step*3600)-dp_dy*(1+EXP(-(ABS(E93)-displ)/9*sharpness))^(-alpha)*time_step*3600/(H93*rho)+J93/H93)/1000 -> 2.6855469e-06 | C94: =C93+((I93+dp_dy*(1+EXP(-(ABS(E93)-displ)/9*sharpness))^(-alpha)/(H93*rho))/H93*COS(H93*time_step*3600)+J93/H93*SIN(H93*time_step*3600)-(I93+dp_dy*(1+EXP(-(ABS(E93)-displ)/9*sharpness))^(-alpha)/(H93*rho))/H93)/1000 -> 0 | D94: =B94 -> 2.6855469e-06 | E94: =360*(init_km_from_eq+C94)/(2*PI()*6.37*10^3) -> 1e-06 | F94: =dp_dy*(1+EXP(-(ABS(E93)-displ)/9*sharpness))^(-alpha) -> -0.00027308946 | G94: =F94*10^5/100 -> -0.27308946 | H94: =2*7.292*10^(-5)*SIN(E94*PI()/180) -> 2.5453882e-12 | I94: =(I93+dp_dy*(1+EXP(-(ABS(E93)-displ)/9*sharpness))^(-alpha)/(H93*rho))*COS(H93*time_step*3600)+J93*SIN(H93*time_step*3600)-dp_dy*(1+EXP(-(ABS(E93)-displ)/9*sharpness))^(-alpha)/(H93*rho) -> 0 | J94: =-(I93+dp_dy*(1+EXP(-(ABS(E93)-displ)/9*sharpness))^(-alpha)/(H93*rho))*SIN(H93*time_step*3600)+J93*COS(H93*time_step*3600) -> 15.770916
A95: =A94+time_step -> 6.5 | B95: =B94+((I94+dp_dy*(1+EXP(-(ABS(E94)-displ)/9*sharpness))^(-alpha)/(H94*rho))/H94*SIN(H94*time_step*3600)-J94/H94*COS(H94*time_step*3600)-dp_dy*(1+EXP(-(ABS(E94)-displ)/9*sharpness))^(-alpha)*time_step*3600/(H94*rho)+J94/H94)/1000 -> 2.6855469e-06 | C95: =C94+((I94+dp_dy*(1+EXP(-(ABS(E94)-displ)/9*sharpness))^(-alpha)/(H94*rho))/H94*COS(H94*time_step*3600)+J94/H94*SIN(H94*time_step*3600)-(I94+dp_dy*(1+EXP(-(ABS(E94)-displ)/9*sharpness))^(-alpha)/(H94*rho))/H94)/1000 -> 0 | D95: =B95 -> 2.6855469e-06 | E95: =360*(init_km_from_eq+C95)/(2*PI()*6.37*10^3) -> 1e-06 | F95: =dp_dy*(1+EXP(-(ABS(E94)-displ)/9*sharpness))^(-alpha) -> -0.00027308946 | G95: =F95*10^5/100 -> -0.27308946 | H95: =2*7.292*10^(-5)*SIN(E95*PI()/180) -> 2.5453882e-12 | I95: =(I94+dp_dy*(1+EXP(-(ABS(E94)-displ)/9*sharpness))^(-alpha)/(H94*rho))*COS(H94*time_step*3600)+J94*SIN(H94*time_step*3600)-dp_dy*(1+EXP(-(ABS(E94)-displ)/9*sharpness))^(-alpha)/(H94*rho) -> 0 | J95: =-(I94+dp_dy*(1+EXP(-(ABS(E94)-displ)/9*sharpness))^(-alpha)/(H94*rho))*SIN(H94*time_step*3600)+J94*COS(H94*time_step*3600) -> 15.975734
A96: =A95+time_step -> 6.5833333 | B96: =B95+((I95+dp_dy*(1+EXP(-(ABS(E95)-displ)/9*sharpness))^(-alpha)/(H95*rho))/H95*SIN(H95*time_step*3600)-J95/H95*COS(H95*time_step*3600)-dp_dy*(1+EXP(-(ABS(E95)-displ)/9*sharpness))^(-alpha)*time_step*3600/(H95*rho)+J95/H95)/1000 -> 2.6855469e-06 | C96: =C95+((I95+dp_dy*(1+EXP(-(ABS(E95)-displ)/9*sharpness))^(-alpha)/(H95*rho))/H95*COS(H95*time_step*3600)+J95/H95*SIN(H95*time_step*3600)-(I95+dp_dy*(1+EXP(-(ABS(E95)-displ)/9*sharpness))^(-alpha)/(H95*rho))/H95)/1000 -> 0 | D96: =B96 -> 2.6855469e-06 | E96: =360*(init_km_from_eq+C96)/(2*PI()*6.37*10^3) -> 1e-06 | F96: =dp_dy*(1+EXP(-(ABS(E95)-displ)/9*sharpness))^(-alpha) -> -0.00027308946 | G96: =F96*10^5/100 -> -0.27308946 | H96: =2*7.292*10^(-5)*SIN(E96*PI()/180) -> 2.5453882e-12 | I96: =(I95+dp_dy*(1+EXP(-(ABS(E95)-displ)/9*sharpness))^(-alpha)/(H95*rho))*COS(H95*time_step*3600)+J95*SIN(H95*time_step*3600)-dp_dy*(1+EXP(-(ABS(E95)-displ)/9*sharpness))^(-alpha)/(H95*rho) -> 0 | J96: =-(I95+dp_dy*(1+EXP(-(ABS(E95)-displ)/9*sharpness))^(-alpha)/(H95*rho))*SIN(H95*time_step*3600)+J95*COS(H95*time_step*3600) -> 16.180551
A97: =A96+time_step -> 6.6666667 | B97: =B96+((I96+dp_dy*(1+EXP(-(ABS(E96)-displ)/9*sharpness))^(-alpha)/(H96*rho))/H96*SIN(H96*time_step*3600)-J96/H96*COS(H96*time_step*3600)-dp_dy*(1+EXP(-(ABS(E96)-displ)/9*sharpness))^(-alpha)*time_step*3600/(H96*rho)+J96/H96)/1000 -> 2.6855469e-06 | C97: =C96+((I96+dp_dy*(1+EXP(-(ABS(E96)-displ)/9*sharpness))^(-alpha)/(H96*rho))/H96*COS(H96*time_step*3600)+J96/H96*SIN(H96*time_step*3600)-(I96+dp_dy*(1+EXP(-(ABS(E96)-displ)/9*sharpness))^(-alpha)/(H96*rho))/H96)/1000 -> 0 | D97: =B97 -> 2.6855469e-06 | E97: =360*(init_km_from_eq+C97)/(2*PI()*6.37*10^3) -> 1e-06 | F97: =dp_dy*(1+EXP(-(ABS(E96)-displ)/9*sharpness))^(-alpha) -> -0.00027308946 | G97: =F97*10^5/100 -> -0.27308946 | H97: =2*7.292*10^(-5)*SIN(E97*PI()/180) -> 2.5453882e-12 | I97: =(I96+dp_dy*(1+EXP(-(ABS(E96)-displ)/9*sharpness))^(-alpha)/(H96*rho))*COS(H96*time_step*3600)+J96*SIN(H96*time_step*3600)-dp_dy*(1+EXP(-(ABS(E96)-displ)/9*sharpness))^(-alpha)/(H96*rho) -> 0 | J97: =-(I96+dp_dy*(1+EXP(-(ABS(E96)-displ)/9*sharpness))^(-alpha)/(H96*rho))*SIN(H96*time_step*3600)+J96*COS(H96*time_step*3600) -> 16.385368
A98: =A97+time_step -> 6.75 | B98: =B97+((I97+dp_dy*(1+EXP(-(ABS(E97)-displ)/9*sharpness))^(-alpha)/(H97*rho))/H97*SIN(H97*time_step*3600)-J97/H97*COS(H97*time_step*3600)-dp_dy*(1+EXP(-(ABS(E97)-displ)/9*sharpness))^(-alpha)*time_step*3600/(H97*rho)+J97/H97)/1000 -> 2.6855469e-06 | C98: =C97+((I97+dp_dy*(1+EXP(-(ABS(E97)-displ)/9*sharpness))^(-alpha)/(H97*rho))/H97*COS(H97*time_step*3600)+J97/H97*SIN(H97*time_step*3600)-(I97+dp_dy*(1+EXP(-(ABS(E97)-displ)/9*sharpness))^(-alpha)/(H97*rho))/H97)/1000 -> 0 | D98: =B98 -> 2.6855469e-06 | E98: =360*(init_km_from_eq+C98)/(2*PI()*6.37*10^3) -> 1e-06 | F98: =dp_dy*(1+EXP(-(ABS(E97)-displ)/9*sharpness))^(-alpha) -> -0.00027308946 | G98: =F98*10^5/100 -> -0.27308946 | H98: =2*7.292*10^(-5)*SIN(E98*PI()/180) -> 2.5453882e-12 | I98: =(I97+dp_dy*(1+EXP(-(ABS(E97)-displ)/9*sharpness))^(-alpha)/(H97*rho))*COS(H97*time_step*3600)+J97*SIN(H97*time_step*3600)-dp_dy*(1+EXP(-(ABS(E97)-displ)/9*sharpness))^(-alpha)/(H97*rho) -> 0 | J98: =-(I97+dp_dy*(1+EXP(-(ABS(E97)-displ)/9*sharpness))^(-alpha)/(H97*rho))*SIN(H97*time_step*3600)+J97*COS(H97*time_step*3600) -> 16.590185
A99: =A98+time_step -> 6.8333333 | B99: =B98+((I98+dp_dy*(1+EXP(-(ABS(E98)-displ)/9*sharpness))^(-alpha)/(H98*rho))/H98*SIN(H98*time_step*3600)-J98/H98*COS(H98*time_step*3600)-dp_dy*(1+EXP(-(ABS(E98)-displ)/9*sharpness))^(-alpha)*time_step*3600/(H98*rho)+J98/H98)/1000 -> 2.6855469e-06 | C99: =C98+((I98+dp_dy*(1+EXP(-(ABS(E98)-displ)/9*sharpness))^(-alpha)/(H98*rho))/H98*COS(H98*time_step*3600)+J98/H98*SIN(H98*time_step*3600)-(I98+dp_dy*(1+EXP(-(ABS(E98)-displ)/9*sharpness))^(-alpha)/(H98*rho))/H98)/1000 -> 0 | D99: =B99 -> 2.6855469e-06 | E99: =360*(init_km_from_eq+C99)/(2*PI()*6.37*10^3) -> 1e-06 | F99: =dp_dy*(1+EXP(-(ABS(E98)-displ)/9*sharpness))^(-alpha) -> -0.00027308946 | G99: =F99*10^5/100 -> -0.27308946 | H99: =2*7.292*10^(-5)*SIN(E99*PI()/180) -> 2.5453882e-12 | I99: =(I98+dp_dy*(1+EXP(-(ABS(E98)-displ)/9*sharpness))^(-alpha)/(H98*rho))*COS(H98*time_step*3600)+J98*SIN(H98*time_step*3600)-dp_dy*(1+EXP(-(ABS(E98)-displ)/9*sharpness))^(-alpha)/(H98*rho) -> 0 | J99: =-(I98+dp_dy*(1+EXP(-(ABS(E98)-displ)/9*sharpness))^(-alpha)/(H98*rho))*SIN(H98*time_step*3600)+J98*COS(H98*time_step*3600) -> 16.795002
... A400: =A399+time_step -> 31.916667 | B400: =B399+((I399+dp_dy*(1+EXP(-(ABS(E399)-displ)/9*sharpness))^(-alpha)/(H399*rho))/H399*SIN(H399*time_step*3600)-J399/H399*COS(H399*time_step*3600)-dp_dy*(1+EXP(-(ABS(E399)-displ)/9*sharpness))^(-alpha)*time_step*3600/(H399*rho)+J399/H399)/1000 -> 2853.7746 | C400: =C399+((I399+dp_dy*(1+EXP(-(ABS(E399)-displ)/9*sharpness))^(-alpha)/(H399*rho))/H399*COS(H399*time_step*3600)+J399/H399*SIN(H399*time_step*3600)-(I399+dp_dy*(1+EXP(-(ABS(E399)-displ)/9*sharpness))^(-alpha)/(H399*rho))/H399)/1000 -> 2831.9334 | D400: =B400 -> 2853.7746 | E400: =360*(init_km_from_eq+C400)/(2*PI()*6.37*10^3) -> 25.472188 | F400: =dp_dy*(1+EXP(-(ABS(E399)-displ)/9*sharpness))^(-alpha) -> -0.00091098221 | G400: =F400*10^5/100 -> -0.91098221 | H400: =2*7.292*10^(-5)*SIN(E400*PI()/180) -> 6.2721834e-05 | I400: =(I399+dp_dy*(1+EXP(-(ABS(E399)-displ)/9*sharpness))^(-alpha)/(H399*rho))*COS(H399*time_step*3600)+J399*SIN(H399*time_step*3600)-dp_dy*(1+EXP(-(ABS(E399)-displ)/9*sharpness))^(-alpha)/(H399*rho) -> 89.869378 | J400: =-(I399+dp_dy*(1+EXP(-(ABS(E399)-displ)/9*sharpness))^(-alpha)/(H399*rho))*SIN(H399*time_step*3600)+J399*COS(H399*time_step*3600) -> -16.986458

Sheet Traj 2
C2: Enter:
C3: air density r | D3: 0.4 | E3: kg m-3 | F3: 1.225 | G3: kg m-3 at MSL | I3: 0.4 | J3: kg m-3 at tropopause
C4: N-S pressure gradient at pole | D4: ='Traj 1'!D4 -> -3.6 | E4: hPa 100km-1
C5: = | D5: =D4*100/10^5 -> -0.0036 | E5: Pa m-1
C6: inflection of NS press. gradient | D6: 0.5 | E6: see diagram to right
C7: initial latitude | D7: ='Multiple trajectories'!G3 -> 5 | E7: deg | H7: =2*PI()*6.37*10^3*IF(latitude=0,10^(-3),latitude)/360 -> 555.88737 | I7: km from equator (y distance) | L7: where f = | M7: =2*7.292*10^(-5)*SIN(360*H7/(2*PI()*6.37*10^3)*PI()/180) -> 1.2710794e-05 | N7: s-1
C8: f = | D8: =2*7.292*10^(-5)*SIN(IF(latitude=0,10^(-3),latitude)*PI()/180) -> 1.2710794e-05 | E8: s-1 | L8: =IF(latitude>0,"Air parcel initially in Northern Hemisphere",IF(latitude=0,"Air parcel initially at equator","Air parcel initially in Southern Hemisphere")) -> Air parcel initially in Northern Hemisphere
B10: initial velocity | C10: uo = | D10: 0 | E10: m s-1
C11: vo = | D11: 0 | E11: m s-1 | L11: Equator is at | M11: =-init_km_from_eq -> -555.88737 | N11: km on y-axis
C13: time-step = | D13: ='Multiple trajectories'!C3 -> 0.083333333 | E13: hr | I13: max u:
I14: =MAX(I17:I400) -> 63.378899 | J14: m s-1
F15: dp/dy | G15: dp/dy
A16: time (hr) | B16: x (km) | C16: y (km) | D16: =B16 -> x (km) | E16: lat (deg) | F16: Pa m-1 | G16: hPa 100km-1 | H16: f (s-1) | I16: u (ms-1) | J16: v (ms-1)
A17: 0 | B17: =((uo+dp_dy/(f*rho))/f*SIN(f*A17*3600)-vo/f*COS(f*A17*3600)-dp_dy*A17*3600/(f*rho)+vo/f)/1000 -> 0 | C17: =((uo+dp_dy/(f*rho))/f*COS(f*A17*3600)+vo/f*SIN(f*A17*3600)-(uo+dp_dy/(f*rho))/f)/1000 -> 0 | D17: =B17 -> 0 | E17: =IF(latitude=0,10^(-3),latitude) -> 5 | F17: =dp_dy*(1+EXP(-(ABS(E17)-displ)/9*sharpness))^(-alpha) -> -0.00027308945 | G17: =F17*10^5/100 -> -0.27308945 | H17: =2*7.292*10^(-5)*SIN(E17*PI()/180) -> 1.2710794e-05 | I17: =(uo+dp_dy/(f*rho))*COS(f*$A17*3600)+vo*SIN(f*$A17*3600)-dp_dy/(f*rho) -> 0 | J17: =-(uo+dp_dy/(f*rho))*SIN(f*$A17*3600)+vo*COS(f*$A17*3600) -> 0
A18: =A17+time_step -> 0.083333333 | B18: =B17+((I17+dp_dy*(1+EXP(-(ABS(E17)-displ)/9*sharpness))^(-alpha)/(H17*rho))/H17*SIN(H17*time_step*3600)-J17/H17*COS(H17*time_step*3600)-dp_dy*(1+EXP(-(ABS(E17)-displ)/9*sharpness))^(-alpha)*time_step*3600/(H17*rho)+J17/H17)/1000 -> 3.9050787e-05 | C18: =C17+((I17+dp_dy*(1+EXP(-(ABS(E17)-displ)/9*sharpness))^(-alpha)/(H17*rho))/H17*COS(H17*time_step*3600)+J17/H17*SIN(H17*time_step*3600)-(I17+dp_dy*(1+EXP(-(ABS(E17)-displ)/9*sharpness))^(-alpha)/(H17*rho))/H17)/1000 -> 0.030722526 | D18: =B18 -> 3.9050787e-05 | E18: =360*(init_km_from_eq+C18)/(2*PI()*6.37*10^3) -> 5.0002763 | F18: =dp_dy*(1+EXP(-(ABS(E17)-displ)/9*sharpness))^(-alpha) -> -0.00027308945 | G18: =F18*10^5/100 -> -0.27308945 | H18: =2*7.292*10^(-5)*SIN(E18*PI()/180) -> 1.2711494e-05 | I18: =(I17+dp_dy*(1+EXP(-(ABS(E17)-displ)/9*sharpness))^(-alpha)/(H17*rho))*COS(H17*time_step*3600)+J17*SIN(H17*time_step*3600)-dp_dy*(1+EXP(-(ABS(E17)-displ)/9*sharpness))^(-alpha)/(H17*rho) -> 0.00039050768 | J18: =-(I17+dp_dy*(1+EXP(-(ABS(E17)-displ)/9*sharpness))^(-alpha)/(H17*rho))*SIN(H17*time_step*3600)+J17*COS(H17*time_step*3600) -> 0.20481659
A19: =A18+time_step -> 0.16666667 | B19: =B18+((I18+dp_dy*(1+EXP(-(ABS(E18)-displ)/9*sharpness))^(-alpha)/(H18*rho))/H18*SIN(H18*time_step*3600)-J18/H18*COS(H18*time_step*3600)-dp_dy*(1+EXP(-(ABS(E18)-displ)/9*sharpness))^(-alpha)*time_step*3600/(H18*rho)+J18/H18)/1000 -> 0.00031241478 | C19: =C18+((I18+dp_dy*(1+EXP(-(ABS(E18)-displ)/9*sharpness))^(-alpha)/(H18*rho))/H18*COS(H18*time_step*3600)+J18/H18*SIN(H18*time_step*3600)-(I18+dp_dy*(1+EXP(-(ABS(E18)-displ)/9*sharpness))^(-alpha)/(H18*rho))/H18)/1000 -> 0.12289009 | D19: =B19 -> 0.00031241478 | E19: =360*(init_km_from_eq+C19)/(2*PI()*6.37*10^3) -> 5.0011054 | F19: =dp_dy*(1+EXP(-(ABS(E18)-displ)/9*sharpness))^(-alpha) -> -0.00027309332 | G19: =F19*10^5/100 -> -0.27309332 | H19: =2*7.292*10^(-5)*SIN(E19*PI()/180) -> 1.2713596e-05 | I19: =(I18+dp_dy*(1+EXP(-(ABS(E18)-displ)/9*sharpness))^(-alpha)/(H18*rho))*COS(H18*time_step*3600)+J18*SIN(H18*time_step*3600)-dp_dy*(1+EXP(-(ABS(E18)-displ)/9*sharpness))^(-alpha)/(H18*rho) -> 0.0015620952 | J19: =-(I18+dp_dy*(1+EXP(-(ABS(E18)-displ)/9*sharpness))^(-alpha)/(H18*rho))*SIN(H18*time_step*3600)+J18*COS(H18*time_step*3600) -> 0.40963311
A20: =A19+time_step -> 0.25 | B20: =B19+((I19+dp_dy*(1+EXP(-(ABS(E19)-displ)/9*sharpness))^(-alpha)/(H19*rho))/H19*SIN(H19*time_step*3600)-J19/H19*COS(H19*time_step*3600)-dp_dy*(1+EXP(-(ABS(E19)-displ)/9*sharpness))^(-alpha)*time_step*3600/(H19*rho)+J19/H19)/1000 -> 0.0010544595 | C20: =C19+((I19+dp_dy*(1+EXP(-(ABS(E19)-displ)/9*sharpness))^(-alpha)/(H19*rho))/H19*COS(H19*time_step*3600)+J19/H19*SIN(H19*time_step*3600)-(I19+dp_dy*(1+EXP(-(ABS(E19)-displ)/9*sharpness))^(-alpha)/(H19*rho))/H19)/1000 -> 0.2765031 | D20: =B20 -> 0.0010544595 | E20: =360*(init_km_from_eq+C20)/(2*PI()*6.37*10^3) -> 5.002487 | F20: =dp_dy*(1+EXP(-(ABS(E19)-displ)/9*sharpness))^(-alpha) -> -0.00027310495 | G20: =F20*10^5/100 -> -0.27310495 | H20: =2*7.292*10^(-5)*SIN(E20*PI()/180) -> 1.27171e-05 | I20: =(I19+dp_dy*(1+EXP(-(ABS(E19)-displ)/9*sharpness))^(-alpha)/(H19*rho))*COS(H19*time_step*3600)+J19*SIN(H19*time_step*3600)-dp_dy*(1+EXP(-(ABS(E19)-displ)/9*sharpness))^(-alpha)/(H19*rho) -> 0.003515069 | J20: =-(I19+dp_dy*(1+EXP(-(ABS(E19)-displ)/9*sharpness))^(-alpha)/(H19*rho))*SIN(H19*time_step*3600)+J19*COS(H19*time_step*3600) -> 0.61445238
A21: =A20+time_step -> 0.33333333 | B21: =B20+((I20+dp_dy*(1+EXP(-(ABS(E20)-displ)/9*sharpness))^(-alpha)/(H20*rho))/H20*SIN(H20*time_step*3600)-J20/H20*COS(H20*time_step*3600)-dp_dy*(1+EXP(-(ABS(E20)-displ)/9*sharpness))^(-alpha)*time_step*3600/(H20*rho)+J20/H20)/1000 -> 0.0024996847 | C21: =C20+((I20+dp_dy*(1+EXP(-(ABS(E20)-displ)/9*sharpness))^(-alpha)/(H20*rho))/H20*COS(H20*time_step*3600)+J20/H20*SIN(H20*time_step*3600)-(I20+dp_dy*(1+EXP(-(ABS(E20)-displ)/9*sharpness))^(-alpha)/(H20*rho))/H20)/1000 -> 0.49156281 | D21: =B21 -> 0.0024996847 | E21: =360*(init_km_from_eq+C21)/(2*PI()*6.37*10^3) -> 5.0044214 | F21: =dp_dy*(1+EXP(-(ABS(E20)-displ)/9*sharpness))^(-alpha) -> -0.00027312432 | G21: =F21*10^5/100 -> -0.27312432 | H21: =2*7.292*10^(-5)*SIN(E21*PI()/180) -> 1.2722005e-05 | I21: =(I20+dp_dy*(1+EXP(-(ABS(E20)-displ)/9*sharpness))^(-alpha)/(H20*rho))*COS(H20*time_step*3600)+J20*SIN(H20*time_step*3600)-dp_dy*(1+EXP(-(ABS(E20)-displ)/9*sharpness))^(-alpha)/(H20*rho) -> 0.0062500047 | J21: =-(I20+dp_dy*(1+EXP(-(ABS(E20)-displ)/9*sharpness))^(-alpha)/(H20*rho))*SIN(H20*time_step*3600)+J20*COS(H20*time_step*3600) -> 0.81927724
A22: =A21+time_step -> 0.41666667 | B22: =B21+((I21+dp_dy*(1+EXP(-(ABS(E21)-displ)/9*sharpness))^(-alpha)/(H21*rho))/H21*SIN(H21*time_step*3600)-J21/H21*COS(H21*time_step*3600)-dp_dy*(1+EXP(-(ABS(E21)-displ)/9*sharpness))^(-alpha)*time_step*3600/(H21*rho)+J21/H21)/1000 -> 0.0048828033 | C22: =C21+((I21+dp_dy*(1+EXP(-(ABS(E21)-displ)/9*sharpness))^(-alpha)/(H21*rho))/H21*COS(H21*time_step*3600)+J21/H21*SIN(H21*time_step*3600)-(I21+dp_dy*(1+EXP(-(ABS(E21)-displ)/9*sharpness))^(-alpha)/(H21*rho))/H21)/1000 -> 0.7680713 | D22: =B22 -> 0.0048828033 | E22: =360*(init_km_from_eq+C22)/(2*PI()*6.37*10^3) -> 5.0069085 | F22: =dp_dy*(1+EXP(-(ABS(E21)-displ)/9*sharpness))^(-alpha) -> -0.00027315145 | G22: =F22*10^5/100 -> -0.27315145 | H22: =2*7.292*10^(-5)*SIN(E22*PI()/180) -> 1.2728311e-05 | I22: =(I21+dp_dy*(1+EXP(-(ABS(E21)-displ)/9*sharpness))^(-alpha)/(H21*rho))*COS(H21*time_step*3600)+J21*SIN(H21*time_step*3600)-dp_dy*(1+EXP(-(ABS(E21)-displ)/9*sharpness))^(-alpha)/(H21*rho) -> 0.0097677472 | J22: =-(I21+dp_dy*(1+EXP(-(ABS(E21)-displ)/9*sharpness))^(-alpha)/(H21*rho))*SIN(H21*time_step*3600)+J21*COS(H21*time_step*3600) -> 1.0241105
A23: =A22+time_step -> 0.5 | B23: =B22+((I22+dp_dy*(1+EXP(-(ABS(E22)-displ)/9*sharpness))^(-alpha)/(H22*rho))/H22*SIN(H22*time_step*3600)-J22/H22*COS(H22*time_step*3600)-dp_dy*(1+EXP(-(ABS(E22)-displ)/9*sharpness))^(-alpha)*time_step*3600/(H22*rho)+J22/H22)/1000 -> 0.008438822 | C23: =C22+((I22+dp_dy*(1+EXP(-(ABS(E22)-displ)/9*sharpness))^(-alpha)/(H22*rho))/H22*COS(H22*time_step*3600)+J22/H22*SIN(H22*time_step*3600)-(I22+dp_dy*(1+EXP(-(ABS(E22)-displ)/9*sharpness))^(-alpha)/(H22*rho))/H22)/1000 -> 1.1060315 | D23: =B23 -> 0.008438822 | E23: =360*(init_km_from_eq+C23)/(2*PI()*6.37*10^3) -> 5.0099483 | F23: =dp_dy*(1+EXP(-(ABS(E22)-displ)/9*sharpness))^(-alpha) -> -0.00027318633 | G23: =F23*10^5/100 -> -0.27318633 | H23: =2*7.292*10^(-5)*SIN(E23*PI()/180) -> 1.2736019e-05 | I23: =(I22+dp_dy*(1+EXP(-(ABS(E22)-displ)/9*sharpness))^(-alpha)/(H22*rho))*COS(H22*time_step*3600)+J22*SIN(H22*time_step*3600)-dp_dy*(1+EXP(-(ABS(E22)-displ)/9*sharpness))^(-alpha)/(H22*rho) -> 0.01406941 | J23: =-(I22+dp_dy*(1+EXP(-(ABS(E22)-displ)/9*sharpness))^(-alpha)/(H22*rho))*SIN(H22*time_step*3600)+J22*COS(H22*time_step*3600) -> 1.228955
A24: =A23+time_step -> 0.58333333 | B24: =B23+((I23+dp_dy*(1+EXP(-(ABS(E23)-displ)/9*sharpness))^(-alpha)/(H23*rho))/H23*SIN(H23*time_step*3600)-J23/H23*COS(H23*time_step*3600)-dp_dy*(1+EXP(-(ABS(E23)-displ)/9*sharpness))^(-alpha)*time_step*3600/(H23*rho)+J23/H23)/1000 -> 0.013403122 | C24: =C23+((I23+dp_dy*(1+EXP(-(ABS(E23)-displ)/9*sharpness))^(-alpha)/(H23*rho))/H23*COS(H23*time_step*3600)+J23/H23*SIN(H23*time_step*3600)-(I23+dp_dy*(1+EXP(-(ABS(E23)-displ)/9*sharpness))^(-alpha)/(H23*rho))/H23)/1000 -> 1.5054473 | D24: =B24 -> 0.013403122 | E24: =360*(init_km_from_eq+C24)/(2*PI()*6.37*10^3) -> 5.0135409 | F24: =dp_dy*(1+EXP(-(ABS(E23)-displ)/9*sharpness))^(-alpha) -> -0.00027322896 | G24: =F24*10^5/100 -> -0.27322896 | H24: =2*7.292*10^(-5)*SIN(E24*PI()/180) -> 1.2745129e-05 | I24: =(I23+dp_dy*(1+EXP(-(ABS(E23)-displ)/9*sharpness))^(-alpha)/(H23*rho))*COS(H23*time_step*3600)+J23*SIN(H23*time_step*3600)-dp_dy*(1+EXP(-(ABS(E23)-displ)/9*sharpness))^(-alpha)/(H23*rho) -> 0.019156377 | J24: =-(I23+dp_dy*(1+EXP(-(ABS(E23)-displ)/9*sharpness))^(-alpha)/(H23*rho))*SIN(H23*time_step*3600)+J23*COS(H23*time_step*3600) -> 1.4338135
A25: =A24+time_step -> 0.66666667 | B25: =B24+((I24+dp_dy*(1+EXP(-(ABS(E24)-displ)/9*sharpness))^(-alpha)/(H24*rho))/H24*SIN(H24*time_step*3600)-J24/H24*COS(H24*time_step*3600)-dp_dy*(1+EXP(-(ABS(E24)-displ)/9*sharpness))^(-alpha)*time_step*3600/(H24*rho)+J24/H24)/1000 -> 0.02001154 | C25: =C24+((I24+dp_dy*(1+EXP(-(ABS(E24)-displ)/9*sharpness))^(-alpha)/(H24*rho))/H24*COS(H24*time_step*3600)+J24/H24*SIN(H24*time_step*3600)-(I24+dp_dy*(1+EXP(-(ABS(E24)-displ)/9*sharpness))^(-alpha)/(H24*rho))/H24)/1000 -> 1.9663232 | D25: =B25 -> 0.02001154 | E25: =360*(init_km_from_eq+C25)/(2*PI()*6.37*10^3) -> 5.0176863 | F25: =dp_dy*(1+EXP(-(ABS(E24)-displ)/9*sharpness))^(-alpha) -> -0.00027327936 | G25: =F25*10^5/100 -> -0.27327936 | H25: =2*7.292*10^(-5)*SIN(E25*PI()/180) -> 1.275564e-05 | I25: =(I24+dp_dy*(1+EXP(-(ABS(E24)-displ)/9*sharpness))^(-alpha)/(H24*rho))*COS(H24*time_step*3600)+J24*SIN(H24*time_step*3600)-dp_dy*(1+EXP(-(ABS(E24)-displ)/9*sharpness))^(-alpha)/(H24*rho) -> 0.0250303 | J25: =-(I24+dp_dy*(1+EXP(-(ABS(E24)-displ)/9*sharpness))^(-alpha)/(H24*rho))*SIN(H24*time_step*3600)+J24*COS(H24*time_step*3600) -> 1.6386888
A26: =A25+time_step -> 0.75 | B26: =B25+((I25+dp_dy*(1+EXP(-(ABS(E25)-displ)/9*sharpness))^(-alpha)/(H25*rho))/H25*SIN(H25*time_step*3600)-J25/H25*COS(H25*time_step*3600)-dp_dy*(1+EXP(-(ABS(E25)-displ)/9*sharpness))^(-alpha)*time_step*3600/(H25*rho)+J25/H25)/1000 -> 0.028500448 | C26: =C25+((I25+dp_dy*(1+EXP(-(ABS(E25)-displ)/9*sharpness))^(-alpha)/(H25*rho))/H25*COS(H25*time_step*3600)+J25/H25*SIN(H25*time_step*3600)-(I25+dp_dy*(1+EXP(-(ABS(E25)-displ)/9*sharpness))^(-alpha)/(H25*rho))/H25)/1000 -> 2.4886647 | D26: =B26 -> 0.028500448 | E26: =360*(init_km_from_eq+C26)/(2*PI()*6.37*10^3) -> 5.0223846 | F26: =dp_dy*(1+EXP(-(ABS(E25)-displ)/9*sharpness))^(-alpha) -> -0.00027333753 | G26: =F26*10^5/100 -> -0.27333753 | H26: =2*7.292*10^(-5)*SIN(E26*PI()/180) -> 1.2767553e-05 | I26: =(I25+dp_dy*(1+EXP(-(ABS(E25)-displ)/9*sharpness))^(-alpha)/(H25*rho))*COS(H25*time_step*3600)+J25*SIN(H25*time_step*3600)-dp_dy*(1+EXP(-(ABS(E25)-displ)/9*sharpness))^(-alpha)/(H25*rho) -> 0.0316931 | J26: =-(I25+dp_dy*(1+EXP(-(ABS(E25)-displ)/9*sharpness))^(-alpha)/(H25*rho))*SIN(H25*time_step*3600)+J25*COS(H25*time_step*3600) -> 1.8435837
A27: =A26+time_step -> 0.83333333 | B27: =B26+((I26+dp_dy*(1+EXP(-(ABS(E26)-displ)/9*sharpness))^(-alpha)/(H26*rho))/H26*SIN(H26*time_step*3600)-J26/H26*COS(H26*time_step*3600)-dp_dy*(1+EXP(-(ABS(E26)-displ)/9*sharpness))^(-alpha)*time_step*3600/(H26*rho)+J26/H26)/1000 -> 0.039106836 | C27: =C26+((I26+dp_dy*(1+EXP(-(ABS(E26)-displ)/9*sharpness))^(-alpha)/(H26*rho))/H26*COS(H26*time_step*3600)+J26/H26*SIN(H26*time_step*3600)-(I26+dp_dy*(1+EXP(-(ABS(E26)-displ)/9*sharpness))^(-alpha)/(H26*rho))/H26)/1000 -> 3.0724781 | D27: =B27 -> 0.039106836 | E27: =360*(init_km_from_eq+C27)/(2*PI()*6.37*10^3) -> 5.0276358 | F27: =dp_dy*(1+EXP(-(ABS(E26)-displ)/9*sharpness))^(-alpha) -> -0.00027340346 | G27: =F27*10^5/100 -> -0.27340346 | H27: =2*7.292*10^(-5)*SIN(E27*PI()/180) -> 1.2780868e-05 | I27: =(I26+dp_dy*(1+EXP(-(ABS(E26)-displ)/9*sharpness))^(-alpha)/(H26*rho))*COS(H26*time_step*3600)+J26*SIN(H26*time_step*3600)-dp_dy*(1+EXP(-(ABS(E26)-displ)/9*sharpness))^(-alpha)/(H26*rho) -> 0.039146969 | J27: =-(I26+dp_dy*(1+EXP(-(ABS(E26)-displ)/9*sharpness))^(-alpha)/(H26*rho))*SIN(H26*time_step*3600)+J26*COS(H26*time_step*3600) -> 2.0485008
A28: =A27+time_step -> 0.91666667 | B28: =B27+((I27+dp_dy*(1+EXP(-(ABS(E27)-displ)/9*sharpness))^(-alpha)/(H27*rho))/H27*SIN(H27*time_step*3600)-J27/H27*COS(H27*time_step*3600)-dp_dy*(1+EXP(-(ABS(E27)-displ)/9*sharpness))^(-alpha)*time_step*3600/(H27*rho)+J27/H27)/1000 -> 0.052068391 | C28: =C27+((I27+dp_dy*(1+EXP(-(ABS(E27)-displ)/9*sharpness))^(-alpha)/(H27*rho))/H27*COS(H27*time_step*3600)+J27/H27*SIN(H27*time_step*3600)-(I27+dp_dy*(1+EXP(-(ABS(E27)-displ)/9*sharpness))^(-alpha)/(H27*rho))/H27)/1000 -> 3.7177705 | D28: =B28 -> 0.052068391 | E28: =360*(init_km_from_eq+C28)/(2*PI()*6.37*10^3) -> 5.03344 | F28: =dp_dy*(1+EXP(-(ABS(E27)-displ)/9*sharpness))^(-alpha) -> -0.00027347717 | G28: =F28*10^5/100 -> -0.27347717 | H28: =2*7.292*10^(-5)*SIN(E28*PI()/180) -> 1.2795585e-05 | I28: =(I27+dp_dy*(1+EXP(-(ABS(E27)-displ)/9*sharpness))^(-alpha)/(H27*rho))*COS(H27*time_step*3600)+J27*SIN(H27*time_step*3600)-dp_dy*(1+EXP(-(ABS(E27)-displ)/9*sharpness))^(-alpha)/(H27*rho) -> 0.047394366 | J28: =-(I27+dp_dy*(1+EXP(-(ABS(E27)-displ)/9*sharpness))^(-alpha)/(H27*rho))*SIN(H27*time_step*3600)+J27*COS(H27*time_step*3600) -> 2.2534431
A29: =A28+time_step -> 1 | B29: =B28+((I28+dp_dy*(1+EXP(-(ABS(E28)-displ)/9*sharpness))^(-alpha)/(H28*rho))/H28*SIN(H28*time_step*3600)-J28/H28*COS(H28*time_step*3600)-dp_dy*(1+EXP(-(ABS(E28)-displ)/9*sharpness))^(-alpha)*time_step*3600/(H28*rho)+J28/H28)/1000 -> 0.067623579 | C29: =C28+((I28+dp_dy*(1+EXP(-(ABS(E28)-displ)/9*sharpness))^(-alpha)/(H28*rho))/H28*COS(H28*time_step*3600)+J28/H28*SIN(H28*time_step*3600)-(I28+dp_dy*(1+EXP(-(ABS(E28)-displ)/9*sharpness))^(-alpha)/(H28*rho))/H28)/1000 -> 4.4245497 | D29: =B29 -> 0.067623579 | E29: =360*(init_km_from_eq+C29)/(2*PI()*6.37*10^3) -> 5.0397972 | F29: =dp_dy*(1+EXP(-(ABS(E28)-displ)/9*sharpness))^(-alpha) -> -0.00027355867 | G29: =F29*10^5/100 -> -0.27355867 | H29: =2*7.292*10^(-5)*SIN(E29*PI()/180) -> 1.2811704e-05 | I29: =(I28+dp_dy*(1+EXP(-(ABS(E28)-displ)/9*sharpness))^(-alpha)/(H28*rho))*COS(H28*time_step*3600)+J28*SIN(H28*time_step*3600)-dp_dy*(1+EXP(-(ABS(E28)-displ)/9*sharpness))^(-alpha)/(H28*rho) -> 0.05643802 | J29: =-(I28+dp_dy*(1+EXP(-(ABS(E28)-displ)/9*sharpness))^(-alpha)/(H28*rho))*SIN(H28*time_step*3600)+J28*COS(H28*time_step*3600) -> 2.458413
... A65: =A64+time_step -> 4 | B65: =B64+((I64+dp_dy*(1+EXP(-(ABS(E64)-displ)/9*sharpness))^(-alpha)/(H64*rho))/H64*SIN(H64*time_step*3600)-J64/H64*COS(H64*time_step*3600)-dp_dy*(1+EXP(-(ABS(E64)-displ)/9*sharpness))^(-alpha)*time_step*3600/(H64*rho)+J64/H64)/1000 -> 4.4839504 | C65: =C64+((I64+dp_dy*(1+EXP(-(ABS(E64)-displ)/9*sharpness))^(-alpha)/(H64*rho))/H64*COS(H64*time_step*3600)+J64/H64*SIN(H64*time_step*3600)-(I64+dp_dy*(1+EXP(-(ABS(E64)-displ)/9*sharpness))^(-alpha)/(H64*rho))/H64)/1000 -> 70.944504 | D65: =B65 -> 4.4839504 | E65: =360*(init_km_from_eq+C65)/(2*PI()*6.37*10^3) -> 5.6381194 | F65: =dp_dy*(1+EXP(-(ABS(E64)-displ)/9*sharpness))^(-alpha) -> -0.00028179128 | G65: =F65*10^5/100 -> -0.28179128 | H65: =2*7.292*10^(-5)*SIN(E65*PI()/180) -> 1.4328053e-05 | I65: =(I64+dp_dy*(1+EXP(-(ABS(E64)-displ)/9*sharpness))^(-alpha)/(H64*rho))*COS(H64*time_step*3600)+J64*SIN(H64*time_step*3600)-dp_dy*(1+EXP(-(ABS(E64)-displ)/9*sharpness))^(-alpha)/(H64*rho) -> 0.95754401 | J65: =-(I64+dp_dy*(1+EXP(-(ABS(E64)-displ)/9*sharpness))^(-alpha)/(H64*rho))*SIN(H64*time_step*3600)+J64*COS(H64*time_step*3600) -> 9.8748172
A66: =A65+time_step -> 4.0833333 | B66: =B65+((I65+dp_dy*(1+EXP(-(ABS(E65)-displ)/9*sharpness))^(-alpha)/(H65*rho))/H65*SIN(H65*time_step*3600)-J65/H65*COS(H65*time_step*3600)-dp_dy*(1+EXP(-(ABS(E65)-displ)/9*sharpness))^(-alpha)*time_step*3600/(H65*rho)+J65/H65)/1000 -> 4.7776251 | C66: =C65+((I65+dp_dy*(1+EXP(-(ABS(E65)-displ)/9*sharpness))^(-alpha)/(H65*rho))/H65*COS(H65*time_step*3600)+J65/H65*SIN(H65*time_step*3600)-(I65+dp_dy*(1+EXP(-(ABS(E65)-displ)/9*sharpness))^(-alpha)/(H65*rho))/H65)/1000 -> 73.938067 | D66: =B66 -> 4.7776251 | E66: =360*(init_km_from_eq+C66)/(2*PI()*6.37*10^3) -> 5.6650454 | F66: =dp_dy*(1+EXP(-(ABS(E65)-displ)/9*sharpness))^(-alpha) -> -0.00028217197 | G66: =F66*10^5/100 -> -0.28217197 | H66: =2*7.292*10^(-5)*SIN(E66*PI()/180) -> 1.4396256e-05 | I66: =(I65+dp_dy*(1+EXP(-(ABS(E65)-displ)/9*sharpness))^(-alpha)/(H65*rho))*COS(H65*time_step*3600)+J65*SIN(H65*time_step*3600)-dp_dy*(1+EXP(-(ABS(E65)-displ)/9*sharpness))^(-alpha)/(H65*rho) -> 1.0004359 | J66: =-(I65+dp_dy*(1+EXP(-(ABS(E65)-displ)/9*sharpness))^(-alpha)/(H65*rho))*SIN(H65*time_step*3600)+J65*COS(H65*time_step*3600) -> 10.082238 | V66: P-grad slope
A67: =A66+time_step -> 4.1666667 | B67: =B66+((I66+dp_dy*(1+EXP(-(ABS(E66)-displ)/9*sharpness))^(-alpha)/(H66*rho))/H66*SIN(H66*time_step*3600)-J66/H66*COS(H66*time_step*3600)-dp_dy*(1+EXP(-(ABS(E66)-displ)/9*sharpness))^(-alpha)*time_step*3600/(H66*rho)+J66/H66)/1000 -> 5.0843323 | C67: =C66+((I66+dp_dy*(1+EXP(-(ABS(E66)-displ)/9*sharpness))^(-alpha)/(H66*rho))/H66*COS(H66*time_step*3600)+J66/H66*SIN(H66*time_step*3600)-(I66+dp_dy*(1+EXP(-(ABS(E66)-displ)/9*sharpness))^(-alpha)/(H66*rho))/H66)/1000 -> 76.993869 | D67: =B67 -> 5.0843323 | E67: =360*(init_km_from_eq+C67)/(2*PI()*6.37*10^3) -> 5.6925312 | F67: =dp_dy*(1+EXP(-(ABS(E66)-displ)/9*sharpness))^(-alpha) -> -0.00028256123 | G67: =F67*10^5/100 -> -0.28256123 | H67: =2*7.292*10^(-5)*SIN(E67*PI()/180) -> 1.4465875e-05 | I67: =(I66+dp_dy*(1+EXP(-(ABS(E66)-displ)/9*sharpness))^(-alpha)/(H66*rho))*COS(H66*time_step*3600)+J66*SIN(H66*time_step*3600)-dp_dy*(1+EXP(-(ABS(E66)-displ)/9*sharpness))^(-alpha)/(H66*rho) -> 1.0444281 | J67: =-(I66+dp_dy*(1+EXP(-(ABS(E66)-displ)/9*sharpness))^(-alpha)/(H66*rho))*SIN(H66*time_step*3600)+J66*COS(H66*time_step*3600) -> 10.289744 | V67: displ | W67: alpha
A68: =A67+time_step -> 4.25 | B68: =B67+((I67+dp_dy*(1+EXP(-(ABS(E67)-displ)/9*sharpness))^(-alpha)/(H67*rho))/H67*SIN(H67*time_step*3600)-J67/H67*COS(H67*time_step*3600)-dp_dy*(1+EXP(-(ABS(E67)-displ)/9*sharpness))^(-alpha)*time_step*3600/(H67*rho)+J67/H67)/1000 -> 5.404404 | C68: =C67+((I67+dp_dy*(1+EXP(-(ABS(E67)-displ)/9*sharpness))^(-alpha)/(H67*rho))/H67*COS(H67*time_step*3600)+J67/H67*SIN(H67*time_step*3600)-(I67+dp_dy*(1+EXP(-(ABS(E67)-displ)/9*sharpness))^(-alpha)/(H67*rho))/H67)/1000 -> 80.111935 | D68: =B68 -> 5.404404 | E68: =360*(init_km_from_eq+C68)/(2*PI()*6.37*10^3) -> 5.720577 | F68: =dp_dy*(1+EXP(-(ABS(E67)-displ)/9*sharpness))^(-alpha) -> -0.00028295909 | G68: =F68*10^5/100 -> -0.28295909 | H68: =2*7.292*10^(-5)*SIN(E68*PI()/180) -> 1.4536909e-05 | I68: =(I67+dp_dy*(1+EXP(-(ABS(E67)-displ)/9*sharpness))^(-alpha)/(H67*rho))*COS(H67*time_step*3600)+J67*SIN(H67*time_step*3600)-dp_dy*(1+EXP(-(ABS(E67)-displ)/9*sharpness))^(-alpha)/(H67*rho) -> 1.0895336 | J68: =-(I67+dp_dy*(1+EXP(-(ABS(E67)-displ)/9*sharpness))^(-alpha)/(H67*rho))*SIN(H67*time_step*3600)+J67*COS(H67*time_step*3600) -> 10.497333 | V68: 50 | W68: 1
A69: =A68+time_step -> 4.3333333 | B69: =B68+((I68+dp_dy*(1+EXP(-(ABS(E68)-displ)/9*sharpness))^(-alpha)/(H68*rho))/H68*SIN(H68*time_step*3600)-J68/H68*COS(H68*time_step*3600)-dp_dy*(1+EXP(-(ABS(E68)-displ)/9*sharpness))^(-alpha)*time_step*3600/(H68*rho)+J68/H68)/1000 -> 5.7381763 | C69: =C68+((I68+dp_dy*(1+EXP(-(ABS(E68)-displ)/9*sharpness))^(-alpha)/(H68*rho))/H68*COS(H68*time_step*3600)+J68/H68*SIN(H68*time_step*3600)-(I68+dp_dy*(1+EXP(-(ABS(E68)-displ)/9*sharpness))^(-alpha)/(H68*rho))/H68)/1000 -> 83.292291 | D69: =B69 -> 5.7381763 | E69: =360*(init_km_from_eq+C69)/(2*PI()*6.37*10^3) -> 5.7491832 | F69: =dp_dy*(1+EXP(-(ABS(E68)-displ)/9*sharpness))^(-alpha) -> -0.00028336558 | G69: =F69*10^5/100 -> -0.28336558 | H69: =2*7.292*10^(-5)*SIN(E69*PI()/180) -> 1.4609358e-05 | I69: =(I68+dp_dy*(1+EXP(-(ABS(E68)-displ)/9*sharpness))^(-alpha)/(H68*rho))*COS(H68*time_step*3600)+J68*SIN(H68*time_step*3600)-dp_dy*(1+EXP(-(ABS(E68)-displ)/9*sharpness))^(-alpha)/(H68*rho) -> 1.1357662 | J69: =-(I68+dp_dy*(1+EXP(-(ABS(E68)-displ)/9*sharpness))^(-alpha)/(H68*rho))*SIN(H68*time_step*3600)+J68*COS(H68*time_step*3600) -> 10.705005
A70: =A69+time_step -> 4.4166667 | B70: =B69+((I69+dp_dy*(1+EXP(-(ABS(E69)-displ)/9*sharpness))^(-alpha)/(H69*rho))/H69*SIN(H69*time_step*3600)-J69/H69*COS(H69*time_step*3600)-dp_dy*(1+EXP(-(ABS(E69)-displ)/9*sharpness))^(-alpha)*time_step*3600/(H69*rho)+J69/H69)/1000 -> 6.0859894 | C70: =C69+((I69+dp_dy*(1+EXP(-(ABS(E69)-displ)/9*sharpness))^(-alpha)/(H69*rho))/H69*COS(H69*time_step*3600)+J69/H69*SIN(H69*time_step*3600)-(I69+dp_dy*(1+EXP(-(ABS(E69)-displ)/9*sharpness))^(-alpha)/(H69*rho))/H69)/1000 -> 86.534961 | D70: =B70 -> 6.0859894 | E70: =360*(init_km_from_eq+C70)/(2*PI()*6.37*10^3) -> 5.7783498 | F70: =dp_dy*(1+EXP(-(ABS(E69)-displ)/9*sharpness))^(-alpha) -> -0.00028378075 | G70: =F70*10^5/100 -> -0.28378075 | H70: =2*7.292*10^(-5)*SIN(E70*PI()/180) -> 1.4683223e-05 | I70: =(I69+dp_dy*(1+EXP(-(ABS(E69)-displ)/9*sharpness))^(-alpha)/(H69*rho))*COS(H69*time_step*3600)+J69*SIN(H69*time_step*3600)-dp_dy*(1+EXP(-(ABS(E69)-displ)/9*sharpness))^(-alpha)/(H69*rho) -> 1.1831395 | J70: =-(I69+dp_dy*(1+EXP(-(ABS(E69)-displ)/9*sharpness))^(-alpha)/(H69*rho))*SIN(H69*time_step*3600)+J69*COS(H69*time_step*3600) -> 10.912759
A71: =A70+time_step -> 4.5 | B71: =B70+((I70+dp_dy*(1+EXP(-(ABS(E70)-displ)/9*sharpness))^(-alpha)/(H70*rho))/H70*SIN(H70*time_step*3600)-J70/H70*COS(H70*time_step*3600)-dp_dy*(1+EXP(-(ABS(E70)-displ)/9*sharpness))^(-alpha)*time_step*3600/(H70*rho)+J70/H70)/1000 -> 6.4481876 | C71: =C70+((I70+dp_dy*(1+EXP(-(ABS(E70)-displ)/9*sharpness))^(-alpha)/(H70*rho))/H70*COS(H70*time_step*3600)+J70/H70*SIN(H70*time_step*3600)-(I70+dp_dy*(1+EXP(-(ABS(E70)-displ)/9*sharpness))^(-alpha)/(H70*rho))/H70)/1000 -> 89.83997 | D71: =B71 -> 6.4481876 | E71: =360*(init_km_from_eq+C71)/(2*PI()*6.37*10^3) -> 5.8080771 | F71: =dp_dy*(1+EXP(-(ABS(E70)-displ)/9*sharpness))^(-alpha) -> -0.00028420462 | G71: =F71*10^5/100 -> -0.28420462 | H71: =2*7.292*10^(-5)*SIN(E71*PI()/180) -> 1.4758504e-05 | I71: =(I70+dp_dy*(1+EXP(-(ABS(E70)-displ)/9*sharpness))^(-alpha)/(H70*rho))*COS(H70*time_step*3600)+J70*SIN(H70*time_step*3600)-dp_dy*(1+EXP(-(ABS(E70)-displ)/9*sharpness))^(-alpha)/(H70*rho) -> 1.2316677 | J71: =-(I70+dp_dy*(1+EXP(-(ABS(E70)-displ)/9*sharpness))^(-alpha)/(H70*rho))*SIN(H70*time_step*3600)+J70*COS(H70*time_step*3600) -> 11.120595 | U71: latitude | V71: fraction of p gradient at pole | X71: hPa 100km-1
A72: =A71+time_step -> 4.5833333 | B72: =B71+((I71+dp_dy*(1+EXP(-(ABS(E71)-displ)/9*sharpness))^(-alpha)/(H71*rho))/H71*SIN(H71*time_step*3600)-J71/H71*COS(H71*time_step*3600)-dp_dy*(1+EXP(-(ABS(E71)-displ)/9*sharpness))^(-alpha)*time_step*3600/(H71*rho)+J71/H71)/1000 -> 6.8251195 | C72: =C71+((I71+dp_dy*(1+EXP(-(ABS(E71)-displ)/9*sharpness))^(-alpha)/(H71*rho))/H71*COS(H71*time_step*3600)+J71/H71*SIN(H71*time_step*3600)-(I71+dp_dy*(1+EXP(-(ABS(E71)-displ)/9*sharpness))^(-alpha)/(H71*rho))/H71)/1000 -> 93.207341 | D72: =B72 -> 6.8251195 | E72: =360*(init_km_from_eq+C72)/(2*PI()*6.37*10^3) -> 5.8383653 | F72: =dp_dy*(1+EXP(-(ABS(E71)-displ)/9*sharpness))^(-alpha) -> -0.00028463723 | G72: =F72*10^5/100 -> -0.28463723 | H72: =2*7.292*10^(-5)*SIN(E72*PI()/180) -> 1.4835202e-05 | I72: =(I71+dp_dy*(1+EXP(-(ABS(E71)-displ)/9*sharpness))^(-alpha)/(H71*rho))*COS(H71*time_step*3600)+J71*SIN(H71*time_step*3600)-dp_dy*(1+EXP(-(ABS(E71)-displ)/9*sharpness))^(-alpha)/(H71*rho) -> 1.281365 | J72: =-(I71+dp_dy*(1+EXP(-(ABS(E71)-displ)/9*sharpness))^(-alpha)/(H71*rho))*SIN(H71*time_step*3600)+J71*COS(H71*time_step*3600) -> 11.32851 | U72: -45 | V72: =(1+EXP(-(U72-displ)/9*sharpness))^(-alpha) -> 0.0050778438 | X72: =V72*$D$4 -> -0.018280238
A73: =A72+time_step -> 4.6666667 | B73: =B72+((I72+dp_dy*(1+EXP(-(ABS(E72)-displ)/9*sharpness))^(-alpha)/(H72*rho))/H72*SIN(H72*time_step*3600)-J72/H72*COS(H72*time_step*3600)-dp_dy*(1+EXP(-(ABS(E72)-displ)/9*sharpness))^(-alpha)*time_step*3600/(H72*rho)+J72/H72)/1000 -> 7.217138 | C73: =C72+((I72+dp_dy*(1+EXP(-(ABS(E72)-displ)/9*sharpness))^(-alpha)/(H72*rho))/H72*COS(H72*time_step*3600)+J72/H72*SIN(H72*time_step*3600)-(I72+dp_dy*(1+EXP(-(ABS(E72)-displ)/9*sharpness))^(-alpha)/(H72*rho))/H72)/1000 -> 96.637098 | D73: =B73 -> 7.217138 | E73: =360*(init_km_from_eq+C73)/(2*PI()*6.37*10^3) -> 5.8692147 | F73: =dp_dy*(1+EXP(-(ABS(E72)-displ)/9*sharpness))^(-alpha) -> -0.00028507863 | G73: =F73*10^5/100 -> -0.28507863 | H73: =2*7.292*10^(-5)*SIN(E73*PI()/180) -> 1.4913316e-05 | I73: =(I72+dp_dy*(1+EXP(-(ABS(E72)-displ)/9*sharpness))^(-alpha)/(H72*rho))*COS(H72*time_step*3600)+J72*SIN(H72*time_step*3600)-dp_dy*(1+EXP(-(ABS(E72)-displ)/9*sharpness))^(-alpha)/(H72*rho) -> 1.3322462 | J73: =-(I72+dp_dy*(1+EXP(-(ABS(E72)-displ)/9*sharpness))^(-alpha)/(H72*rho))*SIN(H72*time_step*3600)+J72*COS(H72*time_step*3600) -> 11.536503 | U73: =U72+9 -> -36 | V73: =(1+EXP(-(U73-displ)/9*sharpness))^(-alpha) -> 0.0083444615 | X73: =V73*$D$4 -> -0.030040062
A74: =A73+time_step -> 4.75 | B74: =B73+((I73+dp_dy*(1+EXP(-(ABS(E73)-displ)/9*sharpness))^(-alpha)/(H73*rho))/H73*SIN(H73*time_step*3600)-J73/H73*COS(H73*time_step*3600)-dp_dy*(1+EXP(-(ABS(E73)-displ)/9*sharpness))^(-alpha)*time_step*3600/(H73*rho)+J73/H73)/1000 -> 7.6246006 | C74: =C73+((I73+dp_dy*(1+EXP(-(ABS(E73)-displ)/9*sharpness))^(-alpha)/(H73*rho))/H73*COS(H73*time_step*3600)+J73/H73*SIN(H73*time_step*3600)-(I73+dp_dy*(1+EXP(-(ABS(E73)-displ)/9*sharpness))^(-alpha)/(H73*rho))/H73)/1000 -> 100.12927 | D74: =B74 -> 7.6246006 | E74: =360*(init_km_from_eq+C74)/(2*PI()*6.37*10^3) -> 5.9006255 | F74: =dp_dy*(1+EXP(-(ABS(E73)-displ)/9*sharpness))^(-alpha) -> -0.00028552885 | G74: =F74*10^5/100 -> -0.28552885 | H74: =2*7.292*10^(-5)*SIN(E74*PI()/180) -> 1.4992847e-05 | I74: =(I73+dp_dy*(1+EXP(-(ABS(E73)-displ)/9*sharpness))^(-alpha)/(H73*rho))*COS(H73*time_step*3600)+J73*SIN(H73*time_step*3600)-dp_dy*(1+EXP(-(ABS(E73)-displ)/9*sharpness))^(-alpha)/(H73*rho) -> 1.384326 | J74: =-(I73+dp_dy*(1+EXP(-(ABS(E73)-displ)/9*sharpness))^(-alpha)/(H73*rho))*SIN(H73*time_step*3600)+J73*COS(H73*time_step*3600) -> 11.744573 | U74: =U73+9 -> -27 | V74: =(1+EXP(-(U74-displ)/9*sharpness))^(-alpha) -> 0.013683619 | X74: =V74*$D$4 -> -0.049261027
A75: =A74+time_step -> 4.8333333 | B75: =B74+((I74+dp_dy*(1+EXP(-(ABS(E74)-displ)/9*sharpness))^(-alpha)/(H74*rho))/H74*SIN(H74*time_step*3600)-J74/H74*COS(H74*time_step*3600)-dp_dy*(1+EXP(-(ABS(E74)-displ)/9*sharpness))^(-alpha)*time_step*3600/(H74*rho)+J74/H74)/1000 -> 8.047869 | C75: =C74+((I74+dp_dy*(1+EXP(-(ABS(E74)-displ)/9*sharpness))^(-alpha)/(H74*rho))/H74*COS(H74*time_step*3600)+J74/H74*SIN(H74*time_step*3600)-(I74+dp_dy*(1+EXP(-(ABS(E74)-displ)/9*sharpness))^(-alpha)/(H74*rho))/H74)/1000 -> 103.68387 | D75: =B75 -> 8.047869 | E75: =360*(init_km_from_eq+C75)/(2*PI()*6.37*10^3) -> 5.9325978 | F75: =dp_dy*(1+EXP(-(ABS(E74)-displ)/9*sharpness))^(-alpha) -> -0.00028598793 | G75: =F75*10^5/100 -> -0.28598793 | H75: =2*7.292*10^(-5)*SIN(E75*PI()/180) -> 1.5073796e-05 | I75: =(I74+dp_dy*(1+EXP(-(ABS(E74)-displ)/9*sharpness))^(-alpha)/(H74*rho))*COS(H74*time_step*3600)+J74*SIN(H74*time_step*3600)-dp_dy*(1+EXP(-(ABS(E74)-displ)/9*sharpness))^(-alpha)/(H74*rho) -> 1.4376195 | J75: =-(I74+dp_dy*(1+EXP(-(ABS(E74)-displ)/9*sharpness))^(-alpha)/(H74*rho))*SIN(H74*time_step*3600)+J74*COS(H74*time_step*3600) -> 11.952718 | U75: =U74+9 -> -18 | V75: =(1+EXP(-(U75-displ)/9*sharpness))^(-alpha) -> 0.022361969 | X75: =V75*$D$4 -> -0.080503089
A76: =A75+time_step -> 4.9166667 | B76: =B75+((I75+dp_dy*(1+EXP(-(ABS(E75)-displ)/9*sharpness))^(-alpha)/(H75*rho))/H75*SIN(H75*time_step*3600)-J75/H75*COS(H75*time_step*3600)-dp_dy*(1+EXP(-(ABS(E75)-displ)/9*sharpness))^(-alpha)*time_step*3600/(H75*rho)+J75/H75)/1000 -> 8.4873097 | C76: =C75+((I75+dp_dy*(1+EXP(-(ABS(E75)-displ)/9*sharpness))^(-alpha)/(H75*rho))/H75*COS(H75*time_step*3600)+J75/H75*SIN(H75*time_step*3600)-(I75+dp_dy*(1+EXP(-(ABS(E75)-displ)/9*sharpness))^(-alpha)/(H75*rho))/H75)/1000 -> 107.30092 | D76: =B76 -> 8.4873097 | E76: =360*(init_km_from_eq+C76)/(2*PI()*6.37*10^3) -> 5.9651318 | F76: =dp_dy*(1+EXP(-(ABS(E75)-displ)/9*sharpness))^(-alpha) -> -0.0002864559 | G76: =F76*10^5/100 -> -0.2864559 | H76: =2*7.292*10^(-5)*SIN(E76*PI()/180) -> 1.5156161e-05 | I76: =(I75+dp_dy*(1+EXP(-(ABS(E75)-displ)/9*sharpness))^(-alpha)/(H75*rho))*COS(H75*time_step*3600)+J75*SIN(H75*time_step*3600)-dp_dy*(1+EXP(-(ABS(E75)-displ)/9*sharpness))^(-alpha)/(H75*rho) -> 1.4921423 | J76: =-(I75+dp_dy*(1+EXP(-(ABS(E75)-displ)/9*sharpness))^(-alpha)/(H75*rho))*SIN(H75*time_step*3600)+J75*COS(H75*time_step*3600) -> 12.160936 | U76: =U75+9 -> -9 | V76: =(1+EXP(-(U76-displ)/9*sharpness))^(-alpha) -> 0.03634146 | X76: =V76*$D$4 -> -0.13082926
A77: =A76+time_step -> 5 | B77: =B76+((I76+dp_dy*(1+EXP(-(ABS(E76)-displ)/9*sharpness))^(-alpha)/(H76*rho))/H76*SIN(H76*time_step*3600)-J76/H76*COS(H76*time_step*3600)-dp_dy*(1+EXP(-(ABS(E76)-displ)/9*sharpness))^(-alpha)*time_step*3600/(H76*rho)+J76/H76)/1000 -> 8.9432939 | C77: =C76+((I76+dp_dy*(1+EXP(-(ABS(E76)-displ)/9*sharpness))^(-alpha)/(H76*rho))/H76*COS(H76*time_step*3600)+J76/H76*SIN(H76*time_step*3600)-(I76+dp_dy*(1+EXP(-(ABS(E76)-displ)/9*sharpness))^(-alpha)/(H76*rho))/H76)/1000 -> 110.98045 | D77: =B77 -> 8.9432939 | E77: =360*(init_km_from_eq+C77)/(2*PI()*6.37*10^3) -> 5.9982278 | F77: =dp_dy*(1+EXP(-(ABS(E76)-displ)/9*sharpness))^(-alpha) -> -0.00028693282 | G77: =F77*10^5/100 -> -0.28693282 | H77: =2*7.292*10^(-5)*SIN(E77*PI()/180) -> 1.5239945e-05 | I77: =(I76+dp_dy*(1+EXP(-(ABS(E76)-displ)/9*sharpness))^(-alpha)/(H76*rho))*COS(H76*time_step*3600)+J76*SIN(H76*time_step*3600)-dp_dy*(1+EXP(-(ABS(E76)-displ)/9*sharpness))^(-alpha)/(H76*rho) -> 1.5479098 | J77: =-(I76+dp_dy*(1+EXP(-(ABS(E76)-displ)/9*sharpness))^(-alpha)/(H76*rho))*SIN(H76*time_step*3600)+J76*COS(H76*time_step*3600) -> 12.369224 | U77: =U76+9 -> 0 | V77: =(1+EXP(-(U77-displ)/9*sharpness))^(-alpha) -> 0.058536903 | X77: =V77*$D$4 -> -0.21073285
A78: =A77+time_step -> 5.0833333 | B78: =B77+((I77+dp_dy*(1+EXP(-(ABS(E77)-displ)/9*sharpness))^(-alpha)/(H77*rho))/H77*SIN(H77*time_step*3600)-J77/H77*COS(H77*time_step*3600)-dp_dy*(1+EXP(-(ABS(E77)-displ)/9*sharpness))^(-alpha)*time_step*3600/(H77*rho)+J77/H77)/1000 -> 9.4161972 | C78: =C77+((I77+dp_dy*(1+EXP(-(ABS(E77)-displ)/9*sharpness))^(-alpha)/(H77*rho))/H77*COS(H77*time_step*3600)+J77/H77*SIN(H77*time_step*3600)-(I77+dp_dy*(1+EXP(-(ABS(E77)-displ)/9*sharpness))^(-alpha)/(H77*rho))/H77)/1000 -> 114.72248 | D78: =B78 -> 9.4161972 | E78: =360*(init_km_from_eq+C78)/(2*PI()*6.37*10^3) -> 6.031886 | F78: =dp_dy*(1+EXP(-(ABS(E77)-displ)/9*sharpness))^(-alpha) -> -0.00028741872 | G78: =F78*10^5/100 -> -0.28741872 | H78: =2*7.292*10^(-5)*SIN(E78*PI()/180) -> 1.5325146e-05 | I78: =(I77+dp_dy*(1+EXP(-(ABS(E77)-displ)/9*sharpness))^(-alpha)/(H77*rho))*COS(H77*time_step*3600)+J77*SIN(H77*time_step*3600)-dp_dy*(1+EXP(-(ABS(E77)-displ)/9*sharpness))^(-alpha)/(H77*rho) -> 1.6049381 | J78: =-(I77+dp_dy*(1+EXP(-(ABS(E77)-displ)/9*sharpness))^(-alpha)/(H77*rho))*SIN(H77*time_step*3600)+J77*COS(H77*time_step*3600) -> 12.577581 | U78: =U77+9 -> 9 | V78: =(1+EXP(-(U78-displ)/9*sharpness))^(-alpha) -> 0.092980195 | X78: =V78*$D$4 -> -0.3347287
A79: =A78+time_step -> 5.1666667 | B79: =B78+((I78+dp_dy*(1+EXP(-(ABS(E78)-displ)/9*sharpness))^(-alpha)/(H78*rho))/H78*SIN(H78*time_step*3600)-J78/H78*COS(H78*time_step*3600)-dp_dy*(1+EXP(-(ABS(E78)-displ)/9*sharpness))^(-alpha)*time_step*3600/(H78*rho)+J78/H78)/1000 -> 9.9064005 | C79: =C78+((I78+dp_dy*(1+EXP(-(ABS(E78)-displ)/9*sharpness))^(-alpha)/(H78*rho))/H78*COS(H78*time_step*3600)+J78/H78*SIN(H78*time_step*3600)-(I78+dp_dy*(1+EXP(-(ABS(E78)-displ)/9*sharpness))^(-alpha)/(H78*rho))/H78)/1000 -> 118.52702 | D79: =B79 -> 9.9064005 | E79: =360*(init_km_from_eq+C79)/(2*PI()*6.37*10^3) -> 6.0661065 | F79: =dp_dy*(1+EXP(-(ABS(E78)-displ)/9*sharpness))^(-alpha) -> -0.00028791364 | G79: =F79*10^5/100 -> -0.28791364 | H79: =2*7.292*10^(-5)*SIN(E79*PI()/180) -> 1.5411766e-05 | I79: =(I78+dp_dy*(1+EXP(-(ABS(E78)-displ)/9*sharpness))^(-alpha)/(H78*rho))*COS(H78*time_step*3600)+J78*SIN(H78*time_step*3600)-dp_dy*(1+EXP(-(ABS(E78)-displ)/9*sharpness))^(-alpha)/(H78*rho) -> 1.6632433 | J79: =-(I78+dp_dy*(1+EXP(-(ABS(E78)-displ)/9*sharpness))^(-alpha)/(H78*rho))*SIN(H78*time_step*3600)+J78*COS(H78*time_step*3600) -> 12.786004 | U79: =U78+9 -> 18 | V79: =(1+EXP(-(U79-displ)/9*sharpness))^(-alpha) -> 0.14457775 | X79: =V79*$D$4 -> -0.5204799
A80: =A79+time_step -> 5.25 | B80: =B79+((I79+dp_dy*(1+EXP(-(ABS(E79)-displ)/9*sharpness))^(-alpha)/(H79*rho))/H79*SIN(H79*time_step*3600)-J79/H79*COS(H79*time_step*3600)-dp_dy*(1+EXP(-(ABS(E79)-displ)/9*sharpness))^(-alpha)*time_step*3600/(H79*rho)+J79/H79)/1000 -> 10.414289 | C80: =C79+((I79+dp_dy*(1+EXP(-(ABS(E79)-displ)/9*sharpness))^(-alpha)/(H79*rho))/H79*COS(H79*time_step*3600)+J79/H79*SIN(H79*time_step*3600)-(I79+dp_dy*(1+EXP(-(ABS(E79)-displ)/9*sharpness))^(-alpha)/(H79*rho))/H79)/1000 -> 122.3941 | D80: =B80 -> 10.414289 | E80: =360*(init_km_from_eq+C80)/(2*PI()*6.37*10^3) -> 6.1008894 | F80: =dp_dy*(1+EXP(-(ABS(E79)-displ)/9*sharpness))^(-alpha) -> -0.00028841763 | G80: =F80*10^5/100 -> -0.28841763 | H80: =2*7.292*10^(-5)*SIN(E80*PI()/180) -> 1.5499803e-05 | I80: =(I79+dp_dy*(1+EXP(-(ABS(E79)-displ)/9*sharpness))^(-alpha)/(H79*rho))*COS(H79*time_step*3600)+J79*SIN(H79*time_step*3600)-dp_dy*(1+EXP(-(ABS(E79)-displ)/9*sharpness))^(-alpha)/(H79*rho) -> 1.7228419 | J80: =-(I79+dp_dy*(1+EXP(-(ABS(E79)-displ)/9*sharpness))^(-alpha)/(H79*rho))*SIN(H79*time_step*3600)+J79*COS(H79*time_step*3600) -> 12.99449 | U80: =U79+9 -> 27 | V80: =(1+EXP(-(U80-displ)/9*sharpness))^(-alpha) -> 0.21792873 | X80: =V80*$D$4 -> -0.78454344
A81: =A80+time_step -> 5.3333333 | B81: =B80+((I80+dp_dy*(1+EXP(-(ABS(E80)-displ)/9*sharpness))^(-alpha)/(H80*rho))/H80*SIN(H80*time_step*3600)-J80/H80*COS(H80*time_step*3600)-dp_dy*(1+EXP(-(ABS(E80)-displ)/9*sharpness))^(-alpha)*time_step*3600/(H80*rho)+J80/H80)/1000 -> 10.940254 | C81: =C80+((I80+dp_dy*(1+EXP(-(ABS(E80)-displ)/9*sharpness))^(-alpha)/(H80*rho))/H80*COS(H80*time_step*3600)+J80/H80*SIN(H80*time_step*3600)-(I80+dp_dy*(1+EXP(-(ABS(E80)-displ)/9*sharpness))^(-alpha)/(H80*rho))/H80)/1000 -> 126.32374 | D81: =B81 -> 10.940254 | E81: =360*(init_km_from_eq+C81)/(2*PI()*6.37*10^3) -> 6.136235 | F81: =dp_dy*(1+EXP(-(ABS(E80)-displ)/9*sharpness))^(-alpha) -> -0.00028893073 | G81: =F81*10^5/100 -> -0.28893073 | H81: =2*7.292*10^(-5)*SIN(E81*PI()/180) -> 1.5589259e-05 | I81: =(I80+dp_dy*(1+EXP(-(ABS(E80)-displ)/9*sharpness))^(-alpha)/(H80*rho))*COS(H80*time_step*3600)+J80*SIN(H80*time_step*3600)-dp_dy*(1+EXP(-(ABS(E80)-displ)/9*sharpness))^(-alpha)/(H80*rho) -> 1.7837504 | J81: =-(I80+dp_dy*(1+EXP(-(ABS(E80)-displ)/9*sharpness))^(-alpha)/(H80*rho))*SIN(H80*time_step*3600)+J80*COS(H80*time_step*3600) -> 13.203036 | U81: =U80+9 -> 36 | V81: =(1+EXP(-(U81-displ)/9*sharpness))^(-alpha) -> 0.31479902 | X81: =V81*$D$4 -> -1.1332765
A82: =A81+time_step -> 5.4166667 | B82: =B81+((I81+dp_dy*(1+EXP(-(ABS(E81)-displ)/9*sharpness))^(-alpha)/(H81*rho))/H81*SIN(H81*time_step*3600)-J81/H81*COS(H81*time_step*3600)-dp_dy*(1+EXP(-(ABS(E81)-displ)/9*sharpness))^(-alpha)*time_step*3600/(H81*rho)+J81/H81)/1000 -> 11.48469 | C82: =C81+((I81+dp_dy*(1+EXP(-(ABS(E81)-displ)/9*sharpness))^(-alpha)/(H81*rho))/H81*COS(H81*time_step*3600)+J81/H81*SIN(H81*time_step*3600)-(I81+dp_dy*(1+EXP(-(ABS(E81)-displ)/9*sharpness))^(-alpha)/(H81*rho))/H81)/1000 -> 130.31595 | D82: =B82 -> 11.48469 | E82: =360*(init_km_from_eq+C82)/(2*PI()*6.37*10^3) -> 6.1721434 | F82: =dp_dy*(1+EXP(-(ABS(E81)-displ)/9*sharpness))^(-alpha) -> -0.00028945299 | G82: =F82*10^5/100 -> -0.28945299 | H82: =2*7.292*10^(-5)*SIN(E82*PI()/180) -> 1.5680133e-05 | I82: =(I81+dp_dy*(1+EXP(-(ABS(E81)-displ)/9*sharpness))^(-alpha)/(H81*rho))*COS(H81*time_step*3600)+J81*SIN(H81*time_step*3600)-dp_dy*(1+EXP(-(ABS(E81)-displ)/9*sharpness))^(-alpha)/(H81*rho) -> 1.845986 | J82: =-(I81+dp_dy*(1+EXP(-(ABS(E81)-displ)/9*sharpness))^(-alpha)/(H81*rho))*SIN(H81*time_step*3600)+J81*COS(H81*time_step*3600) -> 13.411638 | U82: =U81+9 -> 45 | V82: =(1+EXP(-(U82-displ)/9*sharpness))^(-alpha) -> 0.43099867 | X82: =V82*$D$4 -> -1.5515952
A83: =A82+time_step -> 5.5 | B83: =B82+((I82+dp_dy*(1+EXP(-(ABS(E82)-displ)/9*sharpness))^(-alpha)/(H82*rho))/H82*SIN(H82*time_step*3600)-J82/H82*COS(H82*time_step*3600)-dp_dy*(1+EXP(-(ABS(E82)-displ)/9*sharpness))^(-alpha)*time_step*3600/(H82*rho)+J82/H82)/1000 -> 12.047998 | C83: =C82+((I82+dp_dy*(1+EXP(-(ABS(E82)-displ)/9*sharpness))^(-alpha)/(H82*rho))/H82*COS(H82*time_step*3600)+J82/H82*SIN(H82*time_step*3600)-(I82+dp_dy*(1+EXP(-(ABS(E82)-displ)/9*sharpness))^(-alpha)/(H82*rho))/H82)/1000 -> 134.37074 | D83: =B83 -> 12.047998 | E83: =360*(init_km_from_eq+C83)/(2*PI()*6.37*10^3) -> 6.2086148 | F83: =dp_dy*(1+EXP(-(ABS(E82)-displ)/9*sharpness))^(-alpha) -> -0.00028998444 | G83: =F83*10^5/100 -> -0.28998444 | H83: =2*7.292*10^(-5)*SIN(E83*PI()/180) -> 1.5772426e-05 | I83: =(I82+dp_dy*(1+EXP(-(ABS(E82)-displ)/9*sharpness))^(-alpha)/(H82*rho))*COS(H82*time_step*3600)+J82*SIN(H82*time_step*3600)-dp_dy*(1+EXP(-(ABS(E82)-displ)/9*sharpness))^(-alpha)/(H82*rho) -> 1.9095658 | J83: =-(I82+dp_dy*(1+EXP(-(ABS(E82)-displ)/9*sharpness))^(-alpha)/(H82*rho))*SIN(H82*time_step*3600)+J82*COS(H82*time_step*3600) -> 13.620294 | U83: =U82+9 -> 54 | V83: =(1+EXP(-(U83-displ)/9*sharpness))^(-alpha) -> 0.55532806 | X83: =V83*$D$4 -> -1.999181
A84: =A83+time_step -> 5.5833333 | B84: =B83+((I83+dp_dy*(1+EXP(-(ABS(E83)-displ)/9*sharpness))^(-alpha)/(H83*rho))/H83*SIN(H83*time_step*3600)-J83/H83*COS(H83*time_step*3600)-dp_dy*(1+EXP(-(ABS(E83)-displ)/9*sharpness))^(-alpha)*time_step*3600/(H83*rho)+J83/H83)/1000 -> 12.630584 | C84: =C83+((I83+dp_dy*(1+EXP(-(ABS(E83)-displ)/9*sharpness))^(-alpha)/(H83*rho))/H83*COS(H83*time_step*3600)+J83/H83*SIN(H83*time_step*3600)-(I83+dp_dy*(1+EXP(-(ABS(E83)-displ)/9*sharpness))^(-alpha)/(H83*rho))/H83)/1000 -> 138.48815 | D84: =B84 -> 12.630584 | E84: =360*(init_km_from_eq+C84)/(2*PI()*6.37*10^3) -> 6.2456493 | F84: =dp_dy*(1+EXP(-(ABS(E83)-displ)/9*sharpness))^(-alpha) -> -0.00029052513 | G84: =F84*10^5/100 -> -0.29052513 | H84: =2*7.292*10^(-5)*SIN(E84*PI()/180) -> 1.5866137e-05 | I84: =(I83+dp_dy*(1+EXP(-(ABS(E83)-displ)/9*sharpness))^(-alpha)/(H83*rho))*COS(H83*time_step*3600)+J83*SIN(H83*time_step*3600)-dp_dy*(1+EXP(-(ABS(E83)-displ)/9*sharpness))^(-alpha)/(H83*rho) -> 1.9745072 | J84: =-(I83+dp_dy*(1+EXP(-(ABS(E83)-displ)/9*sharpness))^(-alpha)/(H83*rho))*SIN(H83*time_step*3600)+J83*COS(H83*time_step*3600) -> 13.828999 | U84: =U83+9 -> 63 | V84: =(1+EXP(-(U84-displ)/9*sharpness))^(-alpha) -> 0.67309618 | X84: =V84*$D$4 -> -2.4231462
... A87: =A86+time_step -> 5.8333333 | B87: =B86+((I86+dp_dy*(1+EXP(-(ABS(E86)-displ)/9*sharpness))^(-alpha)/(H86*rho))/H86*SIN(H86*time_step*3600)-J86/H86*COS(H86*time_step*3600)-dp_dy*(1+EXP(-(ABS(E86)-displ)/9*sharpness))^(-alpha)*time_step*3600/(H86*rho)+J86/H86)/1000 -> 14.49815 | C87: =C86+((I86+dp_dy*(1+EXP(-(ABS(E86)-displ)/9*sharpness))^(-alpha)/(H86*rho))/H86*COS(H86*time_step*3600)+J86/H86*SIN(H86*time_step*3600)-(I86+dp_dy*(1+EXP(-(ABS(E86)-displ)/9*sharpness))^(-alpha)/(H86*rho))/H86)/1000 -> 151.21611 | D87: =B87 -> 14.49815 | E87: =360*(init_km_from_eq+C87)/(2*PI()*6.37*10^3) -> 6.3601327 | F87: =dp_dy*(1+EXP(-(ABS(E86)-displ)/9*sharpness))^(-alpha) -> -0.00029220313 | G87: =F87*10^5/100 -> -0.29220313 | H87: =2*7.292*10^(-5)*SIN(E87*PI()/180) -> 1.615578e-05 | I87: =(I86+dp_dy*(1+EXP(-(ABS(E86)-displ)/9*sharpness))^(-alpha)/(H86*rho))*COS(H86*time_step*3600)+J86*SIN(H86*time_step*3600)-dp_dy*(1+EXP(-(ABS(E86)-displ)/9*sharpness))^(-alpha)/(H86*rho) -> 2.1776797 | J87: =-(I86+dp_dy*(1+EXP(-(ABS(E86)-displ)/9*sharpness))^(-alpha)/(H86*rho))*SIN(H86*time_step*3600)+J86*COS(H86*time_step*3600) -> 14.45537 | U87: =U86+9 -> 90 | V87: =(1+EXP(-(U87-displ)/9*sharpness))^(-alpha) -> 0.9022274 | X87: =V87*$D$4 -> -3.2480186
A88: =A87+time_step -> 5.9166667 | B88: =B87+((I87+dp_dy*(1+EXP(-(ABS(E87)-displ)/9*sharpness))^(-alpha)/(H87*rho))/H87*SIN(H87*time_step*3600)-J87/H87*COS(H87*time_step*3600)-dp_dy*(1+EXP(-(ABS(E87)-displ)/9*sharpness))^(-alpha)*time_step*3600/(H87*rho)+J87/H87)/1000 -> 15.162013 | C88: =C87+((I87+dp_dy*(1+EXP(-(ABS(E87)-displ)/9*sharpness))^(-alpha)/(H87*rho))/H87*COS(H87*time_step*3600)+J87/H87*SIN(H87*time_step*3600)-(I87+dp_dy*(1+EXP(-(ABS(E87)-displ)/9*sharpness))^(-alpha)/(H87*rho))/H87)/1000 -> 155.58406 | D88: =B88 -> 15.162013 | E88: =360*(init_km_from_eq+C88)/(2*PI()*6.37*10^3) -> 6.3994207 | F88: =dp_dy*(1+EXP(-(ABS(E87)-displ)/9*sharpness))^(-alpha) -> -0.00029278126 | G88: =F88*10^5/100 -> -0.29278126 | H88: =2*7.292*10^(-5)*SIN(E88*PI()/180) -> 1.6255164e-05 | I88: =(I87+dp_dy*(1+EXP(-(ABS(E87)-displ)/9*sharpness))^(-alpha)/(H87*rho))*COS(H87*time_step*3600)+J87*SIN(H87*time_step*3600)-dp_dy*(1+EXP(-(ABS(E87)-displ)/9*sharpness))^(-alpha)/(H87*rho) -> 2.2482473 | J88: =-(I87+dp_dy*(1+EXP(-(ABS(E87)-displ)/9*sharpness))^(-alpha)/(H87*rho))*SIN(H87*time_step*3600)+J87*COS(H87*time_step*3600) -> 14.664231
A89: =A88+time_step -> 6 | B89: =B88+((I88+dp_dy*(1+EXP(-(ABS(E88)-displ)/9*sharpness))^(-alpha)/(H88*rho))/H88*SIN(H88*time_step*3600)-J88/H88*COS(H88*time_step*3600)-dp_dy*(1+EXP(-(ABS(E88)-displ)/9*sharpness))^(-alpha)*time_step*3600/(H88*rho)+J88/H88)/1000 -> 15.847265 | C89: =C88+((I88+dp_dy*(1+EXP(-(ABS(E88)-displ)/9*sharpness))^(-alpha)/(H88*rho))/H88*COS(H88*time_step*3600)+J88/H88*SIN(H88*time_step*3600)-(I88+dp_dy*(1+EXP(-(ABS(E88)-displ)/9*sharpness))^(-alpha)/(H88*rho))/H88)/1000 -> 160.01467 | D89: =B89 -> 15.847265 | E89: =360*(init_km_from_eq+C89)/(2*PI()*6.37*10^3) -> 6.4392724 | F89: =dp_dy*(1+EXP(-(ABS(E88)-displ)/9*sharpness))^(-alpha) -> -0.00029336887 | G89: =F89*10^5/100 -> -0.29336887 | H89: =2*7.292*10^(-5)*SIN(E89*PI()/180) -> 1.6355966e-05 | I89: =(I88+dp_dy*(1+EXP(-(ABS(E88)-displ)/9*sharpness))^(-alpha)/(H88*rho))*COS(H88*time_step*3600)+J88*SIN(H88*time_step*3600)-dp_dy*(1+EXP(-(ABS(E88)-displ)/9*sharpness))^(-alpha)/(H88*rho) -> 2.3202676 | J89: =-(I88+dp_dy*(1+EXP(-(ABS(E88)-displ)/9*sharpness))^(-alpha)/(H88*rho))*SIN(H88*time_step*3600)+J88*COS(H88*time_step*3600) -> 14.873118
A90: =A89+time_step -> 6.0833333 | B90: =B89+((I89+dp_dy*(1+EXP(-(ABS(E89)-displ)/9*sharpness))^(-alpha)/(H89*rho))/H89*SIN(H89*time_step*3600)-J89/H89*COS(H89*time_step*3600)-dp_dy*(1+EXP(-(ABS(E89)-displ)/9*sharpness))^(-alpha)*time_step*3600/(H89*rho)+J89/H89)/1000 -> 16.554344 | C90: =C89+((I89+dp_dy*(1+EXP(-(ABS(E89)-displ)/9*sharpness))^(-alpha)/(H89*rho))/H89*COS(H89*time_step*3600)+J89/H89*SIN(H89*time_step*3600)-(I89+dp_dy*(1+EXP(-(ABS(E89)-displ)/9*sharpness))^(-alpha)/(H89*rho))/H89)/1000 -> 164.50795 | D90: =B90 -> 16.554344 | E90: =360*(init_km_from_eq+C90)/(2*PI()*6.37*10^3) -> 6.4796878 | F90: =dp_dy*(1+EXP(-(ABS(E89)-displ)/9*sharpness))^(-alpha) -> -0.00029396601 | G90: =F90*10^5/100 -> -0.29396601 | H90: =2*7.292*10^(-5)*SIN(E90*PI()/180) -> 1.6458186e-05 | I90: =(I89+dp_dy*(1+EXP(-(ABS(E89)-displ)/9*sharpness))^(-alpha)/(H89*rho))*COS(H89*time_step*3600)+J89*SIN(H89*time_step*3600)-dp_dy*(1+EXP(-(ABS(E89)-displ)/9*sharpness))^(-alpha)/(H89*rho) -> 2.3937595 | J90: =-(I89+dp_dy*(1+EXP(-(ABS(E89)-displ)/9*sharpness))^(-alpha)/(H89*rho))*SIN(H89*time_step*3600)+J89*COS(H89*time_step*3600) -> 15.082028
A91: =A90+time_step -> 6.1666667 | B91: =B90+((I90+dp_dy*(1+EXP(-(ABS(E90)-displ)/9*sharpness))^(-alpha)/(H90*rho))/H90*SIN(H90*time_step*3600)-J90/H90*COS(H90*time_step*3600)-dp_dy*(1+EXP(-(ABS(E90)-displ)/9*sharpness))^(-alpha)*time_step*3600/(H90*rho)+J90/H90)/1000 -> 17.283693 | C91: =C90+((I90+dp_dy*(1+EXP(-(ABS(E90)-displ)/9*sharpness))^(-alpha)/(H90*rho))/H90*COS(H90*time_step*3600)+J90/H90*SIN(H90*time_step*3600)-(I90+dp_dy*(1+EXP(-(ABS(E90)-displ)/9*sharpness))^(-alpha)/(H90*rho))/H90)/1000 -> 169.06391 | D91: =B91 -> 17.283693 | E91: =360*(init_km_from_eq+C91)/(2*PI()*6.37*10^3) -> 6.520667 | F91: =dp_dy*(1+EXP(-(ABS(E90)-displ)/9*sharpness))^(-alpha) -> -0.00029457272 | G91: =F91*10^5/100 -> -0.29457272 | H91: =2*7.292*10^(-5)*SIN(E91*PI()/180) -> 1.6561823e-05 | I91: =(I90+dp_dy*(1+EXP(-(ABS(E90)-displ)/9*sharpness))^(-alpha)/(H90*rho))*COS(H90*time_step*3600)+J90*SIN(H90*time_step*3600)-dp_dy*(1+EXP(-(ABS(E90)-displ)/9*sharpness))^(-alpha)/(H90*rho) -> 2.4687423 | J91: =-(I90+dp_dy*(1+EXP(-(ABS(E90)-displ)/9*sharpness))^(-alpha)/(H90*rho))*SIN(H90*time_step*3600)+J90*COS(H90*time_step*3600) -> 15.290954
A92: =A91+time_step -> 6.25 | B92: =B91+((I91+dp_dy*(1+EXP(-(ABS(E91)-displ)/9*sharpness))^(-alpha)/(H91*rho))/H91*SIN(H91*time_step*3600)-J91/H91*COS(H91*time_step*3600)-dp_dy*(1+EXP(-(ABS(E91)-displ)/9*sharpness))^(-alpha)*time_step*3600/(H91*rho)+J91/H91)/1000 -> 18.035764 | C92: =C91+((I91+dp_dy*(1+EXP(-(ABS(E91)-displ)/9*sharpness))^(-alpha)/(H91*rho))/H91*COS(H91*time_step*3600)+J91/H91*SIN(H91*time_step*3600)-(I91+dp_dy*(1+EXP(-(ABS(E91)-displ)/9*sharpness))^(-alpha)/(H91*rho))/H91)/1000 -> 173.68255 | D92: =B92 -> 18.035764 | E92: =360*(init_km_from_eq+C92)/(2*PI()*6.37*10^3) -> 6.5622099 | F92: =dp_dy*(1+EXP(-(ABS(E91)-displ)/9*sharpness))^(-alpha) -> -0.00029518906 | G92: =F92*10^5/100 -> -0.29518906 | H92: =2*7.292*10^(-5)*SIN(E92*PI()/180) -> 1.6666877e-05 | I92: =(I91+dp_dy*(1+EXP(-(ABS(E91)-displ)/9*sharpness))^(-alpha)/(H91*rho))*COS(H91*time_step*3600)+J91*SIN(H91*time_step*3600)-dp_dy*(1+EXP(-(ABS(E91)-displ)/9*sharpness))^(-alpha)/(H91*rho) -> 2.5452354 | J92: =-(I91+dp_dy*(1+EXP(-(ABS(E91)-displ)/9*sharpness))^(-alpha)/(H91*rho))*SIN(H91*time_step*3600)+J91*COS(H91*time_step*3600) -> 15.49989
A93: =A92+time_step -> 6.3333333 | B93: =B92+((I92+dp_dy*(1+EXP(-(ABS(E92)-displ)/9*sharpness))^(-alpha)/(H92*rho))/H92*SIN(H92*time_step*3600)-J92/H92*COS(H92*time_step*3600)-dp_dy*(1+EXP(-(ABS(E92)-displ)/9*sharpness))^(-alpha)*time_step*3600/(H92*rho)+J92/H92)/1000 -> 18.811012 | C93: =C92+((I92+dp_dy*(1+EXP(-(ABS(E92)-displ)/9*sharpness))^(-alpha)/(H92*rho))/H92*COS(H92*time_step*3600)+J92/H92*SIN(H92*time_step*3600)-(I92+dp_dy*(1+EXP(-(ABS(E92)-displ)/9*sharpness))^(-alpha)/(H92*rho))/H92)/1000 -> 178.36386 | D93: =B93 -> 18.811012 | E93: =360*(init_km_from_eq+C93)/(2*PI()*6.37*10^3) -> 6.6043166 | F93: =dp_dy*(1+EXP(-(ABS(E92)-displ)/9*sharpness))^(-alpha) -> -0.00029581508 | G93: =F93*10^5/100 -> -0.29581508 | H93: =2*7.292*10^(-5)*SIN(E93*PI()/180) -> 1.6773349e-05 | I93: =(I92+dp_dy*(1+EXP(-(ABS(E92)-displ)/9*sharpness))^(-alpha)/(H92*rho))*COS(H92*time_step*3600)+J92*SIN(H92*time_step*3600)-dp_dy*(1+EXP(-(ABS(E92)-displ)/9*sharpness))^(-alpha)/(H92*rho) -> 2.6232583 | J93: =-(I92+dp_dy*(1+EXP(-(ABS(E92)-displ)/9*sharpness))^(-alpha)/(H92*rho))*SIN(H92*time_step*3600)+J92*COS(H92*time_step*3600) -> 15.70883
A94: =A93+time_step -> 6.4166667 | B94: =B93+((I93+dp_dy*(1+EXP(-(ABS(E93)-displ)/9*sharpness))^(-alpha)/(H93*rho))/H93*SIN(H93*time_step*3600)-J93/H93*COS(H93*time_step*3600)-dp_dy*(1+EXP(-(ABS(E93)-displ)/9*sharpness))^(-alpha)*time_step*3600/(H93*rho)+J93/H93)/1000 -> 19.609899 | C94: =C93+((I93+dp_dy*(1+EXP(-(ABS(E93)-displ)/9*sharpness))^(-alpha)/(H93*rho))/H93*COS(H93*time_step*3600)+J93/H93*SIN(H93*time_step*3600)-(I93+dp_dy*(1+EXP(-(ABS(E93)-displ)/9*sharpness))^(-alpha)/(H93*rho))/H93)/1000 -> 183.10786 | D94: =B94 -> 19.609899 | E94: =360*(init_km_from_eq+C94)/(2*PI()*6.37*10^3) -> 6.6469871 | F94: =dp_dy*(1+EXP(-(ABS(E93)-displ)/9*sharpness))^(-alpha) -> -0.00029645083 | G94: =F94*10^5/100 -> -0.29645083 | H94: =2*7.292*10^(-5)*SIN(E94*PI()/180) -> 1.6881236e-05 | I94: =(I93+dp_dy*(1+EXP(-(ABS(E93)-displ)/9*sharpness))^(-alpha)/(H93*rho))*COS(H93*time_step*3600)+J93*SIN(H93*time_step*3600)-dp_dy*(1+EXP(-(ABS(E93)-displ)/9*sharpness))^(-alpha)/(H93*rho) -> 2.7028311 | J94: =-(I93+dp_dy*(1+EXP(-(ABS(E93)-displ)/9*sharpness))^(-alpha)/(H93*rho))*SIN(H93*time_step*3600)+J93*COS(H93*time_step*3600) -> 15.917768
A95: =A94+time_step -> 6.5 | B95: =B94+((I94+dp_dy*(1+EXP(-(ABS(E94)-displ)/9*sharpness))^(-alpha)/(H94*rho))/H94*SIN(H94*time_step*3600)-J94/H94*COS(H94*time_step*3600)-dp_dy*(1+EXP(-(ABS(E94)-displ)/9*sharpness))^(-alpha)*time_step*3600/(H94*rho)+J94/H94)/1000 -> 20.432893 | C95: =C94+((I94+dp_dy*(1+EXP(-(ABS(E94)-displ)/9*sharpness))^(-alpha)/(H94*rho))/H94*COS(H94*time_step*3600)+J94/H94*SIN(H94*time_step*3600)-(I94+dp_dy*(1+EXP(-(ABS(E94)-displ)/9*sharpness))^(-alpha)/(H94*rho))/H94)/1000 -> 187.91454 | D95: =B95 -> 20.432893 | E95: =360*(init_km_from_eq+C95)/(2*PI()*6.37*10^3) -> 6.6902214 | F95: =dp_dy*(1+EXP(-(ABS(E94)-displ)/9*sharpness))^(-alpha) -> -0.00029709636 | G95: =F95*10^5/100 -> -0.29709636 | H95: =2*7.292*10^(-5)*SIN(E95*PI()/180) -> 1.699054e-05 | I95: =(I94+dp_dy*(1+EXP(-(ABS(E94)-displ)/9*sharpness))^(-alpha)/(H94*rho))*COS(H94*time_step*3600)+J94*SIN(H94*time_step*3600)-dp_dy*(1+EXP(-(ABS(E94)-displ)/9*sharpness))^(-alpha)/(H94*rho) -> 2.7839738 | J95: =-(I94+dp_dy*(1+EXP(-(ABS(E94)-displ)/9*sharpness))^(-alpha)/(H94*rho))*SIN(H94*time_step*3600)+J94*COS(H94*time_step*3600) -> 16.126697
A96: =A95+time_step -> 6.5833333 | B96: =B95+((I95+dp_dy*(1+EXP(-(ABS(E95)-displ)/9*sharpness))^(-alpha)/(H95*rho))/H95*SIN(H95*time_step*3600)-J95/H95*COS(H95*time_step*3600)-dp_dy*(1+EXP(-(ABS(E95)-displ)/9*sharpness))^(-alpha)*time_step*3600/(H95*rho)+J95/H95)/1000 -> 21.280469 | C96: =C95+((I95+dp_dy*(1+EXP(-(ABS(E95)-displ)/9*sharpness))^(-alpha)/(H95*rho))/H95*COS(H95*time_step*3600)+J95/H95*SIN(H95*time_step*3600)-(I95+dp_dy*(1+EXP(-(ABS(E95)-displ)/9*sharpness))^(-alpha)/(H95*rho))/H95)/1000 -> 192.7839 | D96: =B96 -> 21.280469 | E96: =360*(init_km_from_eq+C96)/(2*PI()*6.37*10^3) -> 6.7340194 | F96: =dp_dy*(1+EXP(-(ABS(E95)-displ)/9*sharpness))^(-alpha) -> -0.00029775172 | G96: =F96*10^5/100 -> -0.29775172 | H96: =2*7.292*10^(-5)*SIN(E96*PI()/180) -> 1.7101259e-05 | I96: =(I95+dp_dy*(1+EXP(-(ABS(E95)-displ)/9*sharpness))^(-alpha)/(H95*rho))*COS(H95*time_step*3600)+J95*SIN(H95*time_step*3600)-dp_dy*(1+EXP(-(ABS(E95)-displ)/9*sharpness))^(-alpha)/(H95*rho) -> 2.8667068 | J96: =-(I95+dp_dy*(1+EXP(-(ABS(E95)-displ)/9*sharpness))^(-alpha)/(H95*rho))*SIN(H95*time_step*3600)+J95*COS(H95*time_step*3600) -> 16.33561
A97: =A96+time_step -> 6.6666667 | B97: =B96+((I96+dp_dy*(1+EXP(-(ABS(E96)-displ)/9*sharpness))^(-alpha)/(H96*rho))/H96*SIN(H96*time_step*3600)-J96/H96*COS(H96*time_step*3600)-dp_dy*(1+EXP(-(ABS(E96)-displ)/9*sharpness))^(-alpha)*time_step*3600/(H96*rho)+J96/H96)/1000 -> 22.153105 | C97: =C96+((I96+dp_dy*(1+EXP(-(ABS(E96)-displ)/9*sharpness))^(-alpha)/(H96*rho))/H96*COS(H96*time_step*3600)+J96/H96*SIN(H96*time_step*3600)-(I96+dp_dy*(1+EXP(-(ABS(E96)-displ)/9*sharpness))^(-alpha)/(H96*rho))/H96)/1000 -> 197.71593 | D97: =B97 -> 22.153105 | E97: =360*(init_km_from_eq+C97)/(2*PI()*6.37*10^3) -> 6.7783812 | F97: =dp_dy*(1+EXP(-(ABS(E96)-displ)/9*sharpness))^(-alpha) -> -0.00029841697 | G97: =F97*10^5/100 -> -0.29841697 | H97: =2*7.292*10^(-5)*SIN(E97*PI()/180) -> 1.7213392e-05 | I97: =(I96+dp_dy*(1+EXP(-(ABS(E96)-displ)/9*sharpness))^(-alpha)/(H96*rho))*COS(H96*time_step*3600)+J96*SIN(H96*time_step*3600)-dp_dy*(1+EXP(-(ABS(E96)-displ)/9*sharpness))^(-alpha)/(H96*rho) -> 2.9510506 | J97: =-(I96+dp_dy*(1+EXP(-(ABS(E96)-displ)/9*sharpness))^(-alpha)/(H96*rho))*SIN(H96*time_step*3600)+J96*COS(H96*time_step*3600) -> 16.5445
A98: =A97+time_step -> 6.75 | B98: =B97+((I97+dp_dy*(1+EXP(-(ABS(E97)-displ)/9*sharpness))^(-alpha)/(H97*rho))/H97*SIN(H97*time_step*3600)-J97/H97*COS(H97*time_step*3600)-dp_dy*(1+EXP(-(ABS(E97)-displ)/9*sharpness))^(-alpha)*time_step*3600/(H97*rho)+J97/H97)/1000 -> 23.05129 | C98: =C97+((I97+dp_dy*(1+EXP(-(ABS(E97)-displ)/9*sharpness))^(-alpha)/(H97*rho))/H97*COS(H97*time_step*3600)+J97/H97*SIN(H97*time_step*3600)-(I97+dp_dy*(1+EXP(-(ABS(E97)-displ)/9*sharpness))^(-alpha)/(H97*rho))/H97)/1000 -> 202.71062 | D98: =B98 -> 23.05129 | E98: =360*(init_km_from_eq+C98)/(2*PI()*6.37*10^3) -> 6.8233066 | F98: =dp_dy*(1+EXP(-(ABS(E97)-displ)/9*sharpness))^(-alpha) -> -0.00029909216 | G98: =F98*10^5/100 -> -0.29909216 | H98: =2*7.292*10^(-5)*SIN(E98*PI()/180) -> 1.732694e-05 | I98: =(I97+dp_dy*(1+EXP(-(ABS(E97)-displ)/9*sharpness))^(-alpha)/(H97*rho))*COS(H97*time_step*3600)+J97*SIN(H97*time_step*3600)-dp_dy*(1+EXP(-(ABS(E97)-displ)/9*sharpness))^(-alpha)/(H97*rho) -> 3.0370262 | J98: =-(I97+dp_dy*(1+EXP(-(ABS(E97)-displ)/9*sharpness))^(-alpha)/(H97*rho))*SIN(H97*time_step*3600)+J97*COS(H97*time_step*3600) -> 16.753358
A99: =A98+time_step -> 6.8333333 | B99: =B98+((I98+dp_dy*(1+EXP(-(ABS(E98)-displ)/9*sharpness))^(-alpha)/(H98*rho))/H98*SIN(H98*time_step*3600)-J98/H98*COS(H98*time_step*3600)-dp_dy*(1+EXP(-(ABS(E98)-displ)/9*sharpness))^(-alpha)*time_step*3600/(H98*rho)+J98/H98)/1000 -> 23.975515 | C99: =C98+((I98+dp_dy*(1+EXP(-(ABS(E98)-displ)/9*sharpness))^(-alpha)/(H98*rho))/H98*COS(H98*time_step*3600)+J98/H98*SIN(H98*time_step*3600)-(I98+dp_dy*(1+EXP(-(ABS(E98)-displ)/9*sharpness))^(-alpha)/(H98*rho))/H98)/1000 -> 207.76796 | D99: =B99 -> 23.975515 | E99: =360*(init_km_from_eq+C99)/(2*PI()*6.37*10^3) -> 6.8687955 | F99: =dp_dy*(1+EXP(-(ABS(E98)-displ)/9*sharpness))^(-alpha) -> -0.00029977735 | G99: =F99*10^5/100 -> -0.29977735 | H99: =2*7.292*10^(-5)*SIN(E99*PI()/180) -> 1.7441902e-05 | I99: =(I98+dp_dy*(1+EXP(-(ABS(E98)-displ)/9*sharpness))^(-alpha)/(H98*rho))*COS(H98*time_step*3600)+J98*SIN(H98*time_step*3600)-dp_dy*(1+EXP(-(ABS(E98)-displ)/9*sharpness))^(-alpha)/(H98*rho) -> 3.1246545 | J99: =-(I98+dp_dy*(1+EXP(-(ABS(E98)-displ)/9*sharpness))^(-alpha)/(H98*rho))*SIN(H98*time_step*3600)+J98*COS(H98*time_step*3600) -> 16.962177
... A400: =A399+time_step -> 31.916667 | B400: =B399+((I399+dp_dy*(1+EXP(-(ABS(E399)-displ)/9*sharpness))^(-alpha)/(H399*rho))/H399*SIN(H399*time_step*3600)-J399/H399*COS(H399*time_step*3600)-dp_dy*(1+EXP(-(ABS(E399)-displ)/9*sharpness))^(-alpha)*time_step*3600/(H399*rho)+J399/H399)/1000 -> 3396.652 | C400: =C399+((I399+dp_dy*(1+EXP(-(ABS(E399)-displ)/9*sharpness))^(-alpha)/(H399*rho))/H399*COS(H399*time_step*3600)+J399/H399*SIN(H399*time_step*3600)-(I399+dp_dy*(1+EXP(-(ABS(E399)-displ)/9*sharpness))^(-alpha)/(H399*rho))/H399)/1000 -> 1414.0093 | D400: =B400 -> 3396.652 | E400: =360*(init_km_from_eq+C400)/(2*PI()*6.37*10^3) -> 17.718488 | F400: =dp_dy*(1+EXP(-(ABS(E399)-displ)/9*sharpness))^(-alpha) -> -0.00051570972 | G400: =F400*10^5/100 -> -0.51570972 | H400: =2*7.292*10^(-5)*SIN(E400*PI()/180) -> 4.438501e-05 | I400: =(I399+dp_dy*(1+EXP(-(ABS(E399)-displ)/9*sharpness))^(-alpha)/(H399*rho))*COS(H399*time_step*3600)+J399*SIN(H399*time_step*3600)-dp_dy*(1+EXP(-(ABS(E399)-displ)/9*sharpness))^(-alpha)/(H399*rho) -> 40.332564 | J400: =-(I399+dp_dy*(1+EXP(-(ABS(E399)-displ)/9*sharpness))^(-alpha)/(H399*rho))*SIN(H399*time_step*3600)+J399*COS(H399*time_step*3600) -> -32.660445

Sheet Traj 3
C2: Enter:
C3: air density r | D3: 0.4 | E3: kg m-3 | F3: 1.225 | G3: kg m-3 at MSL | I3: 0.4 | J3: kg m-3 at tropopause
C4: N-S pressure gradient at pole | D4: ='Traj 1'!D4 -> -3.6 | E4: hPa 100km-1
C5: = | D5: =D4*100/10^5 -> -0.0036 | E5: Pa m-1
C6: inflection of NS press. gradient | D6: 0.5 | E6: see diagram to right
C7: initial latitude | D7: ='Multiple trajectories'!H3 -> 10 | E7: deg | H7: =2*PI()*6.37*10^3*IF(latitude=0,10^(-6),latitude)/360 -> 1111.7747 | I7: km from equator (y distance) | L7: where f = | M7: =2*7.292*10^(-5)*SIN(360*H7/(2*PI()*6.37*10^3)*PI()/180) -> 2.532485e-05 | N7: s-1
C8: f = | D8: =2*7.292*10^(-5)*SIN(IF(latitude=0,10^(-6),latitude)*PI()/180) -> 2.532485e-05 | E8: s-1 | L8: =IF(latitude>0,"Air parcel initially in Northern Hemisphere",IF(latitude=0,"Air parcel initially at equator","Air parcel initially in Southern Hemisphere")) -> Air parcel initially in Northern Hemisphere
B10: initial velocity | C10: uo = | D10: 0 | E10: m s-1
C11: vo = | D11: 0 | E11: m s-1 | L11: Equator is at | M11: =-init_km_from_eq -> -1111.7747 | N11: km on y-axis
C13: time-step = | D13: ='Multiple trajectories'!C3 -> 0.083333333 | E13: hr | I13: max u:
I14: =MAX(I17:I400) -> 59.436178 | J14: m s-1
F15: dp/dy | G15: dp/dy
A16: time (hr) | B16: x (km) | C16: y (km) | D16: =B16 -> x (km) | E16: lat (deg) | F16: Pa m-1 | G16: hPa 100km-1 | H16: f (s-1) | I16: u (ms-1) | J16: v (ms-1)
A17: 0 | B17: =((uo+dp_dy/(f*rho))/f*SIN(f*A17*3600)-vo/f*COS(f*A17*3600)-dp_dy*A17*3600/(f*rho)+vo/f)/1000 -> 0 | C17: =((uo+dp_dy/(f*rho))/f*COS(f*A17*3600)+vo/f*SIN(f*A17*3600)-(uo+dp_dy/(f*rho))/f)/1000 -> 0 | D17: =B17 -> 0 | E17: =IF(latitude=0,10^(-6),latitude) -> 10 | F17: =dp_dy*(1+EXP(-(ABS(E17)-displ)/9*sharpness))^(-alpha) -> -0.00035198136 | G17: =F17*10^5/100 -> -0.35198136 | H17: =2*7.292*10^(-5)*SIN(E17*PI()/180) -> 2.532485e-05 | I17: =(uo+dp_dy/(f*rho))*COS(f*$A17*3600)+vo*SIN(f*$A17*3600)-dp_dy/(f*rho) -> 0 | J17: =-(uo+dp_dy/(f*rho))*SIN(f*$A17*3600)+vo*COS(f*$A17*3600) -> 0
A18: =A17+time_step -> 0.083333333 | B18: =B17+((I17+dp_dy*(1+EXP(-(ABS(E17)-displ)/9*sharpness))^(-alpha)/(H17*rho))/H17*SIN(H17*time_step*3600)-J17/H17*COS(H17*time_step*3600)-dp_dy*(1+EXP(-(ABS(E17)-displ)/9*sharpness))^(-alpha)*time_step*3600/(H17*rho)+J17/H17)/1000 -> 0.00010028081 | C18: =C17+((I17+dp_dy*(1+EXP(-(ABS(E17)-displ)/9*sharpness))^(-alpha)/(H17*rho))/H17*COS(H17*time_step*3600)+J17/H17*SIN(H17*time_step*3600)-(I17+dp_dy*(1+EXP(-(ABS(E17)-displ)/9*sharpness))^(-alpha)/(H17*rho))/H17)/1000 -> 0.039597712 | D18: =B18 -> 0.00010028081 | E18: =360*(init_km_from_eq+C18)/(2*PI()*6.37*10^3) -> 10.000356 | F18: =dp_dy*(1+EXP(-(ABS(E17)-displ)/9*sharpness))^(-alpha) -> -0.00035198136 | G18: =F18*10^5/100 -> -0.35198136 | H18: =2*7.292*10^(-5)*SIN(E18*PI()/180) -> 2.5325743e-05 | I18: =(I17+dp_dy*(1+EXP(-(ABS(E17)-displ)/9*sharpness))^(-alpha)/(H17*rho))*COS(H17*time_step*3600)+J17*SIN(H17*time_step*3600)-dp_dy*(1+EXP(-(ABS(E17)-displ)/9*sharpness))^(-alpha)/(H17*rho) -> 0.0010028061 | J18: =-(I17+dp_dy*(1+EXP(-(ABS(E17)-displ)/9*sharpness))^(-alpha)/(H17*rho))*SIN(H17*time_step*3600)+J17*COS(H17*time_step*3600) -> 0.26398348
A19: =A18+time_step -> 0.16666667 | B19: =B18+((I18+dp_dy*(1+EXP(-(ABS(E18)-displ)/9*sharpness))^(-alpha)/(H18*rho))/H18*SIN(H18*time_step*3600)-J18/H18*COS(H18*time_step*3600)-dp_dy*(1+EXP(-(ABS(E18)-displ)/9*sharpness))^(-alpha)*time_step*3600/(H18*rho)+J18/H18)/1000 -> 0.00080225544 | C19: =C18+((I18+dp_dy*(1+EXP(-(ABS(E18)-displ)/9*sharpness))^(-alpha)/(H18*rho))/H18*COS(H18*time_step*3600)+J18/H18*SIN(H18*time_step*3600)-(I18+dp_dy*(1+EXP(-(ABS(E18)-displ)/9*sharpness))^(-alpha)/(H18*rho))/H18)/1000 -> 0.15838927 | D19: =B19 -> 0.00080225544 | E19: =360*(init_km_from_eq+C19)/(2*PI()*6.37*10^3) -> 10.001425 | F19: =dp_dy*(1+EXP(-(ABS(E18)-displ)/9*sharpness))^(-alpha) -> -0.00035198764 | G19: =F19*10^5/100 -> -0.35198764 | H19: =2*7.292*10^(-5)*SIN(E19*PI()/180) -> 2.5328421e-05 | I19: =(I18+dp_dy*(1+EXP(-(ABS(E18)-displ)/9*sharpness))^(-alpha)/(H18*rho))*COS(H18*time_step*3600)+J18*SIN(H18*time_step*3600)-dp_dy*(1+EXP(-(ABS(E18)-displ)/9*sharpness))^(-alpha)/(H18*rho) -> 0.0040112906 | J19: =-(I18+dp_dy*(1+EXP(-(ABS(E18)-displ)/9*sharpness))^(-alpha)/(H18*rho))*SIN(H18*time_step*3600)+J18*COS(H18*time_step*3600) -> 0.52795643
A20: =A19+time_step -> 0.25 | B20: =B19+((I19+dp_dy*(1+EXP(-(ABS(E19)-displ)/9*sharpness))^(-alpha)/(H19*rho))/H19*SIN(H19*time_step*3600)-J19/H19*COS(H19*time_step*3600)-dp_dy*(1+EXP(-(ABS(E19)-displ)/9*sharpness))^(-alpha)*time_step*3600/(H19*rho)+J19/H19)/1000 -> 0.0027076839 | C20: =C19+((I19+dp_dy*(1+EXP(-(ABS(E19)-displ)/9*sharpness))^(-alpha)/(H19*rho))/H19*COS(H19*time_step*3600)+J19/H19*SIN(H19*time_step*3600)-(I19+dp_dy*(1+EXP(-(ABS(E19)-displ)/9*sharpness))^(-alpha)/(H19*rho))/H19)/1000 -> 0.35637065 | D20: =B20 -> 0.0027076839 | E20: =360*(init_km_from_eq+C20)/(2*PI()*6.37*10^3) -> 10.003205 | F20: =dp_dy*(1+EXP(-(ABS(E19)-displ)/9*sharpness))^(-alpha) -> -0.00035200649 | G20: =F20*10^5/100 -> -0.35200649 | H20: =2*7.292*10^(-5)*SIN(E20*PI()/180) -> 2.5332885e-05 | I20: =(I19+dp_dy*(1+EXP(-(ABS(E19)-displ)/9*sharpness))^(-alpha)/(H19*rho))*COS(H19*time_step*3600)+J19*SIN(H19*time_step*3600)-dp_dy*(1+EXP(-(ABS(E19)-displ)/9*sharpness))^(-alpha)/(H19*rho) -> 0.0090258463 | J20: =-(I19+dp_dy*(1+EXP(-(ABS(E19)-displ)/9*sharpness))^(-alpha)/(H19*rho))*SIN(H19*time_step*3600)+J19*COS(H19*time_step*3600) -> 0.79191304
A21: =A20+time_step -> 0.33333333 | B21: =B20+((I20+dp_dy*(1+EXP(-(ABS(E20)-displ)/9*sharpness))^(-alpha)/(H20*rho))/H20*SIN(H20*time_step*3600)-J20/H20*COS(H20*time_step*3600)-dp_dy*(1+EXP(-(ABS(E20)-displ)/9*sharpness))^(-alpha)*time_step*3600/(H20*rho)+J20/H20)/1000 -> 0.006418501 | C21: =C20+((I20+dp_dy*(1+EXP(-(ABS(E20)-displ)/9*sharpness))^(-alpha)/(H20*rho))/H20*COS(H20*time_step*3600)+J20/H20*SIN(H20*time_step*3600)-(I20+dp_dy*(1+EXP(-(ABS(E20)-displ)/9*sharpness))^(-alpha)/(H20*rho))/H20)/1000 -> 0.63353606 | D21: =B21 -> 0.006418501 | E21: =360*(init_km_from_eq+C21)/(2*PI()*6.37*10^3) -> 10.005698 | F21: =dp_dy*(1+EXP(-(ABS(E20)-displ)/9*sharpness))^(-alpha) -> -0.00035203792 | G21: =F21*10^5/100 -> -0.35203792 | H21: =2*7.292*10^(-5)*SIN(E21*PI()/180) -> 2.5339134e-05 | I21: =(I20+dp_dy*(1+EXP(-(ABS(E20)-displ)/9*sharpness))^(-alpha)/(H20*rho))*COS(H20*time_step*3600)+J20*SIN(H20*time_step*3600)-dp_dy*(1+EXP(-(ABS(E20)-displ)/9*sharpness))^(-alpha)/(H20*rho) -> 0.016047246 | J21: =-(I20+dp_dy*(1+EXP(-(ABS(E20)-displ)/9*sharpness))^(-alpha)/(H20*rho))*SIN(H20*time_step*3600)+J20*COS(H20*time_step*3600) -> 1.0558475
A22: =A21+time_step -> 0.41666667 | B22: =B21+((I21+dp_dy*(1+EXP(-(ABS(E21)-displ)/9*sharpness))^(-alpha)/(H21*rho))/H21*SIN(H21*time_step*3600)-J21/H21*COS(H21*time_step*3600)-dp_dy*(1+EXP(-(ABS(E21)-displ)/9*sharpness))^(-alpha)*time_step*3600/(H21*rho)+J21/H21)/1000 -> 0.01253693 | C22: =C21+((I21+dp_dy*(1+EXP(-(ABS(E21)-displ)/9*sharpness))^(-alpha)/(H21*rho))/H21*COS(H21*time_step*3600)+J21/H21*SIN(H21*time_step*3600)-(I21+dp_dy*(1+EXP(-(ABS(E21)-displ)/9*sharpness))^(-alpha)/(H21*rho))/H21)/1000 -> 0.98987798 | D22: =B22 -> 0.01253693 | E22: =360*(init_km_from_eq+C22)/(2*PI()*6.37*10^3) -> 10.008904 | F22: =dp_dy*(1+EXP(-(ABS(E21)-displ)/9*sharpness))^(-alpha) -> -0.00035208191 | G22: =F22*10^5/100 -> -0.35208191 | H22: =2*7.292*10^(-5)*SIN(E22*PI()/180) -> 2.5347169e-05 | I22: =(I21+dp_dy*(1+EXP(-(ABS(E21)-displ)/9*sharpness))^(-alpha)/(H21*rho))*COS(H21*time_step*3600)+J21*SIN(H21*time_step*3600)-dp_dy*(1+EXP(-(ABS(E21)-displ)/9*sharpness))^(-alpha)/(H21*rho) -> 0.025076642 | J22: =-(I21+dp_dy*(1+EXP(-(ABS(E21)-displ)/9*sharpness))^(-alpha)/(H21*rho))*SIN(H21*time_step*3600)+J21*COS(H21*time_step*3600) -> 1.3197539
A23: =A22+time_step -> 0.5 | B23: =B22+((I22+dp_dy*(1+EXP(-(ABS(E22)-displ)/9*sharpness))^(-alpha)/(H22*rho))/H22*SIN(H22*time_step*3600)-J22/H22*COS(H22*time_step*3600)-dp_dy*(1+EXP(-(ABS(E22)-displ)/9*sharpness))^(-alpha)*time_step*3600/(H22*rho)+J22/H22)/1000 -> 0.021665598 | C23: =C22+((I22+dp_dy*(1+EXP(-(ABS(E22)-displ)/9*sharpness))^(-alpha)/(H22*rho))/H22*COS(H22*time_step*3600)+J22/H22*SIN(H22*time_step*3600)-(I22+dp_dy*(1+EXP(-(ABS(E22)-displ)/9*sharpness))^(-alpha)/(H22*rho))/H22)/1000 -> 1.4253871 | D23: =B23 -> 0.021665598 | E23: =360*(init_km_from_eq+C23)/(2*PI()*6.37*10^3) -> 10.012821 | F23: =dp_dy*(1+EXP(-(ABS(E22)-displ)/9*sharpness))^(-alpha) -> -0.00035213847 | G23: =F23*10^5/100 -> -0.35213847 | H23: =2*7.292*10^(-5)*SIN(E23*PI()/180) -> 2.5356988e-05 | I23: =(I22+dp_dy*(1+EXP(-(ABS(E22)-displ)/9*sharpness))^(-alpha)/(H22*rho))*COS(H22*time_step*3600)+J22*SIN(H22*time_step*3600)-dp_dy*(1+EXP(-(ABS(E22)-displ)/9*sharpness))^(-alpha)/(H22*rho) -> 0.036115565 | J23: =-(I22+dp_dy*(1+EXP(-(ABS(E22)-displ)/9*sharpness))^(-alpha)/(H22*rho))*SIN(H22*time_step*3600)+J22*COS(H22*time_step*3600) -> 1.5836263
A24: =A23+time_step -> 0.58333333 | B24: =B23+((I23+dp_dy*(1+EXP(-(ABS(E23)-displ)/9*sharpness))^(-alpha)/(H23*rho))/H23*SIN(H23*time_step*3600)-J23/H23*COS(H23*time_step*3600)-dp_dy*(1+EXP(-(ABS(E23)-displ)/9*sharpness))^(-alpha)*time_step*3600/(H23*rho)+J23/H23)/1000 -> 0.034407647 | C24: =C23+((I23+dp_dy*(1+EXP(-(ABS(E23)-displ)/9*sharpness))^(-alpha)/(H23*rho))/H23*COS(H23*time_step*3600)+J23/H23*SIN(H23*time_step*3600)-(I23+dp_dy*(1+EXP(-(ABS(E23)-displ)/9*sharpness))^(-alpha)/(H23*rho))/H23)/1000 -> 1.9400524 | D24: =B24 -> 0.034407647 | E24: =360*(init_km_from_eq+C24)/(2*PI()*6.37*10^3) -> 10.01745 | F24: =dp_dy*(1+EXP(-(ABS(E23)-displ)/9*sharpness))^(-alpha) -> -0.00035220762 | G24: =F24*10^5/100 -> -0.35220762 | H24: =2*7.292*10^(-5)*SIN(E24*PI()/180) -> 2.5368591e-05 | I24: =(I23+dp_dy*(1+EXP(-(ABS(E23)-displ)/9*sharpness))^(-alpha)/(H23*rho))*COS(H23*time_step*3600)+J23*SIN(H23*time_step*3600)-dp_dy*(1+EXP(-(ABS(E23)-displ)/9*sharpness))^(-alpha)/(H23*rho) -> 0.049165926 | J24: =-(I23+dp_dy*(1+EXP(-(ABS(E23)-displ)/9*sharpness))^(-alpha)/(H23*rho))*SIN(H23*time_step*3600)+J23*COS(H23*time_step*3600) -> 1.847459
A25: =A24+time_step -> 0.66666667 | B25: =B24+((I24+dp_dy*(1+EXP(-(ABS(E24)-displ)/9*sharpness))^(-alpha)/(H24*rho))/H24*SIN(H24*time_step*3600)-J24/H24*COS(H24*time_step*3600)-dp_dy*(1+EXP(-(ABS(E24)-displ)/9*sharpness))^(-alpha)*time_step*3600/(H24*rho)+J24/H24)/1000 -> 0.051366848 | C25: =C24+((I24+dp_dy*(1+EXP(-(ABS(E24)-displ)/9*sharpness))^(-alpha)/(H24*rho))/H24*COS(H24*time_step*3600)+J24/H24*SIN(H24*time_step*3600)-(I24+dp_dy*(1+EXP(-(ABS(E24)-displ)/9*sharpness))^(-alpha)/(H24*rho))/H24)/1000 -> 2.5338609 | D25: =B25 -> 0.051366848 | E25: =360*(init_km_from_eq+C25)/(2*PI()*6.37*10^3) -> 10.022791 | F25: =dp_dy*(1+EXP(-(ABS(E24)-displ)/9*sharpness))^(-alpha) -> -0.00035228934 | G25: =F25*10^5/100 -> -0.35228934 | H25: =2*7.292*10^(-5)*SIN(E25*PI()/180) -> 2.5381979e-05 | I25: =(I24+dp_dy*(1+EXP(-(ABS(E24)-displ)/9*sharpness))^(-alpha)/(H24*rho))*COS(H24*time_step*3600)+J24*SIN(H24*time_step*3600)-dp_dy*(1+EXP(-(ABS(E24)-displ)/9*sharpness))^(-alpha)/(H24*rho) -> 0.064230013 | J25: =-(I24+dp_dy*(1+EXP(-(ABS(E24)-displ)/9*sharpness))^(-alpha)/(H24*rho))*SIN(H24*time_step*3600)+J24*COS(H24*time_step*3600) -> 2.1112457
A26: =A25+time_step -> 0.75 | B26: =B25+((I25+dp_dy*(1+EXP(-(ABS(E25)-displ)/9*sharpness))^(-alpha)/(H25*rho))/H25*SIN(H25*time_step*3600)-J25/H25*COS(H25*time_step*3600)-dp_dy*(1+EXP(-(ABS(E25)-displ)/9*sharpness))^(-alpha)*time_step*3600/(H25*rho)+J25/H25)/1000 -> 0.073147718 | C26: =C25+((I25+dp_dy*(1+EXP(-(ABS(E25)-displ)/9*sharpness))^(-alpha)/(H25*rho))/H25*COS(H25*time_step*3600)+J25/H25*SIN(H25*time_step*3600)-(I25+dp_dy*(1+EXP(-(ABS(E25)-displ)/9*sharpness))^(-alpha)/(H25*rho))/H25)/1000 -> 3.2067982 | D26: =B26 -> 0.073147718 | E26: =360*(init_km_from_eq+C26)/(2*PI()*6.37*10^3) -> 10.028844 | F26: =dp_dy*(1+EXP(-(ABS(E25)-displ)/9*sharpness))^(-alpha) -> -0.00035238366 | G26: =F26*10^5/100 -> -0.35238366 | H26: =2*7.292*10^(-5)*SIN(E26*PI()/180) -> 2.5397151e-05 | I26: =(I25+dp_dy*(1+EXP(-(ABS(E25)-displ)/9*sharpness))^(-alpha)/(H25*rho))*COS(H25*time_step*3600)+J25*SIN(H25*time_step*3600)-dp_dy*(1+EXP(-(ABS(E25)-displ)/9*sharpness))^(-alpha)/(H25*rho) -> 0.081310491 | J26: =-(I25+dp_dy*(1+EXP(-(ABS(E25)-displ)/9*sharpness))^(-alpha)/(H25*rho))*SIN(H25*time_step*3600)+J25*COS(H25*time_step*3600) -> 2.3749806
A27: =A26+time_step -> 0.83333333 | B27: =B26+((I26+dp_dy*(1+EXP(-(ABS(E26)-displ)/9*sharpness))^(-alpha)/(H26*rho))/H26*SIN(H26*time_step*3600)-J26/H26*COS(H26*time_step*3600)-dp_dy*(1+EXP(-(ABS(E26)-displ)/9*sharpness))^(-alpha)*time_step*3600/(H26*rho)+J26/H26)/1000 -> 0.10035563 | C27: =C26+((I26+dp_dy*(1+EXP(-(ABS(E26)-displ)/9*sharpness))^(-alpha)/(H26*rho))/H26*COS(H26*time_step*3600)+J26/H26*SIN(H26*time_step*3600)-(I26+dp_dy*(1+EXP(-(ABS(E26)-displ)/9*sharpness))^(-alpha)/(H26*rho))/H26)/1000 -> 3.9588475 | D27: =B27 -> 0.10035563 | E27: =360*(init_km_from_eq+C27)/(2*PI()*6.37*10^3) -> 10.035608 | F27: =dp_dy*(1+EXP(-(ABS(E26)-displ)/9*sharpness))^(-alpha) -> -0.00035249057 | G27: =F27*10^5/100 -> -0.35249057 | H27: =2*7.292*10^(-5)*SIN(E27*PI()/180) -> 2.5414105e-05 | I27: =(I26+dp_dy*(1+EXP(-(ABS(E26)-displ)/9*sharpness))^(-alpha)/(H26*rho))*COS(H26*time_step*3600)+J26*SIN(H26*time_step*3600)-dp_dy*(1+EXP(-(ABS(E26)-displ)/9*sharpness))^(-alpha)/(H26*rho) -> 0.1004104 | J27: =-(I26+dp_dy*(1+EXP(-(ABS(E26)-displ)/9*sharpness))^(-alpha)/(H26*rho))*SIN(H26*time_step*3600)+J26*COS(H26*time_step*3600) -> 2.6386576
A28: =A27+time_step -> 0.91666667 | B28: =B27+((I27+dp_dy*(1+EXP(-(ABS(E27)-displ)/9*sharpness))^(-alpha)/(H27*rho))/H27*SIN(H27*time_step*3600)-J27/H27*COS(H27*time_step*3600)-dp_dy*(1+EXP(-(ABS(E27)-displ)/9*sharpness))^(-alpha)*time_step*3600/(H27*rho)+J27/H27)/1000 -> 0.13359692 | C28: =C27+((I27+dp_dy*(1+EXP(-(ABS(E27)-displ)/9*sharpness))^(-alpha)/(H27*rho))/H27*COS(H27*time_step*3600)+J27/H27*SIN(H27*time_step*3600)-(I27+dp_dy*(1+EXP(-(ABS(E27)-displ)/9*sharpness))^(-alpha)/(H27*rho))/H27)/1000 -> 4.7899907 | D28: =B28 -> 0.13359692 | E28: =360*(init_km_from_eq+C28)/(2*PI()*6.37*10^3) -> 10.043084 | F28: =dp_dy*(1+EXP(-(ABS(E27)-displ)/9*sharpness))^(-alpha) -> -0.00035261008 | G28: =F28*10^5/100 -> -0.35261008 | H28: =2*7.292*10^(-5)*SIN(E28*PI()/180) -> 2.5432843e-05 | I28: =(I27+dp_dy*(1+EXP(-(ABS(E27)-displ)/9*sharpness))^(-alpha)/(H27*rho))*COS(H27*time_step*3600)+J27*SIN(H27*time_step*3600)-dp_dy*(1+EXP(-(ABS(E27)-displ)/9*sharpness))^(-alpha)/(H27*rho) -> 0.12153316 | J28: =-(I27+dp_dy*(1+EXP(-(ABS(E27)-displ)/9*sharpness))^(-alpha)/(H27*rho))*SIN(H27*time_step*3600)+J27*COS(H27*time_step*3600) -> 2.9022703
A29: =A28+time_step -> 1 | B29: =B28+((I28+dp_dy*(1+EXP(-(ABS(E28)-displ)/9*sharpness))^(-alpha)/(H28*rho))/H28*SIN(H28*time_step*3600)-J28/H28*COS(H28*time_step*3600)-dp_dy*(1+EXP(-(ABS(E28)-displ)/9*sharpness))^(-alpha)*time_step*3600/(H28*rho)+J28/H28)/1000 -> 0.17347901 | C29: =C28+((I28+dp_dy*(1+EXP(-(ABS(E28)-displ)/9*sharpness))^(-alpha)/(H28*rho))/H28*COS(H28*time_step*3600)+J28/H28*SIN(H28*time_step*3600)-(I28+dp_dy*(1+EXP(-(ABS(E28)-displ)/9*sharpness))^(-alpha)/(H28*rho))/H28)/1000 -> 5.7002076 | D29: =B29 -> 0.17347901 | E29: =360*(init_km_from_eq+C29)/(2*PI()*6.37*10^3) -> 10.051271 | F29: =dp_dy*(1+EXP(-(ABS(E28)-displ)/9*sharpness))^(-alpha) -> -0.00035274221 | G29: =F29*10^5/100 -> -0.35274221 | H29: =2*7.292*10^(-5)*SIN(E29*PI()/180) -> 2.5453363e-05 | I29: =(I28+dp_dy*(1+EXP(-(ABS(E28)-displ)/9*sharpness))^(-alpha)/(H28*rho))*COS(H28*time_step*3600)+J28*SIN(H28*time_step*3600)-dp_dy*(1+EXP(-(ABS(E28)-displ)/9*sharpness))^(-alpha)/(H28*rho) -> 0.14468257 | J29: =-(I28+dp_dy*(1+EXP(-(ABS(E28)-displ)/9*sharpness))^(-alpha)/(H28*rho))*SIN(H28*time_step*3600)+J28*COS(H28*time_step*3600) -> 3.1658127
... A65: =A64+time_step -> 4 | B65: =B64+((I64+dp_dy*(1+EXP(-(ABS(E64)-displ)/9*sharpness))^(-alpha)/(H64*rho))/H64*SIN(H64*time_step*3600)-J64/H64*COS(H64*time_step*3600)-dp_dy*(1+EXP(-(ABS(E64)-displ)/9*sharpness))^(-alpha)*time_step*3600/(H64*rho)+J64/H64)/1000 -> 11.316651 | C65: =C64+((I64+dp_dy*(1+EXP(-(ABS(E64)-displ)/9*sharpness))^(-alpha)/(H64*rho))/H64*COS(H64*time_step*3600)+J64/H64*SIN(H64*time_step*3600)-(I64+dp_dy*(1+EXP(-(ABS(E64)-displ)/9*sharpness))^(-alpha)/(H64*rho))/H64)/1000 -> 90.779548 | D65: =B65 -> 11.316651 | E65: =360*(init_km_from_eq+C65)/(2*PI()*6.37*10^3) -> 10.816528 | F65: =dp_dy*(1+EXP(-(ABS(E64)-displ)/9*sharpness))^(-alpha) -> -0.00036603988 | G65: =F65*10^5/100 -> -0.36603988 | H65: =2*7.292*10^(-5)*SIN(E65*PI()/180) -> 2.7369015e-05 | I65: =(I64+dp_dy*(1+EXP(-(ABS(E64)-displ)/9*sharpness))^(-alpha)/(H64*rho))*COS(H64*time_step*3600)+J64*SIN(H64*time_step*3600)-dp_dy*(1+EXP(-(ABS(E64)-displ)/9*sharpness))^(-alpha)/(H64*rho) -> 2.389232 | J65: =-(I64+dp_dy*(1+EXP(-(ABS(E64)-displ)/9*sharpness))^(-alpha)/(H64*rho))*SIN(H64*time_step*3600)+J64*COS(H64*time_step*3600) -> 12.540809
A66: =A65+time_step -> 4.0833333 | B66: =B65+((I65+dp_dy*(1+EXP(-(ABS(E65)-displ)/9*sharpness))^(-alpha)/(H65*rho))/H65*SIN(H65*time_step*3600)-J65/H65*COS(H65*time_step*3600)-dp_dy*(1+EXP(-(ABS(E65)-displ)/9*sharpness))^(-alpha)*time_step*3600/(H65*rho)+J65/H65)/1000 -> 12.048971 | C66: =C65+((I65+dp_dy*(1+EXP(-(ABS(E65)-displ)/9*sharpness))^(-alpha)/(H65*rho))/H65*COS(H65*time_step*3600)+J65/H65*SIN(H65*time_step*3600)-(I65+dp_dy*(1+EXP(-(ABS(E65)-displ)/9*sharpness))^(-alpha)/(H65*rho))/H65)/1000 -> 94.580055 | D66: =B66 -> 12.048971 | E66: =360*(init_km_from_eq+C66)/(2*PI()*6.37*10^3) -> 10.850712 | F66: =dp_dy*(1+EXP(-(ABS(E65)-displ)/9*sharpness))^(-alpha) -> -0.00036665223 | G66: =F66*10^5/100 -> -0.36665223 | H66: =2*7.292*10^(-5)*SIN(E66*PI()/180) -> 2.7454477e-05 | I66: =(I65+dp_dy*(1+EXP(-(ABS(E65)-displ)/9*sharpness))^(-alpha)/(H65*rho))*COS(H65*time_step*3600)+J65*SIN(H65*time_step*3600)-dp_dy*(1+EXP(-(ABS(E65)-displ)/9*sharpness))^(-alpha)/(H65*rho) -> 2.4932481 | J66: =-(I65+dp_dy*(1+EXP(-(ABS(E65)-displ)/9*sharpness))^(-alpha)/(H65*rho))*SIN(H65*time_step*3600)+J65*COS(H65*time_step*3600) -> 12.795756 | V66: P-grad slope
A67: =A66+time_step -> 4.1666667 | B67: =B66+((I66+dp_dy*(1+EXP(-(ABS(E66)-displ)/9*sharpness))^(-alpha)/(H66*rho))/H66*SIN(H66*time_step*3600)-J66/H66*COS(H66*time_step*3600)-dp_dy*(1+EXP(-(ABS(E66)-displ)/9*sharpness))^(-alpha)*time_step*3600/(H66*rho)+J66/H66)/1000 -> 12.812859 | C67: =C66+((I66+dp_dy*(1+EXP(-(ABS(E66)-displ)/9*sharpness))^(-alpha)/(H66*rho))/H66*COS(H66*time_step*3600)+J66/H66*SIN(H66*time_step*3600)-(I66+dp_dy*(1+EXP(-(ABS(E66)-displ)/9*sharpness))^(-alpha)/(H66*rho))/H66)/1000 -> 98.456976 | D67: =B67 -> 12.812859 | E67: =360*(init_km_from_eq+C67)/(2*PI()*6.37*10^3) -> 10.885584 | F67: =dp_dy*(1+EXP(-(ABS(E66)-displ)/9*sharpness))^(-alpha) -> -0.0003672781 | G67: =F67*10^5/100 -> -0.3672781 | H67: =2*7.292*10^(-5)*SIN(E67*PI()/180) -> 2.7541646e-05 | I67: =(I66+dp_dy*(1+EXP(-(ABS(E66)-displ)/9*sharpness))^(-alpha)/(H66*rho))*COS(H66*time_step*3600)+J66*SIN(H66*time_step*3600)-dp_dy*(1+EXP(-(ABS(E66)-displ)/9*sharpness))^(-alpha)/(H66*rho) -> 2.5996869 | J67: =-(I66+dp_dy*(1+EXP(-(ABS(E66)-displ)/9*sharpness))^(-alpha)/(H66*rho))*SIN(H66*time_step*3600)+J66*COS(H66*time_step*3600) -> 13.050242 | V67: displ | W67: alpha
A68: =A67+time_step -> 4.25 | B68: =B67+((I67+dp_dy*(1+EXP(-(ABS(E67)-displ)/9*sharpness))^(-alpha)/(H67*rho))/H67*SIN(H67*time_step*3600)-J67/H67*COS(H67*time_step*3600)-dp_dy*(1+EXP(-(ABS(E67)-displ)/9*sharpness))^(-alpha)*time_step*3600/(H67*rho)+J67/H67)/1000 -> 13.609044 | C68: =C67+((I67+dp_dy*(1+EXP(-(ABS(E67)-displ)/9*sharpness))^(-alpha)/(H67*rho))/H67*COS(H67*time_step*3600)+J67/H67*SIN(H67*time_step*3600)-(I67+dp_dy*(1+EXP(-(ABS(E67)-displ)/9*sharpness))^(-alpha)/(H67*rho))/H67)/1000 -> 102.41017 | D68: =B68 -> 13.609044 | E68: =360*(init_km_from_eq+C68)/(2*PI()*6.37*10^3) -> 10.921141 | F68: =dp_dy*(1+EXP(-(ABS(E67)-displ)/9*sharpness))^(-alpha) -> -0.00036791753 | G68: =F68*10^5/100 -> -0.36791753 | H68: =2*7.292*10^(-5)*SIN(E68*PI()/180) -> 2.763052e-05 | I68: =(I67+dp_dy*(1+EXP(-(ABS(E67)-displ)/9*sharpness))^(-alpha)/(H67*rho))*COS(H67*time_step*3600)+J67*SIN(H67*time_step*3600)-dp_dy*(1+EXP(-(ABS(E67)-displ)/9*sharpness))^(-alpha)/(H67*rho) -> 2.7085645 | J68: =-(I67+dp_dy*(1+EXP(-(ABS(E67)-displ)/9*sharpness))^(-alpha)/(H67*rho))*SIN(H67*time_step*3600)+J67*COS(H67*time_step*3600) -> 13.304252 | V68: 50 | W68: 1
A69: =A68+time_step -> 4.3333333 | B69: =B68+((I68+dp_dy*(1+EXP(-(ABS(E68)-displ)/9*sharpness))^(-alpha)/(H68*rho))/H68*SIN(H68*time_step*3600)-J68/H68*COS(H68*time_step*3600)-dp_dy*(1+EXP(-(ABS(E68)-displ)/9*sharpness))^(-alpha)*time_step*3600/(H68*rho)+J68/H68)/1000 -> 14.438261 | C69: =C68+((I68+dp_dy*(1+EXP(-(ABS(E68)-displ)/9*sharpness))^(-alpha)/(H68*rho))/H68*COS(H68*time_step*3600)+J68/H68*SIN(H68*time_step*3600)-(I68+dp_dy*(1+EXP(-(ABS(E68)-displ)/9*sharpness))^(-alpha)/(H68*rho))/H68)/1000 -> 106.4395 | D69: =B69 -> 14.438261 | E69: =360*(init_km_from_eq+C69)/(2*PI()*6.37*10^3) -> 10.957384 | F69: =dp_dy*(1+EXP(-(ABS(E68)-displ)/9*sharpness))^(-alpha) -> -0.00036857056 | G69: =F69*10^5/100 -> -0.36857056 | H69: =2*7.292*10^(-5)*SIN(E69*PI()/180) -> 2.7721094e-05 | I69: =(I68+dp_dy*(1+EXP(-(ABS(E68)-displ)/9*sharpness))^(-alpha)/(H68*rho))*COS(H68*time_step*3600)+J68*SIN(H68*time_step*3600)-dp_dy*(1+EXP(-(ABS(E68)-displ)/9*sharpness))^(-alpha)/(H68*rho) -> 2.8198968 | J69: =-(I68+dp_dy*(1+EXP(-(ABS(E68)-displ)/9*sharpness))^(-alpha)/(H68*rho))*SIN(H68*time_step*3600)+J68*COS(H68*time_step*3600) -> 13.557768
A70: =A69+time_step -> 4.4166667 | B70: =B69+((I69+dp_dy*(1+EXP(-(ABS(E69)-displ)/9*sharpness))^(-alpha)/(H69*rho))/H69*SIN(H69*time_step*3600)-J69/H69*COS(H69*time_step*3600)-dp_dy*(1+EXP(-(ABS(E69)-displ)/9*sharpness))^(-alpha)*time_step*3600/(H69*rho)+J69/H69)/1000 -> 15.301248 | C70: =C69+((I69+dp_dy*(1+EXP(-(ABS(E69)-displ)/9*sharpness))^(-alpha)/(H69*rho))/H69*COS(H69*time_step*3600)+J69/H69*SIN(H69*time_step*3600)-(I69+dp_dy*(1+EXP(-(ABS(E69)-displ)/9*sharpness))^(-alpha)/(H69*rho))/H69)/1000 -> 110.5448 | D70: =B70 -> 15.301248 | E70: =360*(init_km_from_eq+C70)/(2*PI()*6.37*10^3) -> 10.994309 | F70: =dp_dy*(1+EXP(-(ABS(E69)-displ)/9*sharpness))^(-alpha) -> -0.00036923722 | G70: =F70*10^5/100 -> -0.36923722 | H70: =2*7.292*10^(-5)*SIN(E70*PI()/180) -> 2.7813365e-05 | I70: =(I69+dp_dy*(1+EXP(-(ABS(E69)-displ)/9*sharpness))^(-alpha)/(H69*rho))*COS(H69*time_step*3600)+J69*SIN(H69*time_step*3600)-dp_dy*(1+EXP(-(ABS(E69)-displ)/9*sharpness))^(-alpha)/(H69*rho) -> 2.9337004 | J70: =-(I69+dp_dy*(1+EXP(-(ABS(E69)-displ)/9*sharpness))^(-alpha)/(H69*rho))*SIN(H69*time_step*3600)+J69*COS(H69*time_step*3600) -> 13.810773
A71: =A70+time_step -> 4.5 | B71: =B70+((I70+dp_dy*(1+EXP(-(ABS(E70)-displ)/9*sharpness))^(-alpha)/(H70*rho))/H70*SIN(H70*time_step*3600)-J70/H70*COS(H70*time_step*3600)-dp_dy*(1+EXP(-(ABS(E70)-displ)/9*sharpness))^(-alpha)*time_step*3600/(H70*rho)+J70/H70)/1000 -> 16.198749 | C71: =C70+((I70+dp_dy*(1+EXP(-(ABS(E70)-displ)/9*sharpness))^(-alpha)/(H70*rho))/H70*COS(H70*time_step*3600)+J70/H70*SIN(H70*time_step*3600)-(I70+dp_dy*(1+EXP(-(ABS(E70)-displ)/9*sharpness))^(-alpha)/(H70*rho))/H70)/1000 -> 114.72593 | D71: =B71 -> 16.198749 | E71: =360*(init_km_from_eq+C71)/(2*PI()*6.37*10^3) -> 11.031917 | F71: =dp_dy*(1+EXP(-(ABS(E70)-displ)/9*sharpness))^(-alpha) -> -0.00036991755 | G71: =F71*10^5/100 -> -0.36991755 | H71: =2*7.292*10^(-5)*SIN(E71*PI()/180) -> 2.7907328e-05 | I71: =(I70+dp_dy*(1+EXP(-(ABS(E70)-displ)/9*sharpness))^(-alpha)/(H70*rho))*COS(H70*time_step*3600)+J70*SIN(H70*time_step*3600)-dp_dy*(1+EXP(-(ABS(E70)-displ)/9*sharpness))^(-alpha)/(H70*rho) -> 3.0499916 | J71: =-(I70+dp_dy*(1+EXP(-(ABS(E70)-displ)/9*sharpness))^(-alpha)/(H70*rho))*SIN(H70*time_step*3600)+J70*COS(H70*time_step*3600) -> 14.063249 | U71: latitude | V71: fraction of p gradient at pole | X71: hPa 100km-1
A72: =A71+time_step -> 4.5833333 | B72: =B71+((I71+dp_dy*(1+EXP(-(ABS(E71)-displ)/9*sharpness))^(-alpha)/(H71*rho))/H71*SIN(H71*time_step*3600)-J71/H71*COS(H71*time_step*3600)-dp_dy*(1+EXP(-(ABS(E71)-displ)/9*sharpness))^(-alpha)*time_step*3600/(H71*rho)+J71/H71)/1000 -> 17.131513 | C72: =C71+((I71+dp_dy*(1+EXP(-(ABS(E71)-displ)/9*sharpness))^(-alpha)/(H71*rho))/H71*COS(H71*time_step*3600)+J71/H71*SIN(H71*time_step*3600)-(I71+dp_dy*(1+EXP(-(ABS(E71)-displ)/9*sharpness))^(-alpha)/(H71*rho))/H71)/1000 -> 118.98272 | D72: =B72 -> 17.131513 | E72: =360*(init_km_from_eq+C72)/(2*PI()*6.37*10^3) -> 11.070205 | F72: =dp_dy*(1+EXP(-(ABS(E71)-displ)/9*sharpness))^(-alpha) -> -0.00037061158 | G72: =F72*10^5/100 -> -0.37061158 | H72: =2*7.292*10^(-5)*SIN(E72*PI()/180) -> 2.8002979e-05 | I72: =(I71+dp_dy*(1+EXP(-(ABS(E71)-displ)/9*sharpness))^(-alpha)/(H71*rho))*COS(H71*time_step*3600)+J71*SIN(H71*time_step*3600)-dp_dy*(1+EXP(-(ABS(E71)-displ)/9*sharpness))^(-alpha)/(H71*rho) -> 3.1687872 | J72: =-(I71+dp_dy*(1+EXP(-(ABS(E71)-displ)/9*sharpness))^(-alpha)/(H71*rho))*SIN(H71*time_step*3600)+J71*COS(H71*time_step*3600) -> 14.315177 | U72: -45 | V72: =(1+EXP(-(U72-displ)/9*sharpness))^(-alpha) -> 0.0050778438 | X72: =V72*$D$4 -> -0.018280238
A73: =A72+time_step -> 4.6666667 | B73: =B72+((I72+dp_dy*(1+EXP(-(ABS(E72)-displ)/9*sharpness))^(-alpha)/(H72*rho))/H72*SIN(H72*time_step*3600)-J72/H72*COS(H72*time_step*3600)-dp_dy*(1+EXP(-(ABS(E72)-displ)/9*sharpness))^(-alpha)*time_step*3600/(H72*rho)+J72/H72)/1000 -> 18.100294 | C73: =C72+((I72+dp_dy*(1+EXP(-(ABS(E72)-displ)/9*sharpness))^(-alpha)/(H72*rho))/H72*COS(H72*time_step*3600)+J72/H72*SIN(H72*time_step*3600)-(I72+dp_dy*(1+EXP(-(ABS(E72)-displ)/9*sharpness))^(-alpha)/(H72*rho))/H72)/1000 -> 123.315 | D73: =B73 -> 18.100294 | E73: =360*(init_km_from_eq+C73)/(2*PI()*6.37*10^3) -> 11.109173 | F73: =dp_dy*(1+EXP(-(ABS(E72)-displ)/9*sharpness))^(-alpha) -> -0.00037131936 | G73: =F73*10^5/100 -> -0.37131936 | H73: =2*7.292*10^(-5)*SIN(E73*PI()/180) -> 2.8100314e-05 | I73: =(I72+dp_dy*(1+EXP(-(ABS(E72)-displ)/9*sharpness))^(-alpha)/(H72*rho))*COS(H72*time_step*3600)+J72*SIN(H72*time_step*3600)-dp_dy*(1+EXP(-(ABS(E72)-displ)/9*sharpness))^(-alpha)/(H72*rho) -> 3.290104 | J73: =-(I72+dp_dy*(1+EXP(-(ABS(E72)-displ)/9*sharpness))^(-alpha)/(H72*rho))*SIN(H72*time_step*3600)+J72*COS(H72*time_step*3600) -> 14.566537 | U73: =U72+9 -> -36 | V73: =(1+EXP(-(U73-displ)/9*sharpness))^(-alpha) -> 0.0083444615 | X73: =V73*$D$4 -> -0.030040062
A74: =A73+time_step -> 4.75 | B74: =B73+((I73+dp_dy*(1+EXP(-(ABS(E73)-displ)/9*sharpness))^(-alpha)/(H73*rho))/H73*SIN(H73*time_step*3600)-J73/H73*COS(H73*time_step*3600)-dp_dy*(1+EXP(-(ABS(E73)-displ)/9*sharpness))^(-alpha)*time_step*3600/(H73*rho)+J73/H73)/1000 -> 19.10585 | C74: =C73+((I73+dp_dy*(1+EXP(-(ABS(E73)-displ)/9*sharpness))^(-alpha)/(H73*rho))/H73*COS(H73*time_step*3600)+J73/H73*SIN(H73*time_step*3600)-(I73+dp_dy*(1+EXP(-(ABS(E73)-displ)/9*sharpness))^(-alpha)/(H73*rho))/H73)/1000 -> 127.72261 | D74: =B74 -> 19.10585 | E74: =360*(init_km_from_eq+C74)/(2*PI()*6.37*10^3) -> 11.148817 | F74: =dp_dy*(1+EXP(-(ABS(E73)-displ)/9*sharpness))^(-alpha) -> -0.00037204091 | G74: =F74*10^5/100 -> -0.37204091 | H74: =2*7.292*10^(-5)*SIN(E74*PI()/180) -> 2.8199328e-05 | I74: =(I73+dp_dy*(1+EXP(-(ABS(E73)-displ)/9*sharpness))^(-alpha)/(H73*rho))*COS(H73*time_step*3600)+J73*SIN(H73*time_step*3600)-dp_dy*(1+EXP(-(ABS(E73)-displ)/9*sharpness))^(-alpha)/(H73*rho) -> 3.4139591 | J74: =-(I73+dp_dy*(1+EXP(-(ABS(E73)-displ)/9*sharpness))^(-alpha)/(H73*rho))*SIN(H73*time_step*3600)+J73*COS(H73*time_step*3600) -> 14.817312 | U74: =U73+9 -> -27 | V74: =(1+EXP(-(U74-displ)/9*sharpness))^(-alpha) -> 0.013683619 | X74: =V74*$D$4 -> -0.049261027
A75: =A74+time_step -> 4.8333333 | B75: =B74+((I74+dp_dy*(1+EXP(-(ABS(E74)-displ)/9*sharpness))^(-alpha)/(H74*rho))/H74*SIN(H74*time_step*3600)-J74/H74*COS(H74*time_step*3600)-dp_dy*(1+EXP(-(ABS(E74)-displ)/9*sharpness))^(-alpha)*time_step*3600/(H74*rho)+J74/H74)/1000 -> 20.148947 | C75: =C74+((I74+dp_dy*(1+EXP(-(ABS(E74)-displ)/9*sharpness))^(-alpha)/(H74*rho))/H74*COS(H74*time_step*3600)+J74/H74*SIN(H74*time_step*3600)-(I74+dp_dy*(1+EXP(-(ABS(E74)-displ)/9*sharpness))^(-alpha)/(H74*rho))/H74)/1000 -> 132.20535 | D75: =B75 -> 20.148947 | E75: =360*(init_km_from_eq+C75)/(2*PI()*6.37*10^3) -> 11.189138 | F75: =dp_dy*(1+EXP(-(ABS(E74)-displ)/9*sharpness))^(-alpha) -> -0.00037277629 | G75: =F75*10^5/100 -> -0.37277629 | H75: =2*7.292*10^(-5)*SIN(E75*PI()/180) -> 2.8300016e-05 | I75: =(I74+dp_dy*(1+EXP(-(ABS(E74)-displ)/9*sharpness))^(-alpha)/(H74*rho))*COS(H74*time_step*3600)+J74*SIN(H74*time_step*3600)-dp_dy*(1+EXP(-(ABS(E74)-displ)/9*sharpness))^(-alpha)/(H74*rho) -> 3.5403695 | J75: =-(I74+dp_dy*(1+EXP(-(ABS(E74)-displ)/9*sharpness))^(-alpha)/(H74*rho))*SIN(H74*time_step*3600)+J74*COS(H74*time_step*3600) -> 15.067479 | U75: =U74+9 -> -18 | V75: =(1+EXP(-(U75-displ)/9*sharpness))^(-alpha) -> 0.022361969 | X75: =V75*$D$4 -> -0.080503089
A76: =A75+time_step -> 4.9166667 | B76: =B75+((I75+dp_dy*(1+EXP(-(ABS(E75)-displ)/9*sharpness))^(-alpha)/(H75*rho))/H75*SIN(H75*time_step*3600)-J75/H75*COS(H75*time_step*3600)-dp_dy*(1+EXP(-(ABS(E75)-displ)/9*sharpness))^(-alpha)*time_step*3600/(H75*rho)+J75/H75)/1000 -> 21.230352 | C76: =C75+((I75+dp_dy*(1+EXP(-(ABS(E75)-displ)/9*sharpness))^(-alpha)/(H75*rho))/H75*COS(H75*time_step*3600)+J75/H75*SIN(H75*time_step*3600)-(I75+dp_dy*(1+EXP(-(ABS(E75)-displ)/9*sharpness))^(-alpha)/(H75*rho))/H75)/1000 -> 136.76305 | D76: =B76 -> 21.230352 | E76: =360*(init_km_from_eq+C76)/(2*PI()*6.37*10^3) -> 11.230133 | F76: =dp_dy*(1+EXP(-(ABS(E75)-displ)/9*sharpness))^(-alpha) -> -0.00037352552 | G76: =F76*10^5/100 -> -0.37352552 | H76: =2*7.292*10^(-5)*SIN(E76*PI()/180) -> 2.8402373e-05 | I76: =(I75+dp_dy*(1+EXP(-(ABS(E75)-displ)/9*sharpness))^(-alpha)/(H75*rho))*COS(H75*time_step*3600)+J75*SIN(H75*time_step*3600)-dp_dy*(1+EXP(-(ABS(E75)-displ)/9*sharpness))^(-alpha)/(H75*rho) -> 3.6693525 | J76: =-(I75+dp_dy*(1+EXP(-(ABS(E75)-displ)/9*sharpness))^(-alpha)/(H75*rho))*SIN(H75*time_step*3600)+J75*COS(H75*time_step*3600) -> 15.31702 | U76: =U75+9 -> -9 | V76: =(1+EXP(-(U76-displ)/9*sharpness))^(-alpha) -> 0.03634146 | X76: =V76*$D$4 -> -0.13082926
A77: =A76+time_step -> 5 | B77: =B76+((I76+dp_dy*(1+EXP(-(ABS(E76)-displ)/9*sharpness))^(-alpha)/(H76*rho))/H76*SIN(H76*time_step*3600)-J76/H76*COS(H76*time_step*3600)-dp_dy*(1+EXP(-(ABS(E76)-displ)/9*sharpness))^(-alpha)*time_step*3600/(H76*rho)+J76/H76)/1000 -> 22.350841 | C77: =C76+((I76+dp_dy*(1+EXP(-(ABS(E76)-displ)/9*sharpness))^(-alpha)/(H76*rho))/H76*COS(H76*time_step*3600)+J76/H76*SIN(H76*time_step*3600)-(I76+dp_dy*(1+EXP(-(ABS(E76)-displ)/9*sharpness))^(-alpha)/(H76*rho))/H76)/1000 -> 141.39552 | D77: =B77 -> 22.350841 | E77: =360*(init_km_from_eq+C77)/(2*PI()*6.37*10^3) -> 11.2718 | F77: =dp_dy*(1+EXP(-(ABS(E76)-displ)/9*sharpness))^(-alpha) -> -0.00037428864 | G77: =F77*10^5/100 -> -0.37428864 | H77: =2*7.292*10^(-5)*SIN(E77*PI()/180) -> 2.8506394e-05 | I77: =(I76+dp_dy*(1+EXP(-(ABS(E76)-displ)/9*sharpness))^(-alpha)/(H76*rho))*COS(H76*time_step*3600)+J76*SIN(H76*time_step*3600)-dp_dy*(1+EXP(-(ABS(E76)-displ)/9*sharpness))^(-alpha)/(H76*rho) -> 3.8009256 | J77: =-(I76+dp_dy*(1+EXP(-(ABS(E76)-displ)/9*sharpness))^(-alpha)/(H76*rho))*SIN(H76*time_step*3600)+J76*COS(H76*time_step*3600) -> 15.565911 | U77: =U76+9 -> 0 | V77: =(1+EXP(-(U77-displ)/9*sharpness))^(-alpha) -> 0.058536903 | X77: =V77*$D$4 -> -0.21073285
A78: =A77+time_step -> 5.0833333 | B78: =B77+((I77+dp_dy*(1+EXP(-(ABS(E77)-displ)/9*sharpness))^(-alpha)/(H77*rho))/H77*SIN(H77*time_step*3600)-J77/H77*COS(H77*time_step*3600)-dp_dy*(1+EXP(-(ABS(E77)-displ)/9*sharpness))^(-alpha)*time_step*3600/(H77*rho)+J77/H77)/1000 -> 23.511192 | C78: =C77+((I77+dp_dy*(1+EXP(-(ABS(E77)-displ)/9*sharpness))^(-alpha)/(H77*rho))/H77*COS(H77*time_step*3600)+J77/H77*SIN(H77*time_step*3600)-(I77+dp_dy*(1+EXP(-(ABS(E77)-displ)/9*sharpness))^(-alpha)/(H77*rho))/H77)/1000 -> 146.10256 | D78: =B78 -> 23.511192 | E78: =360*(init_km_from_eq+C78)/(2*PI()*6.37*10^3) -> 11.314138 | F78: =dp_dy*(1+EXP(-(ABS(E77)-displ)/9*sharpness))^(-alpha) -> -0.00037506569 | G78: =F78*10^5/100 -> -0.37506569 | H78: =2*7.292*10^(-5)*SIN(E78*PI()/180) -> 2.8612074e-05 | I78: =(I77+dp_dy*(1+EXP(-(ABS(E77)-displ)/9*sharpness))^(-alpha)/(H77*rho))*COS(H77*time_step*3600)+J77*SIN(H77*time_step*3600)-dp_dy*(1+EXP(-(ABS(E77)-displ)/9*sharpness))^(-alpha)/(H77*rho) -> 3.9351062 | J78: =-(I77+dp_dy*(1+EXP(-(ABS(E77)-displ)/9*sharpness))^(-alpha)/(H77*rho))*SIN(H77*time_step*3600)+J77*COS(H77*time_step*3600) -> 15.814133 | U78: =U77+9 -> 9 | V78: =(1+EXP(-(U78-displ)/9*sharpness))^(-alpha) -> 0.092980195 | X78: =V78*$D$4 -> -0.3347287
A79: =A78+time_step -> 5.1666667 | B79: =B78+((I78+dp_dy*(1+EXP(-(ABS(E78)-displ)/9*sharpness))^(-alpha)/(H78*rho))/H78*SIN(H78*time_step*3600)-J78/H78*COS(H78*time_step*3600)-dp_dy*(1+EXP(-(ABS(E78)-displ)/9*sharpness))^(-alpha)*time_step*3600/(H78*rho)+J78/H78)/1000 -> 24.712192 | C79: =C78+((I78+dp_dy*(1+EXP(-(ABS(E78)-displ)/9*sharpness))^(-alpha)/(H78*rho))/H78*COS(H78*time_step*3600)+J78/H78*SIN(H78*time_step*3600)-(I78+dp_dy*(1+EXP(-(ABS(E78)-displ)/9*sharpness))^(-alpha)/(H78*rho))/H78)/1000 -> 150.88396 | D79: =B79 -> 24.712192 | E79: =360*(init_km_from_eq+C79)/(2*PI()*6.37*10^3) -> 11.357145 | F79: =dp_dy*(1+EXP(-(ABS(E78)-displ)/9*sharpness))^(-alpha) -> -0.00037585672 | G79: =F79*10^5/100 -> -0.37585672 | H79: =2*7.292*10^(-5)*SIN(E79*PI()/180) -> 2.8719408e-05 | I79: =(I78+dp_dy*(1+EXP(-(ABS(E78)-displ)/9*sharpness))^(-alpha)/(H78*rho))*COS(H78*time_step*3600)+J78*SIN(H78*time_step*3600)-dp_dy*(1+EXP(-(ABS(E78)-displ)/9*sharpness))^(-alpha)/(H78*rho) -> 4.0719119 | J79: =-(I78+dp_dy*(1+EXP(-(ABS(E78)-displ)/9*sharpness))^(-alpha)/(H78*rho))*SIN(H78*time_step*3600)+J78*COS(H78*time_step*3600) -> 16.061663 | U79: =U78+9 -> 18 | V79: =(1+EXP(-(U79-displ)/9*sharpness))^(-alpha) -> 0.14457775 | X79: =V79*$D$4 -> -0.5204799
A80: =A79+time_step -> 5.25 | B80: =B79+((I79+dp_dy*(1+EXP(-(ABS(E79)-displ)/9*sharpness))^(-alpha)/(H79*rho))/H79*SIN(H79*time_step*3600)-J79/H79*COS(H79*time_step*3600)-dp_dy*(1+EXP(-(ABS(E79)-displ)/9*sharpness))^(-alpha)*time_step*3600/(H79*rho)+J79/H79)/1000 -> 25.95463 | C80: =C79+((I79+dp_dy*(1+EXP(-(ABS(E79)-displ)/9*sharpness))^(-alpha)/(H79*rho))/H79*COS(H79*time_step*3600)+J79/H79*SIN(H79*time_step*3600)-(I79+dp_dy*(1+EXP(-(ABS(E79)-displ)/9*sharpness))^(-alpha)/(H79*rho))/H79)/1000 -> 155.73951 | D80: =B80 -> 25.95463 | E80: =360*(init_km_from_eq+C80)/(2*PI()*6.37*10^3) -> 11.400819 | F80: =dp_dy*(1+EXP(-(ABS(E79)-displ)/9*sharpness))^(-alpha) -> -0.00037666174 | G80: =F80*10^5/100 -> -0.37666174 | H80: =2*7.292*10^(-5)*SIN(E80*PI()/180) -> 2.882839e-05 | I80: =(I79+dp_dy*(1+EXP(-(ABS(E79)-displ)/9*sharpness))^(-alpha)/(H79*rho))*COS(H79*time_step*3600)+J79*SIN(H79*time_step*3600)-dp_dy*(1+EXP(-(ABS(E79)-displ)/9*sharpness))^(-alpha)/(H79*rho) -> 4.2113605 | J80: =-(I79+dp_dy*(1+EXP(-(ABS(E79)-displ)/9*sharpness))^(-alpha)/(H79*rho))*SIN(H79*time_step*3600)+J79*COS(H79*time_step*3600) -> 16.308477 | U80: =U79+9 -> 27 | V80: =(1+EXP(-(U80-displ)/9*sharpness))^(-alpha) -> 0.21792873 | X80: =V80*$D$4 -> -0.78454344
A81: =A80+time_step -> 5.3333333 | B81: =B80+((I80+dp_dy*(1+EXP(-(ABS(E80)-displ)/9*sharpness))^(-alpha)/(H80*rho))/H80*SIN(H80*time_step*3600)-J80/H80*COS(H80*time_step*3600)-dp_dy*(1+EXP(-(ABS(E80)-displ)/9*sharpness))^(-alpha)*time_step*3600/(H80*rho)+J80/H80)/1000 -> 27.239301 | C81: =C80+((I80+dp_dy*(1+EXP(-(ABS(E80)-displ)/9*sharpness))^(-alpha)/(H80*rho))/H80*COS(H80*time_step*3600)+J80/H80*SIN(H80*time_step*3600)-(I80+dp_dy*(1+EXP(-(ABS(E80)-displ)/9*sharpness))^(-alpha)/(H80*rho))/H80)/1000 -> 160.66899 | D81: =B81 -> 27.239301 | E81: =360*(init_km_from_eq+C81)/(2*PI()*6.37*10^3) -> 11.445158 | F81: =dp_dy*(1+EXP(-(ABS(E80)-displ)/9*sharpness))^(-alpha) -> -0.00037748081 | G81: =F81*10^5/100 -> -0.37748081 | H81: =2*7.292*10^(-5)*SIN(E81*PI()/180) -> 2.8939014e-05 | I81: =(I80+dp_dy*(1+EXP(-(ABS(E80)-displ)/9*sharpness))^(-alpha)/(H80*rho))*COS(H80*time_step*3600)+J80*SIN(H80*time_step*3600)-dp_dy*(1+EXP(-(ABS(E80)-displ)/9*sharpness))^(-alpha)/(H80*rho) -> 4.3534696 | J81: =-(I80+dp_dy*(1+EXP(-(ABS(E80)-displ)/9*sharpness))^(-alpha)/(H80*rho))*SIN(H80*time_step*3600)+J80*COS(H80*time_step*3600) -> 16.554553 | U81: =U80+9 -> 36 | V81: =(1+EXP(-(U81-displ)/9*sharpness))^(-alpha) -> 0.31479902 | X81: =V81*$D$4 -> -1.1332765
A82: =A81+time_step -> 5.4166667 | B82: =B81+((I81+dp_dy*(1+EXP(-(ABS(E81)-displ)/9*sharpness))^(-alpha)/(H81*rho))/H81*SIN(H81*time_step*3600)-J81/H81*COS(H81*time_step*3600)-dp_dy*(1+EXP(-(ABS(E81)-displ)/9*sharpness))^(-alpha)*time_step*3600/(H81*rho)+J81/H81)/1000 -> 28.567007 | C82: =C81+((I81+dp_dy*(1+EXP(-(ABS(E81)-displ)/9*sharpness))^(-alpha)/(H81*rho))/H81*COS(H81*time_step*3600)+J81/H81*SIN(H81*time_step*3600)-(I81+dp_dy*(1+EXP(-(ABS(E81)-displ)/9*sharpness))^(-alpha)/(H81*rho))/H81)/1000 -> 165.67219 | D82: =B82 -> 28.567007 | E82: =360*(init_km_from_eq+C82)/(2*PI()*6.37*10^3) -> 11.49016 | F82: =dp_dy*(1+EXP(-(ABS(E81)-displ)/9*sharpness))^(-alpha) -> -0.00037831396 | G82: =F82*10^5/100 -> -0.37831396 | H82: =2*7.292*10^(-5)*SIN(E82*PI()/180) -> 2.9051274e-05 | I82: =(I81+dp_dy*(1+EXP(-(ABS(E81)-displ)/9*sharpness))^(-alpha)/(H81*rho))*COS(H81*time_step*3600)+J81*SIN(H81*time_step*3600)-dp_dy*(1+EXP(-(ABS(E81)-displ)/9*sharpness))^(-alpha)/(H81*rho) -> 4.4982571 | J82: =-(I81+dp_dy*(1+EXP(-(ABS(E81)-displ)/9*sharpness))^(-alpha)/(H81*rho))*SIN(H81*time_step*3600)+J81*COS(H81*time_step*3600) -> 16.799866 | U82: =U81+9 -> 45 | V82: =(1+EXP(-(U82-displ)/9*sharpness))^(-alpha) -> 0.43099867 | X82: =V82*$D$4 -> -1.5515952
A83: =A82+time_step -> 5.5 | B83: =B82+((I82+dp_dy*(1+EXP(-(ABS(E82)-displ)/9*sharpness))^(-alpha)/(H82*rho))/H82*SIN(H82*time_step*3600)-J82/H82*COS(H82*time_step*3600)-dp_dy*(1+EXP(-(ABS(E82)-displ)/9*sharpness))^(-alpha)*time_step*3600/(H82*rho)+J82/H82)/1000 -> 29.938553 | C83: =C82+((I82+dp_dy*(1+EXP(-(ABS(E82)-displ)/9*sharpness))^(-alpha)/(H82*rho))/H82*COS(H82*time_step*3600)+J82/H82*SIN(H82*time_step*3600)-(I82+dp_dy*(1+EXP(-(ABS(E82)-displ)/9*sharpness))^(-alpha)/(H82*rho))/H82)/1000 -> 170.74886 | D83: =B83 -> 29.938553 | E83: =360*(init_km_from_eq+C83)/(2*PI()*6.37*10^3) -> 11.535822 | F83: =dp_dy*(1+EXP(-(ABS(E82)-displ)/9*sharpness))^(-alpha) -> -0.00037916123 | G83: =F83*10^5/100 -> -0.37916123 | H83: =2*7.292*10^(-5)*SIN(E83*PI()/180) -> 2.9165165e-05 | I83: =(I82+dp_dy*(1+EXP(-(ABS(E82)-displ)/9*sharpness))^(-alpha)/(H82*rho))*COS(H82*time_step*3600)+J82*SIN(H82*time_step*3600)-dp_dy*(1+EXP(-(ABS(E82)-displ)/9*sharpness))^(-alpha)/(H82*rho) -> 4.6457409 | J83: =-(I82+dp_dy*(1+EXP(-(ABS(E82)-displ)/9*sharpness))^(-alpha)/(H82*rho))*SIN(H82*time_step*3600)+J82*COS(H82*time_step*3600) -> 17.044391 | U83: =U82+9 -> 54 | V83: =(1+EXP(-(U83-displ)/9*sharpness))^(-alpha) -> 0.55532806 | X83: =V83*$D$4 -> -1.999181
A84: =A83+time_step -> 5.5833333 | B84: =B83+((I83+dp_dy*(1+EXP(-(ABS(E83)-displ)/9*sharpness))^(-alpha)/(H83*rho))/H83*SIN(H83*time_step*3600)-J83/H83*COS(H83*time_step*3600)-dp_dy*(1+EXP(-(ABS(E83)-displ)/9*sharpness))^(-alpha)*time_step*3600/(H83*rho)+J83/H83)/1000 -> 31.354752 | C84: =C83+((I83+dp_dy*(1+EXP(-(ABS(E83)-displ)/9*sharpness))^(-alpha)/(H83*rho))/H83*COS(H83*time_step*3600)+J83/H83*SIN(H83*time_step*3600)-(I83+dp_dy*(1+EXP(-(ABS(E83)-displ)/9*sharpness))^(-alpha)/(H83*rho))/H83)/1000 -> 175.89876 | D84: =B84 -> 31.354752 | E84: =360*(init_km_from_eq+C84)/(2*PI()*6.37*10^3) -> 11.582144 | F84: =dp_dy*(1+EXP(-(ABS(E83)-displ)/9*sharpness))^(-alpha) -> -0.00038002265 | G84: =F84*10^5/100 -> -0.38002265 | H84: =2*7.292*10^(-5)*SIN(E84*PI()/180) -> 2.928068e-05 | I84: =(I83+dp_dy*(1+EXP(-(ABS(E83)-displ)/9*sharpness))^(-alpha)/(H83*rho))*COS(H83*time_step*3600)+J83*SIN(H83*time_step*3600)-dp_dy*(1+EXP(-(ABS(E83)-displ)/9*sharpness))^(-alpha)/(H83*rho) -> 4.7959388 | J84: =-(I83+dp_dy*(1+EXP(-(ABS(E83)-displ)/9*sharpness))^(-alpha)/(H83*rho))*SIN(H83*time_step*3600)+J83*COS(H83*time_step*3600) -> 17.288105 | U84: =U83+9 -> 63 | V84: =(1+EXP(-(U84-displ)/9*sharpness))^(-alpha) -> 0.67309618 | X84: =V84*$D$4 -> -2.4231462
... A87: =A86+time_step -> 5.8333333 | B87: =B86+((I86+dp_dy*(1+EXP(-(ABS(E86)-displ)/9*sharpness))^(-alpha)/(H86*rho))/H86*SIN(H86*time_step*3600)-J86/H86*COS(H86*time_step*3600)-dp_dy*(1+EXP(-(ABS(E86)-displ)/9*sharpness))^(-alpha)*time_step*3600/(H86*rho)+J86/H86)/1000 -> 35.879457 | C87: =C86+((I86+dp_dy*(1+EXP(-(ABS(E86)-displ)/9*sharpness))^(-alpha)/(H86*rho))/H86*COS(H86*time_step*3600)+J86/H86*SIN(H86*time_step*3600)-(I86+dp_dy*(1+EXP(-(ABS(E86)-displ)/9*sharpness))^(-alpha)/(H86*rho))/H86)/1000 -> 191.78539 | D87: =B87 -> 35.879457 | E87: =360*(init_km_from_eq+C87)/(2*PI()*6.37*10^3) -> 11.725038 | F87: =dp_dy*(1+EXP(-(ABS(E86)-displ)/9*sharpness))^(-alpha) -> -0.00038269219 | G87: =F87*10^5/100 -> -0.38269219 | H87: =2*7.292*10^(-5)*SIN(E87*PI()/180) -> 2.9636904e-05 | I87: =(I86+dp_dy*(1+EXP(-(ABS(E86)-displ)/9*sharpness))^(-alpha)/(H86*rho))*COS(H86*time_step*3600)+J86*SIN(H86*time_step*3600)-dp_dy*(1+EXP(-(ABS(E86)-displ)/9*sharpness))^(-alpha)/(H86*rho) -> 5.2629965 | J87: =-(I86+dp_dy*(1+EXP(-(ABS(E86)-displ)/9*sharpness))^(-alpha)/(H86*rho))*SIN(H86*time_step*3600)+J86*COS(H86*time_step*3600) -> 18.014109 | U87: =U86+9 -> 90 | V87: =(1+EXP(-(U87-displ)/9*sharpness))^(-alpha) -> 0.9022274 | X87: =V87*$D$4 -> -3.2480186
A88: =A87+time_step -> 5.9166667 | B88: =B87+((I87+dp_dy*(1+EXP(-(ABS(E87)-displ)/9*sharpness))^(-alpha)/(H87*rho))/H87*SIN(H87*time_step*3600)-J87/H87*COS(H87*time_step*3600)-dp_dy*(1+EXP(-(ABS(E87)-displ)/9*sharpness))^(-alpha)*time_step*3600/(H87*rho)+J87/H87)/1000 -> 37.482488 | C88: =C87+((I87+dp_dy*(1+EXP(-(ABS(E87)-displ)/9*sharpness))^(-alpha)/(H87*rho))/H87*COS(H87*time_step*3600)+J87/H87*SIN(H87*time_step*3600)-(I87+dp_dy*(1+EXP(-(ABS(E87)-displ)/9*sharpness))^(-alpha)/(H87*rho))/H87)/1000 -> 197.22569 | D88: =B88 -> 37.482488 | E88: =360*(init_km_from_eq+C88)/(2*PI()*6.37*10^3) -> 11.773972 | F88: =dp_dy*(1+EXP(-(ABS(E87)-displ)/9*sharpness))^(-alpha) -> -0.00038361059 | G88: =F88*10^5/100 -> -0.38361059 | H88: =2*7.292*10^(-5)*SIN(E88*PI()/180) -> 2.9758849e-05 | I88: =(I87+dp_dy*(1+EXP(-(ABS(E87)-displ)/9*sharpness))^(-alpha)/(H87*rho))*COS(H87*time_step*3600)+J87*SIN(H87*time_step*3600)-dp_dy*(1+EXP(-(ABS(E87)-displ)/9*sharpness))^(-alpha)/(H87*rho) -> 5.4242301 | J88: =-(I87+dp_dy*(1+EXP(-(ABS(E87)-displ)/9*sharpness))^(-alpha)/(H87*rho))*SIN(H87*time_step*3600)+J87*COS(H87*time_step*3600) -> 18.254308
A89: =A88+time_step -> 6 | B89: =B88+((I88+dp_dy*(1+EXP(-(ABS(E88)-displ)/9*sharpness))^(-alpha)/(H88*rho))/H88*SIN(H88*time_step*3600)-J88/H88*COS(H88*time_step*3600)-dp_dy*(1+EXP(-(ABS(E88)-displ)/9*sharpness))^(-alpha)*time_step*3600/(H88*rho)+J88/H88)/1000 -> 39.134309 | C89: =C88+((I88+dp_dy*(1+EXP(-(ABS(E88)-displ)/9*sharpness))^(-alpha)/(H88*rho))/H88*COS(H88*time_step*3600)+J88/H88*SIN(H88*time_step*3600)-(I88+dp_dy*(1+EXP(-(ABS(E88)-displ)/9*sharpness))^(-alpha)/(H88*rho))/H88)/1000 -> 202.7379 | D89: =B89 -> 39.134309 | E89: =360*(init_km_from_eq+C89)/(2*PI()*6.37*10^3) -> 11.823552 | F89: =dp_dy*(1+EXP(-(ABS(E88)-displ)/9*sharpness))^(-alpha) -> -0.00038454331 | G89: =F89*10^5/100 -> -0.38454331 | H89: =2*7.292*10^(-5)*SIN(E89*PI()/180) -> 2.9882384e-05 | I89: =(I88+dp_dy*(1+EXP(-(ABS(E88)-displ)/9*sharpness))^(-alpha)/(H88*rho))*COS(H88*time_step*3600)+J88*SIN(H88*time_step*3600)-dp_dy*(1+EXP(-(ABS(E88)-displ)/9*sharpness))^(-alpha)/(H88*rho) -> 5.5882673 | J89: =-(I88+dp_dy*(1+EXP(-(ABS(E88)-displ)/9*sharpness))^(-alpha)/(H88*rho))*SIN(H88*time_step*3600)+J88*COS(H88*time_step*3600) -> 18.493559
A90: =A89+time_step -> 6.0833333 | B90: =B89+((I89+dp_dy*(1+EXP(-(ABS(E89)-displ)/9*sharpness))^(-alpha)/(H89*rho))/H89*SIN(H89*time_step*3600)-J89/H89*COS(H89*time_step*3600)-dp_dy*(1+EXP(-(ABS(E89)-displ)/9*sharpness))^(-alpha)*time_step*3600/(H89*rho)+J89/H89)/1000 -> 40.835765 | C90: =C89+((I89+dp_dy*(1+EXP(-(ABS(E89)-displ)/9*sharpness))^(-alpha)/(H89*rho))/H89*COS(H89*time_step*3600)+J89/H89*SIN(H89*time_step*3600)-(I89+dp_dy*(1+EXP(-(ABS(E89)-displ)/9*sharpness))^(-alpha)/(H89*rho))/H89)/1000 -> 208.32175 | D90: =B90 -> 40.835765 | E90: =360*(init_km_from_eq+C90)/(2*PI()*6.37*10^3) -> 11.873777 | F90: =dp_dy*(1+EXP(-(ABS(E89)-displ)/9*sharpness))^(-alpha) -> -0.00038549041 | G90: =F90*10^5/100 -> -0.38549041 | H90: =2*7.292*10^(-5)*SIN(E90*PI()/180) -> 3.0007501e-05 | I90: =(I89+dp_dy*(1+EXP(-(ABS(E89)-displ)/9*sharpness))^(-alpha)/(H89*rho))*COS(H89*time_step*3600)+J89*SIN(H89*time_step*3600)-dp_dy*(1+EXP(-(ABS(E89)-displ)/9*sharpness))^(-alpha)/(H89*rho) -> 5.7551259 | J90: =-(I89+dp_dy*(1+EXP(-(ABS(E89)-displ)/9*sharpness))^(-alpha)/(H89*rho))*SIN(H89*time_step*3600)+J89*COS(H89*time_step*3600) -> 18.731833
A91: =A90+time_step -> 6.1666667 | B91: =B90+((I90+dp_dy*(1+EXP(-(ABS(E90)-displ)/9*sharpness))^(-alpha)/(H90*rho))/H90*SIN(H90*time_step*3600)-J90/H90*COS(H90*time_step*3600)-dp_dy*(1+EXP(-(ABS(E90)-displ)/9*sharpness))^(-alpha)*time_step*3600/(H90*rho)+J90/H90)/1000 -> 42.587704 | C91: =C90+((I90+dp_dy*(1+EXP(-(ABS(E90)-displ)/9*sharpness))^(-alpha)/(H90*rho))/H90*COS(H90*time_step*3600)+J90/H90*SIN(H90*time_step*3600)-(I90+dp_dy*(1+EXP(-(ABS(E90)-displ)/9*sharpness))^(-alpha)/(H90*rho))/H90)/1000 -> 213.97693 | D91: =B91 -> 42.587704 | E91: =360*(init_km_from_eq+C91)/(2*PI()*6.37*10^3) -> 11.924643 | F91: =dp_dy*(1+EXP(-(ABS(E90)-displ)/9*sharpness))^(-alpha) -> -0.0003864519 | G91: =F91*10^5/100 -> -0.3864519 | H91: =2*7.292*10^(-5)*SIN(E91*PI()/180) -> 3.0134193e-05 | I91: =(I90+dp_dy*(1+EXP(-(ABS(E90)-displ)/9*sharpness))^(-alpha)/(H90*rho))*COS(H90*time_step*3600)+J90*SIN(H90*time_step*3600)-dp_dy*(1+EXP(-(ABS(E90)-displ)/9*sharpness))^(-alpha)/(H90*rho) -> 5.9248237 | J91: =-(I90+dp_dy*(1+EXP(-(ABS(E90)-displ)/9*sharpness))^(-alpha)/(H90*rho))*SIN(H90*time_step*3600)+J90*COS(H90*time_step*3600) -> 18.969101
A92: =A91+time_step -> 6.25 | B92: =B91+((I91+dp_dy*(1+EXP(-(ABS(E91)-displ)/9*sharpness))^(-alpha)/(H91*rho))/H91*SIN(H91*time_step*3600)-J91/H91*COS(H91*time_step*3600)-dp_dy*(1+EXP(-(ABS(E91)-displ)/9*sharpness))^(-alpha)*time_step*3600/(H91*rho)+J91/H91)/1000 -> 44.390981 | C92: =C91+((I91+dp_dy*(1+EXP(-(ABS(E91)-displ)/9*sharpness))^(-alpha)/(H91*rho))/H91*COS(H91*time_step*3600)+J91/H91*SIN(H91*time_step*3600)-(I91+dp_dy*(1+EXP(-(ABS(E91)-displ)/9*sharpness))^(-alpha)/(H91*rho))/H91)/1000 -> 219.70313 | D92: =B92 -> 44.390981 | E92: =360*(init_km_from_eq+C92)/(2*PI()*6.37*10^3) -> 11.976148 | F92: =dp_dy*(1+EXP(-(ABS(E91)-displ)/9*sharpness))^(-alpha) -> -0.00038742783 | G92: =F92*10^5/100 -> -0.38742783 | H92: =2*7.292*10^(-5)*SIN(E92*PI()/180) -> 3.0262452e-05 | I92: =(I91+dp_dy*(1+EXP(-(ABS(E91)-displ)/9*sharpness))^(-alpha)/(H91*rho))*COS(H91*time_step*3600)+J91*SIN(H91*time_step*3600)-dp_dy*(1+EXP(-(ABS(E91)-displ)/9*sharpness))^(-alpha)/(H91*rho) -> 6.0973782 | J92: =-(I91+dp_dy*(1+EXP(-(ABS(E91)-displ)/9*sharpness))^(-alpha)/(H91*rho))*SIN(H91*time_step*3600)+J91*COS(H91*time_step*3600) -> 19.205331
A93: =A92+time_step -> 6.3333333 | B93: =B92+((I92+dp_dy*(1+EXP(-(ABS(E92)-displ)/9*sharpness))^(-alpha)/(H92*rho))/H92*SIN(H92*time_step*3600)-J92/H92*COS(H92*time_step*3600)-dp_dy*(1+EXP(-(ABS(E92)-displ)/9*sharpness))^(-alpha)*time_step*3600/(H92*rho)+J92/H92)/1000 -> 46.246455 | C93: =C92+((I92+dp_dy*(1+EXP(-(ABS(E92)-displ)/9*sharpness))^(-alpha)/(H92*rho))/H92*COS(H92*time_step*3600)+J92/H92*SIN(H92*time_step*3600)-(I92+dp_dy*(1+EXP(-(ABS(E92)-displ)/9*sharpness))^(-alpha)/(H92*rho))/H92)/1000 -> 225.50005 | D93: =B93 -> 46.246455 | E93: =360*(init_km_from_eq+C93)/(2*PI()*6.37*10^3) -> 12.028289 | F93: =dp_dy*(1+EXP(-(ABS(E92)-displ)/9*sharpness))^(-alpha) -> -0.00038841822 | G93: =F93*10^5/100 -> -0.38841822 | H93: =2*7.292*10^(-5)*SIN(E93*PI()/180) -> 3.039227e-05 | I93: =(I92+dp_dy*(1+EXP(-(ABS(E92)-displ)/9*sharpness))^(-alpha)/(H92*rho))*COS(H92*time_step*3600)+J92*SIN(H92*time_step*3600)-dp_dy*(1+EXP(-(ABS(E92)-displ)/9*sharpness))^(-alpha)/(H92*rho) -> 6.272807 | J93: =-(I92+dp_dy*(1+EXP(-(ABS(E92)-displ)/9*sharpness))^(-alpha)/(H92*rho))*SIN(H92*time_step*3600)+J92*COS(H92*time_step*3600) -> 19.440494
A94: =A93+time_step -> 6.4166667 | B94: =B93+((I93+dp_dy*(1+EXP(-(ABS(E93)-displ)/9*sharpness))^(-alpha)/(H93*rho))/H93*SIN(H93*time_step*3600)-J93/H93*COS(H93*time_step*3600)-dp_dy*(1+EXP(-(ABS(E93)-displ)/9*sharpness))^(-alpha)*time_step*3600/(H93*rho)+J93/H93)/1000 -> 48.154992 | C94: =C93+((I93+dp_dy*(1+EXP(-(ABS(E93)-displ)/9*sharpness))^(-alpha)/(H93*rho))/H93*COS(H93*time_step*3600)+J93/H93*SIN(H93*time_step*3600)-(I93+dp_dy*(1+EXP(-(ABS(E93)-displ)/9*sharpness))^(-alpha)/(H93*rho))/H93)/1000 -> 231.36734 | D94: =B94 -> 48.154992 | E94: =360*(init_km_from_eq+C94)/(2*PI()*6.37*10^3) -> 12.081063 | F94: =dp_dy*(1+EXP(-(ABS(E93)-displ)/9*sharpness))^(-alpha) -> -0.0003894231 | G94: =F94*10^5/100 -> -0.3894231 | H94: =2*7.292*10^(-5)*SIN(E94*PI()/180) -> 3.0523639e-05 | I94: =(I93+dp_dy*(1+EXP(-(ABS(E93)-displ)/9*sharpness))^(-alpha)/(H93*rho))*COS(H93*time_step*3600)+J93*SIN(H93*time_step*3600)-dp_dy*(1+EXP(-(ABS(E93)-displ)/9*sharpness))^(-alpha)/(H93*rho) -> 6.4511276 | J94: =-(I93+dp_dy*(1+EXP(-(ABS(E93)-displ)/9*sharpness))^(-alpha)/(H93*rho))*SIN(H93*time_step*3600)+J93*COS(H93*time_step*3600) -> 19.674556
A95: =A94+time_step -> 6.5 | B95: =B94+((I94+dp_dy*(1+EXP(-(ABS(E94)-displ)/9*sharpness))^(-alpha)/(H94*rho))/H94*SIN(H94*time_step*3600)-J94/H94*COS(H94*time_step*3600)-dp_dy*(1+EXP(-(ABS(E94)-displ)/9*sharpness))^(-alpha)*time_step*3600/(H94*rho)+J94/H94)/1000 -> 50.117461 | C95: =C94+((I94+dp_dy*(1+EXP(-(ABS(E94)-displ)/9*sharpness))^(-alpha)/(H94*rho))/H94*COS(H94*time_step*3600)+J94/H94*SIN(H94*time_step*3600)-(I94+dp_dy*(1+EXP(-(ABS(E94)-displ)/9*sharpness))^(-alpha)/(H94*rho))/H94)/1000 -> 237.30469 | D95: =B95 -> 50.117461 | E95: =360*(init_km_from_eq+C95)/(2*PI()*6.37*10^3) -> 12.134467 | F95: =dp_dy*(1+EXP(-(ABS(E94)-displ)/9*sharpness))^(-alpha) -> -0.00039044251 | G95: =F95*10^5/100 -> -0.39044251 | H95: =2*7.292*10^(-5)*SIN(E95*PI()/180) -> 3.0656549e-05 | I95: =(I94+dp_dy*(1+EXP(-(ABS(E94)-displ)/9*sharpness))^(-alpha)/(H94*rho))*COS(H94*time_step*3600)+J94*SIN(H94*time_step*3600)-dp_dy*(1+EXP(-(ABS(E94)-displ)/9*sharpness))^(-alpha)/(H94*rho) -> 6.632357 | J95: =-(I94+dp_dy*(1+EXP(-(ABS(E94)-displ)/9*sharpness))^(-alpha)/(H94*rho))*SIN(H94*time_step*3600)+J94*COS(H94*time_step*3600) -> 19.907487
A96: =A95+time_step -> 6.5833333 | B96: =B95+((I95+dp_dy*(1+EXP(-(ABS(E95)-displ)/9*sharpness))^(-alpha)/(H95*rho))/H95*SIN(H95*time_step*3600)-J95/H95*COS(H95*time_step*3600)-dp_dy*(1+EXP(-(ABS(E95)-displ)/9*sharpness))^(-alpha)*time_step*3600/(H95*rho)+J95/H95)/1000 -> 52.134738 | C96: =C95+((I95+dp_dy*(1+EXP(-(ABS(E95)-displ)/9*sharpness))^(-alpha)/(H95*rho))/H95*COS(H95*time_step*3600)+J95/H95*SIN(H95*time_step*3600)-(I95+dp_dy*(1+EXP(-(ABS(E95)-displ)/9*sharpness))^(-alpha)/(H95*rho))/H95)/1000 -> 243.31175 | D96: =B96 -> 52.134738 | E96: =360*(init_km_from_eq+C96)/(2*PI()*6.37*10^3) -> 12.188499 | F96: =dp_dy*(1+EXP(-(ABS(E95)-displ)/9*sharpness))^(-alpha) -> -0.00039147648 | G96: =F96*10^5/100 -> -0.39147648 | H96: =2*7.292*10^(-5)*SIN(E96*PI()/180) -> 3.0790993e-05 | I96: =(I95+dp_dy*(1+EXP(-(ABS(E95)-displ)/9*sharpness))^(-alpha)/(H95*rho))*COS(H95*time_step*3600)+J95*SIN(H95*time_step*3600)-dp_dy*(1+EXP(-(ABS(E95)-displ)/9*sharpness))^(-alpha)/(H95*rho) -> 6.8165125 | J96: =-(I95+dp_dy*(1+EXP(-(ABS(E95)-displ)/9*sharpness))^(-alpha)/(H95*rho))*SIN(H95*time_step*3600)+J95*COS(H95*time_step*3600) -> 20.139251
A97: =A96+time_step -> 6.6666667 | B97: =B96+((I96+dp_dy*(1+EXP(-(ABS(E96)-displ)/9*sharpness))^(-alpha)/(H96*rho))/H96*SIN(H96*time_step*3600)-J96/H96*COS(H96*time_step*3600)-dp_dy*(1+EXP(-(ABS(E96)-displ)/9*sharpness))^(-alpha)*time_step*3600/(H96*rho)+J96/H96)/1000 -> 54.207704 | C97: =C96+((I96+dp_dy*(1+EXP(-(ABS(E96)-displ)/9*sharpness))^(-alpha)/(H96*rho))/H96*COS(H96*time_step*3600)+J96/H96*SIN(H96*time_step*3600)-(I96+dp_dy*(1+EXP(-(ABS(E96)-displ)/9*sharpness))^(-alpha)/(H96*rho))/H96)/1000 -> 249.38815 | D97: =B97 -> 54.207704 | E97: =360*(init_km_from_eq+C97)/(2*PI()*6.37*10^3) -> 12.243154 | F97: =dp_dy*(1+EXP(-(ABS(E96)-displ)/9*sharpness))^(-alpha) -> -0.00039252504 | G97: =F97*10^5/100 -> -0.39252504 | H97: =2*7.292*10^(-5)*SIN(E97*PI()/180) -> 3.0926962e-05 | I97: =(I96+dp_dy*(1+EXP(-(ABS(E96)-displ)/9*sharpness))^(-alpha)/(H96*rho))*COS(H96*time_step*3600)+J96*SIN(H96*time_step*3600)-dp_dy*(1+EXP(-(ABS(E96)-displ)/9*sharpness))^(-alpha)/(H96*rho) -> 7.003611 | J97: =-(I96+dp_dy*(1+EXP(-(ABS(E96)-displ)/9*sharpness))^(-alpha)/(H96*rho))*SIN(H96*time_step*3600)+J96*COS(H96*time_step*3600) -> 20.369816
A98: =A97+time_step -> 6.75 | B98: =B97+((I97+dp_dy*(1+EXP(-(ABS(E97)-displ)/9*sharpness))^(-alpha)/(H97*rho))/H97*SIN(H97*time_step*3600)-J97/H97*COS(H97*time_step*3600)-dp_dy*(1+EXP(-(ABS(E97)-displ)/9*sharpness))^(-alpha)*time_step*3600/(H97*rho)+J97/H97)/1000 -> 56.337243 | C98: =C97+((I97+dp_dy*(1+EXP(-(ABS(E97)-displ)/9*sharpness))^(-alpha)/(H97*rho))/H97*COS(H97*time_step*3600)+J97/H97*SIN(H97*time_step*3600)-(I97+dp_dy*(1+EXP(-(ABS(E97)-displ)/9*sharpness))^(-alpha)/(H97*rho))/H97)/1000 -> 255.53354 | D98: =B98 -> 56.337243 | E98: =360*(init_km_from_eq+C98)/(2*PI()*6.37*10^3) -> 12.298429 | F98: =dp_dy*(1+EXP(-(ABS(E97)-displ)/9*sharpness))^(-alpha) -> -0.0003935882 | G98: =F98*10^5/100 -> -0.3935882 | H98: =2*7.292*10^(-5)*SIN(E98*PI()/180) -> 3.1064445e-05 | I98: =(I97+dp_dy*(1+EXP(-(ABS(E97)-displ)/9*sharpness))^(-alpha)/(H97*rho))*COS(H97*time_step*3600)+J97*SIN(H97*time_step*3600)-dp_dy*(1+EXP(-(ABS(E97)-displ)/9*sharpness))^(-alpha)/(H97*rho) -> 7.1936692 | J98: =-(I97+dp_dy*(1+EXP(-(ABS(E97)-displ)/9*sharpness))^(-alpha)/(H97*rho))*SIN(H97*time_step*3600)+J97*COS(H97*time_step*3600) -> 20.599147
A99: =A98+time_step -> 6.8333333 | B99: =B98+((I98+dp_dy*(1+EXP(-(ABS(E98)-displ)/9*sharpness))^(-alpha)/(H98*rho))/H98*SIN(H98*time_step*3600)-J98/H98*COS(H98*time_step*3600)-dp_dy*(1+EXP(-(ABS(E98)-displ)/9*sharpness))^(-alpha)*time_step*3600/(H98*rho)+J98/H98)/1000 -> 58.524245 | C99: =C98+((I98+dp_dy*(1+EXP(-(ABS(E98)-displ)/9*sharpness))^(-alpha)/(H98*rho))/H98*COS(H98*time_step*3600)+J98/H98*SIN(H98*time_step*3600)-(I98+dp_dy*(1+EXP(-(ABS(E98)-displ)/9*sharpness))^(-alpha)/(H98*rho))/H98)/1000 -> 261.74754 | D99: =B99 -> 58.524245 | E99: =360*(init_km_from_eq+C99)/(2*PI()*6.37*10^3) -> 12.354322 | F99: =dp_dy*(1+EXP(-(ABS(E98)-displ)/9*sharpness))^(-alpha) -> -0.00039466601 | G99: =F99*10^5/100 -> -0.39466601 | H99: =2*7.292*10^(-5)*SIN(E99*PI()/180) -> 3.1203433e-05 | I99: =(I98+dp_dy*(1+EXP(-(ABS(E98)-displ)/9*sharpness))^(-alpha)/(H98*rho))*COS(H98*time_step*3600)+J98*SIN(H98*time_step*3600)-dp_dy*(1+EXP(-(ABS(E98)-displ)/9*sharpness))^(-alpha)/(H98*rho) -> 7.3867036 | J99: =-(I98+dp_dy*(1+EXP(-(ABS(E98)-displ)/9*sharpness))^(-alpha)/(H98*rho))*SIN(H98*time_step*3600)+J98*COS(H98*time_step*3600) -> 20.827209
... A400: =A399+time_step -> 31.916667 | B400: =B399+((I399+dp_dy*(1+EXP(-(ABS(E399)-displ)/9*sharpness))^(-alpha)/(H399*rho))/H399*SIN(H399*time_step*3600)-J399/H399*COS(H399*time_step*3600)-dp_dy*(1+EXP(-(ABS(E399)-displ)/9*sharpness))^(-alpha)*time_step*3600/(H399*rho)+J399/H399)/1000 -> 3484.8361 | C400: =C399+((I399+dp_dy*(1+EXP(-(ABS(E399)-displ)/9*sharpness))^(-alpha)/(H399*rho))/H399*COS(H399*time_step*3600)+J399/H399*SIN(H399*time_step*3600)-(I399+dp_dy*(1+EXP(-(ABS(E399)-displ)/9*sharpness))^(-alpha)/(H399*rho))/H399)/1000 -> 566.73167 | D400: =B400 -> 3484.8361 | E400: =360*(init_km_from_eq+C400)/(2*PI()*6.37*10^3) -> 15.097541 | F400: =dp_dy*(1+EXP(-(ABS(E399)-displ)/9*sharpness))^(-alpha) -> -0.00045441311 | G400: =F400*10^5/100 -> -0.45441311 | H400: =2*7.292*10^(-5)*SIN(E400*PI()/180) -> 3.7985933e-05 | I400: =(I399+dp_dy*(1+EXP(-(ABS(E399)-displ)/9*sharpness))^(-alpha)/(H399*rho))*COS(H399*time_step*3600)+J399*SIN(H399*time_step*3600)-dp_dy*(1+EXP(-(ABS(E399)-displ)/9*sharpness))^(-alpha)/(H399*rho) -> 17.764729 | J400: =-(I399+dp_dy*(1+EXP(-(ABS(E399)-displ)/9*sharpness))^(-alpha)/(H399*rho))*SIN(H399*time_step*3600)+J399*COS(H399*time_step*3600) -> -28.458819

Sheet Traj 4
C2: Enter:
C3: air density r | D3: 0.4 | E3: kg m-3 | F3: 1.225 | G3: kg m-3 at MSL | I3: 0.4 | J3: kg m-3 at tropopause
C4: N-S pressure gradient at pole | D4: ='Traj 1'!D4 -> -3.6 | E4: hPa 100km-1
C5: = | D5: =D4*100/10^5 -> -0.0036 | E5: Pa m-1
C6: inflection of NS press. gradient | D6: 0.5 | E6: see diagram to right
C7: initial latitude | D7: ='Multiple trajectories'!I3 -> 15 | E7: deg | H7: =2*PI()*6.37*10^3*IF(latitude=0,10^(-6),latitude)/360 -> 1667.6621 | I7: km from equator (y distance) | L7: where f = | M7: =2*7.292*10^(-5)*SIN(360*H7/(2*PI()*6.37*10^3)*PI()/180) -> 3.774617e-05 | N7: s-1
C8: f = | D8: =2*7.292*10^(-5)*SIN(IF(latitude=0,10^(-6),latitude)*PI()/180) -> 3.774617e-05 | E8: s-1 | L8: =IF(latitude>0,"Air parcel initially in Northern Hemisphere",IF(latitude=0,"Air parcel initially at equator","Air parcel initially in Southern Hemisphere")) -> Air parcel initially in Northern Hemisphere
B10: initial velocity | C10: uo = | D10: 0 | E10: m s-1
C11: vo = | D11: 0 | E11: m s-1 | L11: Equator is at | M11: =-init_km_from_eq -> -1667.6621 | N11: km on y-axis
C13: time-step = | D13: ='Multiple trajectories'!C3 -> 0.083333333 | E13: hr | I13: max u:
I14: =MAX(I17:I400) -> 57.8509 | J14: m s-1
F15: dp/dy | G15: dp/dy
A16: time (hr) | B16: x (km) | C16: y (km) | D16: =B16 -> x (km) | E16: lat (deg) | F16: Pa m-1 | G16: hPa 100km-1 | H16: f (s-1) | I16: u (ms-1) | J16: v (ms-1)
A17: 0 | B17: =((uo+dp_dy/(f*rho))/f*SIN(f*A17*3600)-vo/f*COS(f*A17*3600)-dp_dy*A17*3600/(f*rho)+vo/f)/1000 -> 0 | C17: =((uo+dp_dy/(f*rho))/f*COS(f*A17*3600)+vo/f*SIN(f*A17*3600)-(uo+dp_dy/(f*rho))/f)/1000 -> 0 | D17: =B17 -> 0 | E17: =IF(latitude=0,10^(-6),latitude) -> 15 | F17: =dp_dy*(1+EXP(-(ABS(E17)-displ)/9*sharpness))^(-alpha) -> -0.00045057744 | G17: =F17*10^5/100 -> -0.45057744 | H17: =2*7.292*10^(-5)*SIN(E17*PI()/180) -> 3.774617e-05 | I17: =(uo+dp_dy/(f*rho))*COS(f*$A17*3600)+vo*SIN(f*$A17*3600)-dp_dy/(f*rho) -> 0 | J17: =-(uo+dp_dy/(f*rho))*SIN(f*$A17*3600)+vo*COS(f*$A17*3600) -> 0
A18: =A17+time_step -> 0.083333333 | B18: =B17+((I17+dp_dy*(1+EXP(-(ABS(E17)-displ)/9*sharpness))^(-alpha)/(H17*rho))/H17*SIN(H17*time_step*3600)-J17/H17*COS(H17*time_step*3600)-dp_dy*(1+EXP(-(ABS(E17)-displ)/9*sharpness))^(-alpha)*time_step*3600/(H17*rho)+J17/H17)/1000 -> 0.00019133396 | C18: =C17+((I17+dp_dy*(1+EXP(-(ABS(E17)-displ)/9*sharpness))^(-alpha)/(H17*rho))/H17*COS(H17*time_step*3600)+J17/H17*SIN(H17*time_step*3600)-(I17+dp_dy*(1+EXP(-(ABS(E17)-displ)/9*sharpness))^(-alpha)/(H17*rho))/H17)/1000 -> 0.05068942 | D18: =B18 -> 0.00019133396 | E18: =360*(init_km_from_eq+C18)/(2*PI()*6.37*10^3) -> 15.000456 | F18: =dp_dy*(1+EXP(-(ABS(E17)-displ)/9*sharpness))^(-alpha) -> -0.00045057744 | G18: =F18*10^5/100 -> -0.45057744 | H18: =2*7.292*10^(-5)*SIN(E18*PI()/180) -> 3.7747291e-05 | I18: =(I17+dp_dy*(1+EXP(-(ABS(E17)-displ)/9*sharpness))^(-alpha)/(H17*rho))*COS(H17*time_step*3600)+J17*SIN(H17*time_step*3600)-dp_dy*(1+EXP(-(ABS(E17)-displ)/9*sharpness))^(-alpha)/(H17*rho) -> 0.0019133314 | J18: =-(I17+dp_dy*(1+EXP(-(ABS(E17)-displ)/9*sharpness))^(-alpha)/(H17*rho))*SIN(H17*time_step*3600)+J17*COS(H17*time_step*3600) -> 0.33792586
A19: =A18+time_step -> 0.16666667 | B19: =B18+((I18+dp_dy*(1+EXP(-(ABS(E18)-displ)/9*sharpness))^(-alpha)/(H18*rho))/H18*SIN(H18*time_step*3600)-J18/H18*COS(H18*time_step*3600)-dp_dy*(1+EXP(-(ABS(E18)-displ)/9*sharpness))^(-alpha)*time_step*3600/(H18*rho)+J18/H18)/1000 -> 0.0015306692 | C19: =C18+((I18+dp_dy*(1+EXP(-(ABS(E18)-displ)/9*sharpness))^(-alpha)/(H18*rho))/H18*COS(H18*time_step*3600)+J18/H18*SIN(H18*time_step*3600)-(I18+dp_dy*(1+EXP(-(ABS(E18)-displ)/9*sharpness))^(-alpha)/(H18*rho))/H18)/1000 -> 0.2027523 | D19: =B19 -> 0.0015306692 | E19: =360*(init_km_from_eq+C19)/(2*PI()*6.37*10^3) -> 15.001824 | F19: =dp_dy*(1+EXP(-(ABS(E18)-displ)/9*sharpness))^(-alpha) -> -0.00045058742 | G19: =F19*10^5/100 -> -0.45058742 | H19: =2*7.292*10^(-5)*SIN(E19*PI()/180) -> 3.7750653e-05 | I19: =(I18+dp_dy*(1+EXP(-(ABS(E18)-displ)/9*sharpness))^(-alpha)/(H18*rho))*COS(H18*time_step*3600)+J18*SIN(H18*time_step*3600)-dp_dy*(1+EXP(-(ABS(E18)-displ)/9*sharpness))^(-alpha)/(H18*rho) -> 0.0076532933 | J19: =-(I18+dp_dy*(1+EXP(-(ABS(E18)-displ)/9*sharpness))^(-alpha)/(H18*rho))*SIN(H18*time_step*3600)+J18*COS(H18*time_step*3600) -> 0.67581587
A20: =A19+time_step -> 0.25 | B20: =B19+((I19+dp_dy*(1+EXP(-(ABS(E19)-displ)/9*sharpness))^(-alpha)/(H19*rho))/H19*SIN(H19*time_step*3600)-J19/H19*COS(H19*time_step*3600)-dp_dy*(1+EXP(-(ABS(E19)-displ)/9*sharpness))^(-alpha)*time_step*3600/(H19*rho)+J19/H19)/1000 -> 0.0051660316 | C20: =C19+((I19+dp_dy*(1+EXP(-(ABS(E19)-displ)/9*sharpness))^(-alpha)/(H19*rho))/H19*COS(H19*time_step*3600)+J19/H19*SIN(H19*time_step*3600)-(I19+dp_dy*(1+EXP(-(ABS(E19)-displ)/9*sharpness))^(-alpha)/(H19*rho))/H19)/1000 -> 0.45617364 | D20: =B20 -> 0.0051660316 | E20: =360*(init_km_from_eq+C20)/(2*PI()*6.37*10^3) -> 15.004103 | F20: =dp_dy*(1+EXP(-(ABS(E19)-displ)/9*sharpness))^(-alpha) -> -0.00045061738 | G20: =F20*10^5/100 -> -0.45061738 | H20: =2*7.292*10^(-5)*SIN(E20*PI()/180) -> 3.7756258e-05 | I20: =(I19+dp_dy*(1+EXP(-(ABS(E19)-displ)/9*sharpness))^(-alpha)/(H19*rho))*COS(H19*time_step*3600)+J19*SIN(H19*time_step*3600)-dp_dy*(1+EXP(-(ABS(E19)-displ)/9*sharpness))^(-alpha)/(H19*rho) -> 0.017220114 | J20: =-(I19+dp_dy*(1+EXP(-(ABS(E19)-displ)/9*sharpness))^(-alpha)/(H19*rho))*SIN(H19*time_step*3600)+J19*COS(H19*time_step*3600) -> 1.0136417
A21: =A20+time_step -> 0.33333333 | B21: =B20+((I20+dp_dy*(1+EXP(-(ABS(E20)-displ)/9*sharpness))^(-alpha)/(H20*rho))/H20*SIN(H20*time_step*3600)-J20/H20*COS(H20*time_step*3600)-dp_dy*(1+EXP(-(ABS(E20)-displ)/9*sharpness))^(-alpha)*time_step*3600/(H20*rho)+J20/H20)/1000 -> 0.01224557 | C21: =C20+((I20+dp_dy*(1+EXP(-(ABS(E20)-displ)/9*sharpness))^(-alpha)/(H20*rho))/H20*COS(H20*time_step*3600)+J20/H20*SIN(H20*time_step*3600)-(I20+dp_dy*(1+EXP(-(ABS(E20)-displ)/9*sharpness))^(-alpha)/(H20*rho))/H20)/1000 -> 0.81092991 | D21: =B21 -> 0.01224557 | E21: =360*(init_km_from_eq+C21)/(2*PI()*6.37*10^3) -> 15.007294 | F21: =dp_dy*(1+EXP(-(ABS(E20)-displ)/9*sharpness))^(-alpha) -> -0.0004506673 | G21: =F21*10^5/100 -> -0.4506673 | H21: =2*7.292*10^(-5)*SIN(E21*PI()/180) -> 3.7764103e-05 | I21: =(I20+dp_dy*(1+EXP(-(ABS(E20)-displ)/9*sharpness))^(-alpha)/(H20*rho))*COS(H20*time_step*3600)+J20*SIN(H20*time_step*3600)-dp_dy*(1+EXP(-(ABS(E20)-displ)/9*sharpness))^(-alpha)/(H20*rho) -> 0.030614383 | J21: =-(I20+dp_dy*(1+EXP(-(ABS(E20)-displ)/9*sharpness))^(-alpha)/(H20*rho))*SIN(H20*time_step*3600)+J20*COS(H20*time_step*3600) -> 1.3513748
A22: =A21+time_step -> 0.41666667 | B22: =B21+((I21+dp_dy*(1+EXP(-(ABS(E21)-displ)/9*sharpness))^(-alpha)/(H21*rho))/H21*SIN(H21*time_step*3600)-J21/H21*COS(H21*time_step*3600)-dp_dy*(1+EXP(-(ABS(E21)-displ)/9*sharpness))^(-alpha)*time_step*3600/(H21*rho)+J21/H21)/1000 -> 0.023917662 | C22: =C21+((I21+dp_dy*(1+EXP(-(ABS(E21)-displ)/9*sharpness))^(-alpha)/(H21*rho))/H21*COS(H21*time_step*3600)+J21/H21*SIN(H21*time_step*3600)-(I21+dp_dy*(1+EXP(-(ABS(E21)-displ)/9*sharpness))^(-alpha)/(H21*rho))/H21)/1000 -> 1.2669891 | D22: =B22 -> 0.023917662 | E22: =360*(init_km_from_eq+C22)/(2*PI()*6.37*10^3) -> 15.011396 | F22: =dp_dy*(1+EXP(-(ABS(E21)-displ)/9*sharpness))^(-alpha) -> -0.00045073719 | G22: =F22*10^5/100 -> -0.45073719 | H22: =2*7.292*10^(-5)*SIN(E22*PI()/180) -> 3.7774188e-05 | I22: =(I21+dp_dy*(1+EXP(-(ABS(E21)-displ)/9*sharpness))^(-alpha)/(H21*rho))*COS(H21*time_step*3600)+J21*SIN(H21*time_step*3600)-dp_dy*(1+EXP(-(ABS(E21)-displ)/9*sharpness))^(-alpha)/(H21*rho) -> 0.047837048 | J22: =-(I21+dp_dy*(1+EXP(-(ABS(E21)-displ)/9*sharpness))^(-alpha)/(H21*rho))*SIN(H21*time_step*3600)+J21*COS(H21*time_step*3600) -> 1.688987
A23: =A22+time_step -> 0.5 | B23: =B22+((I22+dp_dy*(1+EXP(-(ABS(E22)-displ)/9*sharpness))^(-alpha)/(H22*rho))/H22*SIN(H22*time_step*3600)-J22/H22*COS(H22*time_step*3600)-dp_dy*(1+EXP(-(ABS(E22)-displ)/9*sharpness))^(-alpha)*time_step*3600/(H22*rho)+J22/H22)/1000 -> 0.041331025 | C23: =C22+((I22+dp_dy*(1+EXP(-(ABS(E22)-displ)/9*sharpness))^(-alpha)/(H22*rho))/H22*COS(H22*time_step*3600)+J22/H22*SIN(H22*time_step*3600)-(I22+dp_dy*(1+EXP(-(ABS(E22)-displ)/9*sharpness))^(-alpha)/(H22*rho))/H22)/1000 -> 1.8243105 | D23: =B23 -> 0.041331025 | E23: =360*(init_km_from_eq+C23)/(2*PI()*6.37*10^3) -> 15.016409 | F23: =dp_dy*(1+EXP(-(ABS(E22)-displ)/9*sharpness))^(-alpha) -> -0.00045082706 | G23: =F23*10^5/100 -> -0.45082706 | H23: =2*7.292*10^(-5)*SIN(E23*PI()/180) -> 3.7786512e-05 | I23: =(I22+dp_dy*(1+EXP(-(ABS(E22)-displ)/9*sharpness))^(-alpha)/(H22*rho))*COS(H22*time_step*3600)+J22*SIN(H22*time_step*3600)-dp_dy*(1+EXP(-(ABS(E22)-displ)/9*sharpness))^(-alpha)/(H22*rho) -> 0.068889412 | J23: =-(I22+dp_dy*(1+EXP(-(ABS(E22)-displ)/9*sharpness))^(-alpha)/(H22*rho))*SIN(H22*time_step*3600)+J22*COS(H22*time_step*3600) -> 2.0264495
A24: =A23+time_step -> 0.58333333 | B24: =B23+((I23+dp_dy*(1+EXP(-(ABS(E23)-displ)/9*sharpness))^(-alpha)/(H23*rho))/H23*SIN(H23*time_step*3600)-J23/H23*COS(H23*time_step*3600)-dp_dy*(1+EXP(-(ABS(E23)-displ)/9*sharpness))^(-alpha)*time_step*3600/(H23*rho)+J23/H23)/1000 -> 0.065634821 | C24: =C23+((I23+dp_dy*(1+EXP(-(ABS(E23)-displ)/9*sharpness))^(-alpha)/(H23*rho))/H23*COS(H23*time_step*3600)+J23/H23*SIN(H23*time_step*3600)-(I23+dp_dy*(1+EXP(-(ABS(E23)-displ)/9*sharpness))^(-alpha)/(H23*rho))/H23)/1000 -> 2.482845 | D24: =B24 -> 0.065634821 | E24: =360*(init_km_from_eq+C24)/(2*PI()*6.37*10^3) -> 15.022332 | F24: =dp_dy*(1+EXP(-(ABS(E23)-displ)/9*sharpness))^(-alpha) -> -0.0004509369 | G24: =F24*10^5/100 -> -0.4509369 | H24: =2*7.292*10^(-5)*SIN(E24*PI()/180) -> 3.7801074e-05 | I24: =(I23+dp_dy*(1+EXP(-(ABS(E23)-displ)/9*sharpness))^(-alpha)/(H23*rho))*COS(H23*time_step*3600)+J23*SIN(H23*time_step*3600)-dp_dy*(1+EXP(-(ABS(E23)-displ)/9*sharpness))^(-alpha)/(H23*rho) -> 0.093773136 | J24: =-(I23+dp_dy*(1+EXP(-(ABS(E23)-displ)/9*sharpness))^(-alpha)/(H23*rho))*SIN(H23*time_step*3600)+J23*COS(H23*time_step*3600) -> 2.3637338
A25: =A24+time_step -> 0.66666667 | B25: =B24+((I24+dp_dy*(1+EXP(-(ABS(E24)-displ)/9*sharpness))^(-alpha)/(H24*rho))/H24*SIN(H24*time_step*3600)-J24/H24*COS(H24*time_step*3600)-dp_dy*(1+EXP(-(ABS(E24)-displ)/9*sharpness))^(-alpha)*time_step*3600/(H24*rho)+J24/H24)/1000 -> 0.097978762 | C25: =C24+((I24+dp_dy*(1+EXP(-(ABS(E24)-displ)/9*sharpness))^(-alpha)/(H24*rho))/H24*COS(H24*time_step*3600)+J24/H24*SIN(H24*time_step*3600)-(I24+dp_dy*(1+EXP(-(ABS(E24)-displ)/9*sharpness))^(-alpha)/(H24*rho))/H24)/1000 -> 3.2425349 | D25: =B25 -> 0.097978762 | E25: =360*(init_km_from_eq+C25)/(2*PI()*6.37*10^3) -> 15.029165 | F25: =dp_dy*(1+EXP(-(ABS(E24)-displ)/9*sharpness))^(-alpha) -> -0.00045106672 | G25: =F25*10^5/100 -> -0.45106672 | H25: =2*7.292*10^(-5)*SIN(E25*PI()/180) -> 3.7817872e-05 | I25: =(I24+dp_dy*(1+EXP(-(ABS(E24)-displ)/9*sharpness))^(-alpha)/(H24*rho))*COS(H24*time_step*3600)+J24*SIN(H24*time_step*3600)-dp_dy*(1+EXP(-(ABS(E24)-displ)/9*sharpness))^(-alpha)/(H24*rho) -> 0.12249023 | J25: =-(I24+dp_dy*(1+EXP(-(ABS(E24)-displ)/9*sharpness))^(-alpha)/(H24*rho))*SIN(H24*time_step*3600)+J24*COS(H24*time_step*3600) -> 2.7008112
A26: =A25+time_step -> 0.75 | B26: =B25+((I25+dp_dy*(1+EXP(-(ABS(E25)-displ)/9*sharpness))^(-alpha)/(H25*rho))/H25*SIN(H25*time_step*3600)-J25/H25*COS(H25*time_step*3600)-dp_dy*(1+EXP(-(ABS(E25)-displ)/9*sharpness))^(-alpha)*time_step*3600/(H25*rho)+J25/H25)/1000 -> 0.13951321 | C26: =C25+((I25+dp_dy*(1+EXP(-(ABS(E25)-displ)/9*sharpness))^(-alpha)/(H25*rho))/H25*COS(H25*time_step*3600)+J25/H25*SIN(H25*time_step*3600)-(I25+dp_dy*(1+EXP(-(ABS(E25)-displ)/9*sharpness))^(-alpha)/(H25*rho))/H25)/1000 -> 4.1033138 | D26: =B26 -> 0.13951321 | E26: =360*(init_km_from_eq+C26)/(2*PI()*6.37*10^3) -> 15.036908 | F26: =dp_dy*(1+EXP(-(ABS(E25)-displ)/9*sharpness))^(-alpha) -> -0.00045121652 | G26: =F26*10^5/100 -> -0.45121652 | H26: =2*7.292*10^(-5)*SIN(E26*PI()/180) -> 3.7836905e-05 | I26: =(I25+dp_dy*(1+EXP(-(ABS(E25)-displ)/9*sharpness))^(-alpha)/(H25*rho))*COS(H25*time_step*3600)+J25*SIN(H25*time_step*3600)-dp_dy*(1+EXP(-(ABS(E25)-displ)/9*sharpness))^(-alpha)/(H25*rho) -> 0.15504305 | J26: =-(I25+dp_dy*(1+EXP(-(ABS(E25)-displ)/9*sharpness))^(-alpha)/(H25*rho))*SIN(H25*time_step*3600)+J25*COS(H25*time_step*3600) -> 3.0376528
A27: =A26+time_step -> 0.83333333 | B27: =B26+((I26+dp_dy*(1+EXP(-(ABS(E26)-displ)/9*sharpness))^(-alpha)/(H26*rho))/H26*SIN(H26*time_step*3600)-J26/H26*COS(H26*time_step*3600)-dp_dy*(1+EXP(-(ABS(E26)-displ)/9*sharpness))^(-alpha)*time_step*3600/(H26*rho)+J26/H26)/1000 -> 0.19138931 | C27: =C26+((I26+dp_dy*(1+EXP(-(ABS(E26)-displ)/9*sharpness))^(-alpha)/(H26*rho))/H26*COS(H26*time_step*3600)+J26/H26*SIN(H26*time_step*3600)-(I26+dp_dy*(1+EXP(-(ABS(E26)-displ)/9*sharpness))^(-alpha)/(H26*rho))/H26)/1000 -> 5.0651065 | D27: =B27 -> 0.19138931 | E27: =360*(init_km_from_eq+C27)/(2*PI()*6.37*10^3) -> 15.045559 | F27: =dp_dy*(1+EXP(-(ABS(E26)-displ)/9*sharpness))^(-alpha) -> -0.00045138631 | G27: =F27*10^5/100 -> -0.45138631 | H27: =2*7.292*10^(-5)*SIN(E27*PI()/180) -> 3.7858171e-05 | I27: =(I26+dp_dy*(1+EXP(-(ABS(E26)-displ)/9*sharpness))^(-alpha)/(H26*rho))*COS(H26*time_step*3600)+J26*SIN(H26*time_step*3600)-dp_dy*(1+EXP(-(ABS(E26)-displ)/9*sharpness))^(-alpha)/(H26*rho) -> 0.19143431 | J27: =-(I26+dp_dy*(1+EXP(-(ABS(E26)-displ)/9*sharpness))^(-alpha)/(H26*rho))*SIN(H26*time_step*3600)+J26*COS(H26*time_step*3600) -> 3.3742297
A28: =A27+time_step -> 0.91666667 | B28: =B27+((I27+dp_dy*(1+EXP(-(ABS(E27)-displ)/9*sharpness))^(-alpha)/(H27*rho))/H27*SIN(H27*time_step*3600)-J27/H27*COS(H27*time_step*3600)-dp_dy*(1+EXP(-(ABS(E27)-displ)/9*sharpness))^(-alpha)*time_step*3600/(H27*rho)+J27/H27)/1000 -> 0.25475903 | C28: =C27+((I27+dp_dy*(1+EXP(-(ABS(E27)-displ)/9*sharpness))^(-alpha)/(H27*rho))/H27*COS(H27*time_step*3600)+J27/H27*SIN(H27*time_step*3600)-(I27+dp_dy*(1+EXP(-(ABS(E27)-displ)/9*sharpness))^(-alpha)/(H27*rho))/H27)/1000 -> 6.1278293 | D28: =B28 -> 0.25475903 | E28: =360*(init_km_from_eq+C28)/(2*PI()*6.37*10^3) -> 15.055118 | F28: =dp_dy*(1+EXP(-(ABS(E27)-displ)/9*sharpness))^(-alpha) -> -0.00045157608 | G28: =F28*10^5/100 -> -0.45157608 | H28: =2*7.292*10^(-5)*SIN(E28*PI()/180) -> 3.7881667e-05 | I28: =(I27+dp_dy*(1+EXP(-(ABS(E27)-displ)/9*sharpness))^(-alpha)/(H27*rho))*COS(H27*time_step*3600)+J27*SIN(H27*time_step*3600)-dp_dy*(1+EXP(-(ABS(E27)-displ)/9*sharpness))^(-alpha)/(H27*rho) -> 0.23166705 | J28: =-(I27+dp_dy*(1+EXP(-(ABS(E27)-displ)/9*sharpness))^(-alpha)/(H27*rho))*SIN(H27*time_step*3600)+J27*COS(H27*time_step*3600) -> 3.7105127
A29: =A28+time_step -> 1 | B29: =B28+((I28+dp_dy*(1+EXP(-(ABS(E28)-displ)/9*sharpness))^(-alpha)/(H28*rho))/H28*SIN(H28*time_step*3600)-J28/H28*COS(H28*time_step*3600)-dp_dy*(1+EXP(-(ABS(E28)-displ)/9*sharpness))^(-alpha)*time_step*3600/(H28*rho)+J28/H28)/1000 -> 0.33077533 | C29: =C28+((I28+dp_dy*(1+EXP(-(ABS(E28)-displ)/9*sharpness))^(-alpha)/(H28*rho))/H28*COS(H28*time_step*3600)+J28/H28*SIN(H28*time_step*3600)-(I28+dp_dy*(1+EXP(-(ABS(E28)-displ)/9*sharpness))^(-alpha)/(H28*rho))/H28)/1000 -> 7.2913896 | D29: =B29 -> 0.33077533 | E29: =360*(init_km_from_eq+C29)/(2*PI()*6.37*10^3) -> 15.065583 | F29: =dp_dy*(1+EXP(-(ABS(E28)-displ)/9*sharpness))^(-alpha) -> -0.00045178585 | G29: =F29*10^5/100 -> -0.45178585 | H29: =2*7.292*10^(-5)*SIN(E29*PI()/180) -> 3.7907392e-05 | I29: =(I28+dp_dy*(1+EXP(-(ABS(E28)-displ)/9*sharpness))^(-alpha)/(H28*rho))*COS(H28*time_step*3600)+J28*SIN(H28*time_step*3600)-dp_dy*(1+EXP(-(ABS(E28)-displ)/9*sharpness))^(-alpha)/(H28*rho) -> 0.27574466 | J29: =-(I28+dp_dy*(1+EXP(-(ABS(E28)-displ)/9*sharpness))^(-alpha)/(H28*rho))*SIN(H28*time_step*3600)+J28*COS(H28*time_step*3600) -> 4.0464725
... A65: =A64+time_step -> 4 | B65: =B64+((I64+dp_dy*(1+EXP(-(ABS(E64)-displ)/9*sharpness))^(-alpha)/(H64*rho))/H64*SIN(H64*time_step*3600)-J64/H64*COS(H64*time_step*3600)-dp_dy*(1+EXP(-(ABS(E64)-displ)/9*sharpness))^(-alpha)*time_step*3600/(H64*rho)+J64/H64)/1000 -> 21.351899 | C65: =C64+((I64+dp_dy*(1+EXP(-(ABS(E64)-displ)/9*sharpness))^(-alpha)/(H64*rho))/H64*COS(H64*time_step*3600)+J64/H64*SIN(H64*time_step*3600)-(I64+dp_dy*(1+EXP(-(ABS(E64)-displ)/9*sharpness))^(-alpha)/(H64*rho))/H64)/1000 -> 114.77571 | D65: =B65 -> 21.351899 | E65: =360*(init_km_from_eq+C65)/(2*PI()*6.37*10^3) -> 16.032365 | F65: =dp_dy*(1+EXP(-(ABS(E64)-displ)/9*sharpness))^(-alpha) -> -0.00047272046 | G65: =F65*10^5/100 -> -0.47272046 | H65: =2*7.292*10^(-5)*SIN(E65*PI()/180) -> 4.0278135e-05 | I65: =(I64+dp_dy*(1+EXP(-(ABS(E64)-displ)/9*sharpness))^(-alpha)/(H64*rho))*COS(H64*time_step*3600)+J64*SIN(H64*time_step*3600)-dp_dy*(1+EXP(-(ABS(E64)-displ)/9*sharpness))^(-alpha)/(H64*rho) -> 4.473763 | J65: =-(I64+dp_dy*(1+EXP(-(ABS(E64)-displ)/9*sharpness))^(-alpha)/(H64*rho))*SIN(H64*time_step*3600)+J64*COS(H64*time_step*3600) -> 15.651176
A66: =A65+time_step -> 4.0833333 | B66: =B65+((I65+dp_dy*(1+EXP(-(ABS(E65)-displ)/9*sharpness))^(-alpha)/(H65*rho))/H65*SIN(H65*time_step*3600)-J65/H65*COS(H65*time_step*3600)-dp_dy*(1+EXP(-(ABS(E65)-displ)/9*sharpness))^(-alpha)*time_step*3600/(H65*rho)+J65/H65)/1000 -> 22.722577 | C66: =C65+((I65+dp_dy*(1+EXP(-(ABS(E65)-displ)/9*sharpness))^(-alpha)/(H65*rho))/H65*COS(H65*time_step*3600)+J65/H65*SIN(H65*time_step*3600)-(I65+dp_dy*(1+EXP(-(ABS(E65)-displ)/9*sharpness))^(-alpha)/(H65*rho))/H65)/1000 -> 119.51613 | D66: =B66 -> 22.722577 | E66: =360*(init_km_from_eq+C66)/(2*PI()*6.37*10^3) -> 16.075003 | F66: =dp_dy*(1+EXP(-(ABS(E65)-displ)/9*sharpness))^(-alpha) -> -0.00047367549 | G66: =F66*10^5/100 -> -0.47367549 | H66: =2*7.292*10^(-5)*SIN(E66*PI()/180) -> 4.0382434e-05 | I66: =(I65+dp_dy*(1+EXP(-(ABS(E65)-displ)/9*sharpness))^(-alpha)/(H65*rho))*COS(H65*time_step*3600)+J65*SIN(H65*time_step*3600)-dp_dy*(1+EXP(-(ABS(E65)-displ)/9*sharpness))^(-alpha)/(H65*rho) -> 4.6646982 | J66: =-(I65+dp_dy*(1+EXP(-(ABS(E65)-displ)/9*sharpness))^(-alpha)/(H65*rho))*SIN(H65*time_step*3600)+J65*COS(H65*time_step*3600) -> 15.951224 | V66: P-grad slope
A67: =A66+time_step -> 4.1666667 | B67: =B66+((I66+dp_dy*(1+EXP(-(ABS(E66)-displ)/9*sharpness))^(-alpha)/(H66*rho))/H66*SIN(H66*time_step*3600)-J66/H66*COS(H66*time_step*3600)-dp_dy*(1+EXP(-(ABS(E66)-displ)/9*sharpness))^(-alpha)*time_step*3600/(H66*rho)+J66/H66)/1000 -> 24.151154 | C67: =C66+((I66+dp_dy*(1+EXP(-(ABS(E66)-displ)/9*sharpness))^(-alpha)/(H66*rho))/H66*COS(H66*time_step*3600)+J66/H66*SIN(H66*time_step*3600)-(I66+dp_dy*(1+EXP(-(ABS(E66)-displ)/9*sharpness))^(-alpha)/(H66*rho))/H66)/1000 -> 124.3463 | D67: =B67 -> 24.151154 | E67: =360*(init_km_from_eq+C67)/(2*PI()*6.37*10^3) -> 16.118449 | F67: =dp_dy*(1+EXP(-(ABS(E66)-displ)/9*sharpness))^(-alpha) -> -0.00047465075 | G67: =F67*10^5/100 -> -0.47465075 | H67: =2*7.292*10^(-5)*SIN(E67*PI()/180) -> 4.0488684e-05 | I67: =(I66+dp_dy*(1+EXP(-(ABS(E66)-displ)/9*sharpness))^(-alpha)/(H66*rho))*COS(H66*time_step*3600)+J66*SIN(H66*time_step*3600)-dp_dy*(1+EXP(-(ABS(E66)-displ)/9*sharpness))^(-alpha)/(H66*rho) -> 4.8597523 | J67: =-(I66+dp_dy*(1+EXP(-(ABS(E66)-displ)/9*sharpness))^(-alpha)/(H66*rho))*SIN(H66*time_step*3600)+J66*COS(H66*time_step*3600) -> 16.249523 | V67: displ | W67: alpha
A68: =A67+time_step -> 4.25 | B68: =B67+((I67+dp_dy*(1+EXP(-(ABS(E67)-displ)/9*sharpness))^(-alpha)/(H67*rho))/H67*SIN(H67*time_step*3600)-J67/H67*COS(H67*time_step*3600)-dp_dy*(1+EXP(-(ABS(E67)-displ)/9*sharpness))^(-alpha)*time_step*3600/(H67*rho)+J67/H67)/1000 -> 25.638867 | C68: =C67+((I67+dp_dy*(1+EXP(-(ABS(E67)-displ)/9*sharpness))^(-alpha)/(H67*rho))/H67*COS(H67*time_step*3600)+J67/H67*SIN(H67*time_step*3600)-(I67+dp_dy*(1+EXP(-(ABS(E67)-displ)/9*sharpness))^(-alpha)/(H67*rho))/H67)/1000 -> 129.26569 | D68: =B68 -> 25.638867 | E68: =360*(init_km_from_eq+C68)/(2*PI()*6.37*10^3) -> 16.162697 | F68: =dp_dy*(1+EXP(-(ABS(E67)-displ)/9*sharpness))^(-alpha) -> -0.00047564622 | G68: =F68*10^5/100 -> -0.47564622 | H68: =2*7.292*10^(-5)*SIN(E68*PI()/180) -> 4.0596873e-05 | I68: =(I67+dp_dy*(1+EXP(-(ABS(E67)-displ)/9*sharpness))^(-alpha)/(H67*rho))*COS(H67*time_step*3600)+J67*SIN(H67*time_step*3600)-dp_dy*(1+EXP(-(ABS(E67)-displ)/9*sharpness))^(-alpha)/(H67*rho) -> 5.058932 | J68: =-(I67+dp_dy*(1+EXP(-(ABS(E67)-displ)/9*sharpness))^(-alpha)/(H67*rho))*SIN(H67*time_step*3600)+J67*COS(H67*time_step*3600) -> 16.546022 | V68: 50 | W68: 1
A69: =A68+time_step -> 4.3333333 | B69: =B68+((I68+dp_dy*(1+EXP(-(ABS(E68)-displ)/9*sharpness))^(-alpha)/(H68*rho))/H68*SIN(H68*time_step*3600)-J68/H68*COS(H68*time_step*3600)-dp_dy*(1+EXP(-(ABS(E68)-displ)/9*sharpness))^(-alpha)*time_step*3600/(H68*rho)+J68/H68)/1000 -> 27.186954 | C69: =C68+((I68+dp_dy*(1+EXP(-(ABS(E68)-displ)/9*sharpness))^(-alpha)/(H68*rho))/H68*COS(H68*time_step*3600)+J68/H68*SIN(H68*time_step*3600)-(I68+dp_dy*(1+EXP(-(ABS(E68)-displ)/9*sharpness))^(-alpha)/(H68*rho))/H68)/1000 -> 134.27376 | D69: =B69 -> 27.186954 | E69: =360*(init_km_from_eq+C69)/(2*PI()*6.37*10^3) -> 16.207742 | F69: =dp_dy*(1+EXP(-(ABS(E68)-displ)/9*sharpness))^(-alpha) -> -0.0004766619 | G69: =F69*10^5/100 -> -0.4766619 | H69: =2*7.292*10^(-5)*SIN(E69*PI()/180) -> 4.0706988e-05 | I69: =(I68+dp_dy*(1+EXP(-(ABS(E68)-displ)/9*sharpness))^(-alpha)/(H68*rho))*COS(H68*time_step*3600)+J68*SIN(H68*time_step*3600)-dp_dy*(1+EXP(-(ABS(E68)-displ)/9*sharpness))^(-alpha)/(H68*rho) -> 5.2622438 | J69: =-(I68+dp_dy*(1+EXP(-(ABS(E68)-displ)/9*sharpness))^(-alpha)/(H68*rho))*SIN(H68*time_step*3600)+J68*COS(H68*time_step*3600) -> 16.840671
A70: =A69+time_step -> 4.4166667 | B70: =B69+((I69+dp_dy*(1+EXP(-(ABS(E69)-displ)/9*sharpness))^(-alpha)/(H69*rho))/H69*SIN(H69*time_step*3600)-J69/H69*COS(H69*time_step*3600)-dp_dy*(1+EXP(-(ABS(E69)-displ)/9*sharpness))^(-alpha)*time_step*3600/(H69*rho)+J69/H69)/1000 -> 28.796655 | C70: =C69+((I69+dp_dy*(1+EXP(-(ABS(E69)-displ)/9*sharpness))^(-alpha)/(H69*rho))/H69*COS(H69*time_step*3600)+J69/H69*SIN(H69*time_step*3600)-(I69+dp_dy*(1+EXP(-(ABS(E69)-displ)/9*sharpness))^(-alpha)/(H69*rho))/H69)/1000 -> 139.36994 | D70: =B70 -> 28.796655 | E70: =360*(init_km_from_eq+C70)/(2*PI()*6.37*10^3) -> 16.253581 | F70: =dp_dy*(1+EXP(-(ABS(E69)-displ)/9*sharpness))^(-alpha) -> -0.00047769777 | G70: =F70*10^5/100 -> -0.47769777 | H70: =2*7.292*10^(-5)*SIN(E70*PI()/180) -> 4.0819013e-05 | I70: =(I69+dp_dy*(1+EXP(-(ABS(E69)-displ)/9*sharpness))^(-alpha)/(H69*rho))*COS(H69*time_step*3600)+J69*SIN(H69*time_step*3600)-dp_dy*(1+EXP(-(ABS(E69)-displ)/9*sharpness))^(-alpha)/(H69*rho) -> 5.4696938 | J70: =-(I69+dp_dy*(1+EXP(-(ABS(E69)-displ)/9*sharpness))^(-alpha)/(H69*rho))*SIN(H69*time_step*3600)+J69*COS(H69*time_step*3600) -> 17.133418
A71: =A70+time_step -> 4.5 | B71: =B70+((I70+dp_dy*(1+EXP(-(ABS(E70)-displ)/9*sharpness))^(-alpha)/(H70*rho))/H70*SIN(H70*time_step*3600)-J70/H70*COS(H70*time_step*3600)-dp_dy*(1+EXP(-(ABS(E70)-displ)/9*sharpness))^(-alpha)*time_step*3600/(H70*rho)+J70/H70)/1000 -> 30.469213 | C71: =C70+((I70+dp_dy*(1+EXP(-(ABS(E70)-displ)/9*sharpness))^(-alpha)/(H70*rho))/H70*COS(H70*time_step*3600)+J70/H70*SIN(H70*time_step*3600)-(I70+dp_dy*(1+EXP(-(ABS(E70)-displ)/9*sharpness))^(-alpha)/(H70*rho))/H70)/1000 -> 144.55364 | D71: =B71 -> 30.469213 | E71: =360*(init_km_from_eq+C71)/(2*PI()*6.37*10^3) -> 16.300206 | F71: =dp_dy*(1+EXP(-(ABS(E70)-displ)/9*sharpness))^(-alpha) -> -0.00047875383 | G71: =F71*10^5/100 -> -0.47875383 | H71: =2*7.292*10^(-5)*SIN(E71*PI()/180) -> 4.0932937e-05 | I71: =(I70+dp_dy*(1+EXP(-(ABS(E70)-displ)/9*sharpness))^(-alpha)/(H70*rho))*COS(H70*time_step*3600)+J70*SIN(H70*time_step*3600)-dp_dy*(1+EXP(-(ABS(E70)-displ)/9*sharpness))^(-alpha)/(H70*rho) -> 5.6812877 | J71: =-(I70+dp_dy*(1+EXP(-(ABS(E70)-displ)/9*sharpness))^(-alpha)/(H70*rho))*SIN(H70*time_step*3600)+J70*COS(H70*time_step*3600) -> 17.424211 | U71: latitude | V71: fraction of p gradient at pole | X71: hPa 100km-1
A72: =A71+time_step -> 4.5833333 | B72: =B71+((I71+dp_dy*(1+EXP(-(ABS(E71)-displ)/9*sharpness))^(-alpha)/(H71*rho))/H71*SIN(H71*time_step*3600)-J71/H71*COS(H71*time_step*3600)-dp_dy*(1+EXP(-(ABS(E71)-displ)/9*sharpness))^(-alpha)*time_step*3600/(H71*rho)+J71/H71)/1000 -> 32.205872 | C72: =C71+((I71+dp_dy*(1+EXP(-(ABS(E71)-displ)/9*sharpness))^(-alpha)/(H71*rho))/H71*COS(H71*time_step*3600)+J71/H71*SIN(H71*time_step*3600)-(I71+dp_dy*(1+EXP(-(ABS(E71)-displ)/9*sharpness))^(-alpha)/(H71*rho))/H71)/1000 -> 149.82429 | D72: =B72 -> 32.205872 | E72: =360*(init_km_from_eq+C72)/(2*PI()*6.37*10^3) -> 16.347614 | F72: =dp_dy*(1+EXP(-(ABS(E71)-displ)/9*sharpness))^(-alpha) -> -0.00047983005 | G72: =F72*10^5/100 -> -0.47983005 | H72: =2*7.292*10^(-5)*SIN(E72*PI()/180) -> 4.1048743e-05 | I72: =(I71+dp_dy*(1+EXP(-(ABS(E71)-displ)/9*sharpness))^(-alpha)/(H71*rho))*COS(H71*time_step*3600)+J71*SIN(H71*time_step*3600)-dp_dy*(1+EXP(-(ABS(E71)-displ)/9*sharpness))^(-alpha)/(H71*rho) -> 5.8970308 | J72: =-(I71+dp_dy*(1+EXP(-(ABS(E71)-displ)/9*sharpness))^(-alpha)/(H71*rho))*SIN(H71*time_step*3600)+J71*COS(H71*time_step*3600) -> 17.712997 | U72: -45 | V72: =(1+EXP(-(U72-displ)/9*sharpness))^(-alpha) -> 0.0050778438 | X72: =V72*$D$4 -> -0.018280238
A73: =A72+time_step -> 4.6666667 | B73: =B72+((I72+dp_dy*(1+EXP(-(ABS(E72)-displ)/9*sharpness))^(-alpha)/(H72*rho))/H72*SIN(H72*time_step*3600)-J72/H72*COS(H72*time_step*3600)-dp_dy*(1+EXP(-(ABS(E72)-displ)/9*sharpness))^(-alpha)*time_step*3600/(H72*rho)+J72/H72)/1000 -> 34.007878 | C73: =C72+((I72+dp_dy*(1+EXP(-(ABS(E72)-displ)/9*sharpness))^(-alpha)/(H72*rho))/H72*COS(H72*time_step*3600)+J72/H72*SIN(H72*time_step*3600)-(I72+dp_dy*(1+EXP(-(ABS(E72)-displ)/9*sharpness))^(-alpha)/(H72*rho))/H72)/1000 -> 155.18127 | D73: =B73 -> 34.007878 | E73: =360*(init_km_from_eq+C73)/(2*PI()*6.37*10^3) -> 16.395798 | F73: =dp_dy*(1+EXP(-(ABS(E72)-displ)/9*sharpness))^(-alpha) -> -0.00048092642 | G73: =F73*10^5/100 -> -0.48092642 | H73: =2*7.292*10^(-5)*SIN(E73*PI()/180) -> 4.1166417e-05 | I73: =(I72+dp_dy*(1+EXP(-(ABS(E72)-displ)/9*sharpness))^(-alpha)/(H72*rho))*COS(H72*time_step*3600)+J72*SIN(H72*time_step*3600)-dp_dy*(1+EXP(-(ABS(E72)-displ)/9*sharpness))^(-alpha)/(H72*rho) -> 6.1169279 | J73: =-(I72+dp_dy*(1+EXP(-(ABS(E72)-displ)/9*sharpness))^(-alpha)/(H72*rho))*SIN(H72*time_step*3600)+J72*COS(H72*time_step*3600) -> 17.999722 | U73: =U72+9 -> -36 | V73: =(1+EXP(-(U73-displ)/9*sharpness))^(-alpha) -> 0.0083444615 | X73: =V73*$D$4 -> -0.030040062
A74: =A73+time_step -> 4.75 | B74: =B73+((I73+dp_dy*(1+EXP(-(ABS(E73)-displ)/9*sharpness))^(-alpha)/(H73*rho))/H73*SIN(H73*time_step*3600)-J73/H73*COS(H73*time_step*3600)-dp_dy*(1+EXP(-(ABS(E73)-displ)/9*sharpness))^(-alpha)*time_step*3600/(H73*rho)+J73/H73)/1000 -> 35.876477 | C74: =C73+((I73+dp_dy*(1+EXP(-(ABS(E73)-displ)/9*sharpness))^(-alpha)/(H73*rho))/H73*COS(H73*time_step*3600)+J73/H73*SIN(H73*time_step*3600)-(I73+dp_dy*(1+EXP(-(ABS(E73)-displ)/9*sharpness))^(-alpha)/(H73*rho))/H73)/1000 -> 160.62394 | D74: =B74 -> 35.876477 | E74: =360*(init_km_from_eq+C74)/(2*PI()*6.37*10^3) -> 16.444753 | F74: =dp_dy*(1+EXP(-(ABS(E73)-displ)/9*sharpness))^(-alpha) -> -0.00048204292 | G74: =F74*10^5/100 -> -0.48204292 | H74: =2*7.292*10^(-5)*SIN(E74*PI()/180) -> 4.1285944e-05 | I74: =(I73+dp_dy*(1+EXP(-(ABS(E73)-displ)/9*sharpness))^(-alpha)/(H73*rho))*COS(H73*time_step*3600)+J73*SIN(H73*time_step*3600)-dp_dy*(1+EXP(-(ABS(E73)-displ)/9*sharpness))^(-alpha)/(H73*rho) -> 6.3409834 | J74: =-(I73+dp_dy*(1+EXP(-(ABS(E73)-displ)/9*sharpness))^(-alpha)/(H73*rho))*SIN(H73*time_step*3600)+J73*COS(H73*time_step*3600) -> 18.284331 | U74: =U73+9 -> -27 | V74: =(1+EXP(-(U74-displ)/9*sharpness))^(-alpha) -> 0.013683619 | X74: =V74*$D$4 -> -0.049261027
