Workbook
Name alpha: 'Multiple trajectories'!$P$55
Name alpha: 'Traj 1'!$W$68
Name alpha: 'Traj 2'!$W$68
Name alpha: 'Traj 3'!$W$68
Name alpha: 'Traj 4'!$W$68
Name alpha: 'Traj 5'!$W$68
Name alpha: #REF!
Name displ: 'Multiple trajectories'!$O$55
Name displ: 'Traj 1'!$V$68
Name displ: 'Traj 2'!$V$68
Name displ: 'Traj 3'!$V$68
Name displ: 'Traj 4'!$V$68
Name displ: 'Traj 5'!$V$68
Name displ: #REF!
Name dp_dy: 'Multiple trajectories'!#REF!
Name dp_dy: 'Traj 1'!$D$5
Name dp_dy: 'Traj 2'!$D$5
Name dp_dy: 'Traj 3'!$D$5
Name dp_dy: 'Traj 4'!$D$5
Name dp_dy: 'Traj 5'!$D$5
Name dp_dy: #REF!
Name f: 'Multiple trajectories'!#REF!
Name f: 'Traj 1'!$D$8
Name f: 'Traj 2'!$D$8
Name f: 'Traj 3'!$D$8
Name f: 'Traj 4'!$D$8
Name f: 'Traj 5'!$D$8
Name f: #REF!
Name init_km_from_eq: 'Multiple trajectories'!#REF!
Name init_km_from_eq: 'Traj 1'!$H$7
Name init_km_from_eq: 'Traj 2'!$H$7
Name init_km_from_eq: 'Traj 3'!$H$7
Name init_km_from_eq: 'Traj 4'!$H$7
Name init_km_from_eq: 'Traj 5'!$H$7
Name init_km_from_eq: #REF!
Name latitude: 'Multiple trajectories'!#REF!
Name latitude: 'Traj 1'!$D$7
Name latitude: 'Traj 2'!$D$7
Name latitude: 'Traj 3'!$D$7
Name latitude: 'Traj 4'!$D$7
Name latitude: 'Traj 5'!$D$7
Name latitude: #REF!
Name rho: 'Multiple trajectories'!#REF!
Name rho: 'Traj 1'!$D$3
Name rho: 'Traj 2'!$D$3
Name rho: 'Traj 3'!$D$3
Name rho: 'Traj 4'!$D$3
Name rho: 'Traj 5'!$D$3
Name rho: #REF!
Name sharpness: 'Multiple trajectories'!#REF!
Name sharpness: 'Traj 1'!$D$6
Name sharpness: 'Traj 2'!$D$6
Name sharpness: 'Traj 3'!$D$6
Name sharpness: 'Traj 4'!$D$6
Name sharpness: 'Traj 5'!$D$6
Name sharpness: #REF!
Name time_step: 'Multiple trajectories'!#REF!
Name time_step: 'Traj 1'!$D$13
Name time_step: 'Traj 2'!$D$13
Name time_step: 'Traj 3'!$D$13

Sheet Multiple trajectories
A1: Enter:
F2: trajectory 1 | G2: traj 2 | H2: traj 3 | I2: traj 4 | J2: traj 5
B3: timestep: | C3: =1/12 -> 0.083333333 | D3: hr | E3: initial latitudes: | F3: 0 | G3: 5 | H3: 10 | I3: 15 | J3: -5 | K3: deg
C4: =C3*60 -> 5 | D4: minutes

Sheet Traj 1
C2: Enter:
C3: air density r | D3: 0.4 | E3: kg m-3 | F3: 1.225 | G3: kg m-3 at MSL | I3: 0.4 | J3: kg m-3 at tropopause
C4: N-S pressure gradient at pole | D4: -3.6 | E4: hPa 100km-1
C5: = | D5: =D4*100/10^5 -> -0.0036 | E5: Pa m-1
C6: inflection of NS press. gradient | D6: 0.5 | E6: see diagram to right
C7: initial latitude | D7: ='Multiple trajectories'!F3 -> 0 | E7: deg | H7: =2*PI()*6.37*10^3*IF(latitude=0,10^(-6),latitude)/360 -> 0.00011117747 | I7: km from equator (y distance) | L7: where f = | M7: =2*7.292*10^(-5)*SIN(360*H7/(2*PI()*6.37*10^3)*PI()/180) -> 2.5453882e-12 | N7: s-1
C8: f = | D8: =2*7.292*10^(-5)*SIN(IF(latitude=0,10^(-6),latitude)*PI()/180) -> 2.5453882e-12 | E8: s-1 | L8: =IF(latitude>0,"Air parcel initially in Northern Hemisphere",IF(latitude=0,"Air parcel initially at equator","Air parcel initially in Southern Hemisphere")) -> Air parcel initially at equator
B10: initial velocity | C10: uo = | D10: 0 | E10: m s-1
C11: vo = | D11: 0 | E11: m s-1 | L11: Equator is at | M11: =-init_km_from_eq -> -0.00011117747 | N11: km on y-axis
C13: time-step = | D13: ='Multiple trajectories'!C3 -> 0.083333333 | E13: hr | I13: max u:
I14: =MAX(I17:I400) -> 92.496837 | J14: m s-1
F15: dp/dy | G15: dp/dy
A16: time (hr) | B16: x (km) | C16: y (km) | D16: =B16 -> x (km) | E16: lat (deg) | F16: Pa m-1 | G16: hPa 100km-1 | H16: f (s-1) | I16: u (ms-1) | J16: v (ms-1)
A17: 0 | B17: =((uo+dp_dy/(f*rho))/f*SIN(f*A17*3600)-vo/f*COS(f*A17*3600)-dp_dy*A17*3600/(f*rho)+vo/f)/1000 -> 0 | C17: =((uo+dp_dy/(f*rho))/f*COS(f*A17*3600)+vo/f*SIN(f*A17*3600)-(uo+dp_dy/(f*rho))/f)/1000 -> 0 | D17: =B17 -> 0 | E17: =IF(latitude=0,10^(-6),latitude) -> 1e-06 | F17: =dp_dy*(1+EXP(-(ABS(E17)-displ)/9*sharpness))^(-alpha) -> -0.00027308946 | G17: =F17*10^5/100 -> -0.27308946 | H17: =2*7.292*10^(-5)*SIN(E17*PI()/180) -> 2.5453882e-12 | I17: =(uo+dp_dy/(f*rho))*COS(f*$A17*3600)+vo*SIN(f*$A17*3600)-dp_dy/(f*rho) -> 0 | J17: =-(uo+dp_dy/(f*rho))*SIN(f*$A17*3600)+vo*COS(f*$A17*3600) -> 0
A18: =A17+time_step -> 0.083333333 | B18: =B17+((I17+dp_dy*(1+EXP(-(ABS(E17)-displ)/9*sharpness))^(-alpha)/(H17*rho))/H17*SIN(H17*time_step*3600)-J17/H17*COS(H17*time_step*3600)-dp_dy*(1+EXP(-(ABS(E17)-displ)/9*sharpness))^(-alpha)*time_step*3600/(H17*rho)+J17/H17)/1000 -> 0 | C18: =C17+((I17+dp_dy*(1+EXP(-(ABS(E17)-displ)/9*sharpness))^(-alpha)/(H17*rho))/H17*COS(H17*time_step*3600)+J17/H17*SIN(H17*time_step*3600)-(I17+dp_dy*(1+EXP(-(ABS(E17)-displ)/9*sharpness))^(-alpha)/(H17*rho))/H17)/1000 -> 0 | D18: =B18 -> 0 | E18: =360*(init_km_from_eq+C18)/(2*PI()*6.37*10^3) -> 1e-06 | F18: =dp_dy*(1+EXP(-(ABS(E17)-displ)/9*sharpness))^(-alpha) -> -0.00027308946 | G18: =F18*10^5/100 -> -0.27308946 | H18: =2*7.292*10^(-5)*SIN(E18*PI()/180) -> 2.5453882e-12 | I18: =(I17+dp_dy*(1+EXP(-(ABS(E17)-displ)/9*sharpness))^(-alpha)/(H17*rho))*COS(H17*time_step*3600)+J17*SIN(H17*time_step*3600)-dp_dy*(1+EXP(-(ABS(E17)-displ)/9*sharpness))^(-alpha)/(H17*rho) -> 0 | J18: =-(I17+dp_dy*(1+EXP(-(ABS(E17)-displ)/9*sharpness))^(-alpha)/(H17*rho))*SIN(H17*time_step*3600)+J17*COS(H17*time_step*3600) -> 0.2048171
A19: =A18+time_step -> 0.16666667 | B19: =B18+((I18+dp_dy*(1+EXP(-(ABS(E18)-displ)/9*sharpness))^(-alpha)/(H18*rho))/H18*SIN(H18*time_step*3600)-J18/H18*COS(H18*time_step*3600)-dp_dy*(1+EXP(-(ABS(E18)-displ)/9*sharpness))^(-alpha)*time_step*3600/(H18*rho)+J18/H18)/1000 -> 0 | C19: =C18+((I18+dp_dy*(1+EXP(-(ABS(E18)-displ)/9*sharpness))^(-alpha)/(H18*rho))/H18*COS(H18*time_step*3600)+J18/H18*SIN(H18*time_step*3600)-(I18+dp_dy*(1+EXP(-(ABS(E18)-displ)/9*sharpness))^(-alpha)/(H18*rho))/H18)/1000 -> 0 | D19: =B19 -> 0 | E19: =360*(init_km_from_eq+C19)/(2*PI()*6.37*10^3) -> 1e-06 | F19: =dp_dy*(1+EXP(-(ABS(E18)-displ)/9*sharpness))^(-alpha) -> -0.00027308946 | G19: =F19*10^5/100 -> -0.27308946 | H19: =2*7.292*10^(-5)*SIN(E19*PI()/180) -> 2.5453882e-12 | I19: =(I18+dp_dy*(1+EXP(-(ABS(E18)-displ)/9*sharpness))^(-alpha)/(H18*rho))*COS(H18*time_step*3600)+J18*SIN(H18*time_step*3600)-dp_dy*(1+EXP(-(ABS(E18)-displ)/9*sharpness))^(-alpha)/(H18*rho) -> 0 | J19: =-(I18+dp_dy*(1+EXP(-(ABS(E18)-displ)/9*sharpness))^(-alpha)/(H18*rho))*SIN(H18*time_step*3600)+J18*COS(H18*time_step*3600) -> 0.40963419
A20: =A19+time_step -> 0.25 | B20: =B19+((I19+dp_dy*(1+EXP(-(ABS(E19)-displ)/9*sharpness))^(-alpha)/(H19*rho))/H19*SIN(H19*time_step*3600)-J19/H19*COS(H19*time_step*3600)-dp_dy*(1+EXP(-(ABS(E19)-displ)/9*sharpness))^(-alpha)*time_step*3600/(H19*rho)+J19/H19)/1000 -> 0 | C20: =C19+((I19+dp_dy*(1+EXP(-(ABS(E19)-displ)/9*sharpness))^(-alpha)/(H19*rho))/H19*COS(H19*time_step*3600)+J19/H19*SIN(H19*time_step*3600)-(I19+dp_dy*(1+EXP(-(ABS(E19)-displ)/9*sharpness))^(-alpha)/(H19*rho))/H19)/1000 -> 0 | D20: =B20 -> 0 | E20: =360*(init_km_from_eq+C20)/(2*PI()*6.37*10^3) -> 1e-06 | F20: =dp_dy*(1+EXP(-(ABS(E19)-displ)/9*sharpness))^(-alpha) -> -0.00027308946 | G20: =F20*10^5/100 -> -0.27308946 | H20: =2*7.292*10^(-5)*SIN(E20*PI()/180) -> 2.5453882e-12 | I20: =(I19+dp_dy*(1+EXP(-(ABS(E19)-displ)/9*sharpness))^(-alpha)/(H19*rho))*COS(H19*time_step*3600)+J19*SIN(H19*time_step*3600)-dp_dy*(1+EXP(-(ABS(E19)-displ)/9*sharpness))^(-alpha)/(H19*rho) -> 0 | J20: =-(I19+dp_dy*(1+EXP(-(ABS(E19)-displ)/9*sharpness))^(-alpha)/(H19*rho))*SIN(H19*time_step*3600)+J19*COS(H19*time_step*3600) -> 0.61445129
A21: =A20+time_step -> 0.33333333 | B21: =B20+((I20+dp_dy*(1+EXP(-(ABS(E20)-displ)/9*sharpness))^(-alpha)/(H20*rho))/H20*SIN(H20*time_step*3600)-J20/H20*COS(H20*time_step*3600)-dp_dy*(1+EXP(-(ABS(E20)-displ)/9*sharpness))^(-alpha)*time_step*3600/(H20*rho)+J20/H20)/1000 -> 0 | C21: =C20+((I20+dp_dy*(1+EXP(-(ABS(E20)-displ)/9*sharpness))^(-alpha)/(H20*rho))/H20*COS(H20*time_step*3600)+J20/H20*SIN(H20*time_step*3600)-(I20+dp_dy*(1+EXP(-(ABS(E20)-displ)/9*sharpness))^(-alpha)/(H20*rho))/H20)/1000 -> 0 | D21: =B21 -> 0 | E21: =360*(init_km_from_eq+C21)/(2*PI()*6.37*10^3) -> 1e-06 | F21: =dp_dy*(1+EXP(-(ABS(E20)-displ)/9*sharpness))^(-alpha) -> -0.00027308946 | G21: =F21*10^5/100 -> -0.27308946 | H21: =2*7.292*10^(-5)*SIN(E21*PI()/180) -> 2.5453882e-12 | I21: =(I20+dp_dy*(1+EXP(-(ABS(E20)-displ)/9*sharpness))^(-alpha)/(H20*rho))*COS(H20*time_step*3600)+J20*SIN(H20*time_step*3600)-dp_dy*(1+EXP(-(ABS(E20)-displ)/9*sharpness))^(-alpha)/(H20*rho) -> 0 | J21: =-(I20+dp_dy*(1+EXP(-(ABS(E20)-displ)/9*sharpness))^(-alpha)/(H20*rho))*SIN(H20*time_step*3600)+J20*COS(H20*time_step*3600) -> 0.81926839
A22: =A21+time_step -> 0.41666667 | B22: =B21+((I21+dp_dy*(1+EXP(-(ABS(E21)-displ)/9*sharpness))^(-alpha)/(H21*rho))/H21*SIN(H21*time_step*3600)-J21/H21*COS(H21*time_step*3600)-dp_dy*(1+EXP(-(ABS(E21)-displ)/9*sharpness))^(-alpha)*time_step*3600/(H21*rho)+J21/H21)/1000 -> 0 | C22: =C21+((I21+dp_dy*(1+EXP(-(ABS(E21)-displ)/9*sharpness))^(-alpha)/(H21*rho))/H21*COS(H21*time_step*3600)+J21/H21*SIN(H21*time_step*3600)-(I21+dp_dy*(1+EXP(-(ABS(E21)-displ)/9*sharpness))^(-alpha)/(H21*rho))/H21)/1000 -> 0 | D22: =B22 -> 0 | E22: =360*(init_km_from_eq+C22)/(2*PI()*6.37*10^3) -> 1e-06 | F22: =dp_dy*(1+EXP(-(ABS(E21)-displ)/9*sharpness))^(-alpha) -> -0.00027308946 | G22: =F22*10^5/100 -> -0.27308946 | H22: =2*7.292*10^(-5)*SIN(E22*PI()/180) -> 2.5453882e-12 | I22: =(I21+dp_dy*(1+EXP(-(ABS(E21)-displ)/9*sharpness))^(-alpha)/(H21*rho))*COS(H21*time_step*3600)+J21*SIN(H21*time_step*3600)-dp_dy*(1+EXP(-(ABS(E21)-displ)/9*sharpness))^(-alpha)/(H21*rho) -> 0 | J22: =-(I21+dp_dy*(1+EXP(-(ABS(E21)-displ)/9*sharpness))^(-alpha)/(H21*rho))*SIN(H21*time_step*3600)+J21*COS(H21*time_step*3600) -> 1.0240855
A23: =A22+time_step -> 0.5 | B23: =B22+((I22+dp_dy*(1+EXP(-(ABS(E22)-displ)/9*sharpness))^(-alpha)/(H22*rho))/H22*SIN(H22*time_step*3600)-J22/H22*COS(H22*time_step*3600)-dp_dy*(1+EXP(-(ABS(E22)-displ)/9*sharpness))^(-alpha)*time_step*3600/(H22*rho)+J22/H22)/1000 -> 0 | C23: =C22+((I22+dp_dy*(1+EXP(-(ABS(E22)-displ)/9*sharpness))^(-alpha)/(H22*rho))/H22*COS(H22*time_step*3600)+J22/H22*SIN(H22*time_step*3600)-(I22+dp_dy*(1+EXP(-(ABS(E22)-displ)/9*sharpness))^(-alpha)/(H22*rho))/H22)/1000 -> 0 | D23: =B23 -> 0 | E23: =360*(init_km_from_eq+C23)/(2*PI()*6.37*10^3) -> 1e-06 | F23: =dp_dy*(1+EXP(-(ABS(E22)-displ)/9*sharpness))^(-alpha) -> -0.00027308946 | G23: =F23*10^5/100 -> -0.27308946 | H23: =2*7.292*10^(-5)*SIN(E23*PI()/180) -> 2.5453882e-12 | I23: =(I22+dp_dy*(1+EXP(-(ABS(E22)-displ)/9*sharpness))^(-alpha)/(H22*rho))*COS(H22*time_step*3600)+J22*SIN(H22*time_step*3600)-dp_dy*(1+EXP(-(ABS(E22)-displ)/9*sharpness))^(-alpha)/(H22*rho) -> 0 | J23: =-(I22+dp_dy*(1+EXP(-(ABS(E22)-displ)/9*sharpness))^(-alpha)/(H22*rho))*SIN(H22*time_step*3600)+J22*COS(H22*time_step*3600) -> 1.2289026
A24: =A23+time_step -> 0.58333333 | B24: =B23+((I23+dp_dy*(1+EXP(-(ABS(E23)-displ)/9*sharpness))^(-alpha)/(H23*rho))/H23*SIN(H23*time_step*3600)-J23/H23*COS(H23*time_step*3600)-dp_dy*(1+EXP(-(ABS(E23)-displ)/9*sharpness))^(-alpha)*time_step*3600/(H23*rho)+J23/H23)/1000 -> 0 | C24: =C23+((I23+dp_dy*(1+EXP(-(ABS(E23)-displ)/9*sharpness))^(-alpha)/(H23*rho))/H23*COS(H23*time_step*3600)+J23/H23*SIN(H23*time_step*3600)-(I23+dp_dy*(1+EXP(-(ABS(E23)-displ)/9*sharpness))^(-alpha)/(H23*rho))/H23)/1000 -> 0 | D24: =B24 -> 0 | E24: =360*(init_km_from_eq+C24)/(2*PI()*6.37*10^3) -> 1e-06 | F24: =dp_dy*(1+EXP(-(ABS(E23)-displ)/9*sharpness))^(-alpha) -> -0.00027308946 | G24: =F24*10^5/100 -> -0.27308946 | H24: =2*7.292*10^(-5)*SIN(E24*PI()/180) -> 2.5453882e-12 | I24: =(I23+dp_dy*(1+EXP(-(ABS(E23)-displ)/9*sharpness))^(-alpha)/(H23*rho))*COS(H23*time_step*3600)+J23*SIN(H23*time_step*3600)-dp_dy*(1+EXP(-(ABS(E23)-displ)/9*sharpness))^(-alpha)/(H23*rho) -> 0 | J24: =-(I23+dp_dy*(1+EXP(-(ABS(E23)-displ)/9*sharpness))^(-alpha)/(H23*rho))*SIN(H23*time_step*3600)+J23*COS(H23*time_step*3600) -> 1.4337197
A25: =A24+time_step -> 0.66666667 | B25: =B24+((I24+dp_dy*(1+EXP(-(ABS(E24)-displ)/9*sharpness))^(-alpha)/(H24*rho))/H24*SIN(H24*time_step*3600)-J24/H24*COS(H24*time_step*3600)-dp_dy*(1+EXP(-(ABS(E24)-displ)/9*sharpness))^(-alpha)*time_step*3600/(H24*rho)+J24/H24)/1000 -> 0 | C25: =C24+((I24+dp_dy*(1+EXP(-(ABS(E24)-displ)/9*sharpness))^(-alpha)/(H24*rho))/H24*COS(H24*time_step*3600)+J24/H24*SIN(H24*time_step*3600)-(I24+dp_dy*(1+EXP(-(ABS(E24)-displ)/9*sharpness))^(-alpha)/(H24*rho))/H24)/1000 -> 0 | D25: =B25 -> 0 | E25: =360*(init_km_from_eq+C25)/(2*PI()*6.37*10^3) -> 1e-06 | F25: =dp_dy*(1+EXP(-(ABS(E24)-displ)/9*sharpness))^(-alpha) -> -0.00027308946 | G25: =F25*10^5/100 -> -0.27308946 | H25: =2*7.292*10^(-5)*SIN(E25*PI()/180) -> 2.5453882e-12 | I25: =(I24+dp_dy*(1+EXP(-(ABS(E24)-displ)/9*sharpness))^(-alpha)/(H24*rho))*COS(H24*time_step*3600)+J24*SIN(H24*time_step*3600)-dp_dy*(1+EXP(-(ABS(E24)-displ)/9*sharpness))^(-alpha)/(H24*rho) -> 0 | J25: =-(I24+dp_dy*(1+EXP(-(ABS(E24)-displ)/9*sharpness))^(-alpha)/(H24*rho))*SIN(H24*time_step*3600)+J24*COS(H24*time_step*3600) -> 1.6385368
A26: =A25+time_step -> 0.75 | B26: =B25+((I25+dp_dy*(1+EXP(-(ABS(E25)-displ)/9*sharpness))^(-alpha)/(H25*rho))/H25*SIN(H25*time_step*3600)-J25/H25*COS(H25*time_step*3600)-dp_dy*(1+EXP(-(ABS(E25)-displ)/9*sharpness))^(-alpha)*time_step*3600/(H25*rho)+J25/H25)/1000 -> 0 | C26: =C25+((I25+dp_dy*(1+EXP(-(ABS(E25)-displ)/9*sharpness))^(-alpha)/(H25*rho))/H25*COS(H25*time_step*3600)+J25/H25*SIN(H25*time_step*3600)-(I25+dp_dy*(1+EXP(-(ABS(E25)-displ)/9*sharpness))^(-alpha)/(H25*rho))/H25)/1000 -> 0 | D26: =B26 -> 0 | E26: =360*(init_km_from_eq+C26)/(2*PI()*6.37*10^3) -> 1e-06 | F26: =dp_dy*(1+EXP(-(ABS(E25)-displ)/9*sharpness))^(-alpha) -> -0.00027308946 | G26: =F26*10^5/100 -> -0.27308946 | H26: =2*7.292*10^(-5)*SIN(E26*PI()/180) -> 2.5453882e-12 | I26: =(I25+dp_dy*(1+EXP(-(ABS(E25)-displ)/9*sharpness))^(-alpha)/(H25*rho))*COS(H25*time_step*3600)+J25*SIN(H25*time_step*3600)-dp_dy*(1+EXP(-(ABS(E25)-displ)/9*sharpness))^(-alpha)/(H25*rho) -> 0 | J26: =-(I25+dp_dy*(1+EXP(-(ABS(E25)-displ)/9*sharpness))^(-alpha)/(H25*rho))*SIN(H25*time_step*3600)+J25*COS(H25*time_step*3600) -> 1.8433539
A27: =A26+time_step -> 0.83333333 | B27: =B26+((I26+dp_dy*(1+EXP(-(ABS(E26)-displ)/9*sharpness))^(-alpha)/(H26*rho))/H26*SIN(H26*time_step*3600)-J26/H26*COS(H26*time_step*3600)-dp_dy*(1+EXP(-(ABS(E26)-displ)/9*sharpness))^(-alpha)*time_step*3600/(H26*rho)+J26/H26)/1000 -> 0 | C27: =C26+((I26+dp_dy*(1+EXP(-(ABS(E26)-displ)/9*sharpness))^(-alpha)/(H26*rho))/H26*COS(H26*time_step*3600)+J26/H26*SIN(H26*time_step*3600)-(I26+dp_dy*(1+EXP(-(ABS(E26)-displ)/9*sharpness))^(-alpha)/(H26*rho))/H26)/1000 -> 0 | D27: =B27 -> 0 | E27: =360*(init_km_from_eq+C27)/(2*PI()*6.37*10^3) -> 1e-06 | F27: =dp_dy*(1+EXP(-(ABS(E26)-displ)/9*sharpness))^(-alpha) -> -0.00027308946 | G27: =F27*10^5/100 -> -0.27308946 | H27: =2*7.292*10^(-5)*SIN(E27*PI()/180) -> 2.5453882e-12 | I27: =(I26+dp_dy*(1+EXP(-(ABS(E26)-displ)/9*sharpness))^(-alpha)/(H26*rho))*COS(H26*time_step*3600)+J26*SIN(H26*time_step*3600)-dp_dy*(1+EXP(-(ABS(E26)-displ)/9*sharpness))^(-alpha)/(H26*rho) -> 0 | J27: =-(I26+dp_dy*(1+EXP(-(ABS(E26)-displ)/9*sharpness))^(-alpha)/(H26*rho))*SIN(H26*time_step*3600)+J26*COS(H26*time_step*3600) -> 2.048171
A28: =A27+time_step -> 0.91666667 | B28: =B27+((I27+dp_dy*(1+EXP(-(ABS(E27)-displ)/9*sharpness))^(-alpha)/(H27*rho))/H27*SIN(H27*time_step*3600)-J27/H27*COS(H27*time_step*3600)-dp_dy*(1+EXP(-(ABS(E27)-displ)/9*sharpness))^(-alpha)*time_step*3600/(H27*rho)+J27/H27)/1000 -> 0 | C28: =C27+((I27+dp_dy*(1+EXP(-(ABS(E27)-displ)/9*sharpness))^(-alpha)/(H27*rho))/H27*COS(H27*time_step*3600)+J27/H27*SIN(H27*time_step*3600)-(I27+dp_dy*(1+EXP(-(ABS(E27)-displ)/9*sharpness))^(-alpha)/(H27*rho))/H27)/1000 -> 0 | D28: =B28 -> 0 | E28: =360*(init_km_from_eq+C28)/(2*PI()*6.37*10^3) -> 1e-06 | F28: =dp_dy*(1+EXP(-(ABS(E27)-displ)/9*sharpness))^(-alpha) -> -0.00027308946 | G28: =F28*10^5/100 -> -0.27308946 | H28: =2*7.292*10^(-5)*SIN(E28*PI()/180) -> 2.5453882e-12 | I28: =(I27+dp_dy*(1+EXP(-(ABS(E27)-displ)/9*sharpness))^(-alpha)/(H27*rho))*COS(H27*time_step*3600)+J27*SIN(H27*time_step*3600)-dp_dy*(1+EXP(-(ABS(E27)-displ)/9*sharpness))^(-alpha)/(H27*rho) -> 0 | J28: =-(I27+dp_dy*(1+EXP(-(ABS(E27)-displ)/9*sharpness))^(-alpha)/(H27*rho))*SIN(H27*time_step*3600)+J27*COS(H27*time_step*3600) -> 2.2529881
A29: =A28+time_step -> 1 | B29: =B28+((I28+dp_dy*(1+EXP(-(ABS(E28)-displ)/9*sharpness))^(-alpha)/(H28*rho))/H28*SIN(H28*time_step*3600)-J28/H28*COS(H28*time_step*3600)-dp_dy*(1+EXP(-(ABS(E28)-displ)/9*sharpness))^(-alpha)*time_step*3600/(H28*rho)+J28/H28)/1000 -> 0 | C29: =C28+((I28+dp_dy*(1+EXP(-(ABS(E28)-displ)/9*sharpness))^(-alpha)/(H28*rho))/H28*COS(H28*time_step*3600)+J28/H28*SIN(H28*time_step*3600)-(I28+dp_dy*(1+EXP(-(ABS(E28)-displ)/9*sharpness))^(-alpha)/(H28*rho))/H28)/1000 -> 0 | D29: =B29 -> 0 | E29: =360*(init_km_from_eq+C29)/(2*PI()*6.37*10^3) -> 1e-06 | F29: =dp_dy*(1+EXP(-(ABS(E28)-displ)/9*sharpness))^(-alpha) -> -0.00027308946 | G29: =F29*10^5/100 -> -0.27308946 | H29: =2*7.292*10^(-5)*SIN(E29*PI()/180) -> 2.5453882e-12 | I29: =(I28+dp_dy*(1+EXP(-(ABS(E28)-displ)/9*sharpness))^(-alpha)/(H28*rho))*COS(H28*time_step*3600)+J28*SIN(H28*time_step*3600)-dp_dy*(1+EXP(-(ABS(E28)-displ)/9*sharpness))^(-alpha)/(H28*rho) -> 0 | J29: =-(I28+dp_dy*(1+EXP(-(ABS(E28)-displ)/9*sharpness))^(-alpha)/(H28*rho))*SIN(H28*time_step*3600)+J28*COS(H28*time_step*3600) -> 2.4578052
... A65: =A64+time_step -> 4 | B65: =B64+((I64+dp_dy*(1+EXP(-(ABS(E64)-displ)/9*sharpness))^(-alpha)/(H64*rho))/H64*SIN(H64*time_step*3600)-J64/H64*COS(H64*time_step*3600)-dp_dy*(1+EXP(-(ABS(E64)-displ)/9*sharpness))^(-alpha)*time_step*3600/(H64*rho)+J64/H64)/1000 -> 2.1972656e-06 | C65: =C64+((I64+dp_dy*(1+EXP(-(ABS(E64)-displ)/9*sharpness))^(-alpha)/(H64*rho))/H64*COS(H64*time_step*3600)+J64/H64*SIN(H64*time_step*3600)-(I64+dp_dy*(1+EXP(-(ABS(E64)-displ)/9*sharpness))^(-alpha)/(H64*rho))/H64)/1000 -> 0 | D65: =B65 -> 2.1972656e-06 | E65: =360*(init_km_from_eq+C65)/(2*PI()*6.37*10^3) -> 1e-06 | F65: =dp_dy*(1+EXP(-(ABS(E64)-displ)/9*sharpness))^(-alpha) -> -0.00027308946 | G65: =F65*10^5/100 -> -0.27308946 | H65: =2*7.292*10^(-5)*SIN(E65*PI()/180) -> 2.5453882e-12 | I65: =(I64+dp_dy*(1+EXP(-(ABS(E64)-displ)/9*sharpness))^(-alpha)/(H64*rho))*COS(H64*time_step*3600)+J64*SIN(H64*time_step*3600)-dp_dy*(1+EXP(-(ABS(E64)-displ)/9*sharpness))^(-alpha)/(H64*rho) -> 0 | J65: =-(I64+dp_dy*(1+EXP(-(ABS(E64)-displ)/9*sharpness))^(-alpha)/(H64*rho))*SIN(H64*time_step*3600)+J64*COS(H64*time_step*3600) -> 9.8312206
A66: =A65+time_step -> 4.0833333 | B66: =B65+((I65+dp_dy*(1+EXP(-(ABS(E65)-displ)/9*sharpness))^(-alpha)/(H65*rho))/H65*SIN(H65*time_step*3600)-J65/H65*COS(H65*time_step*3600)-dp_dy*(1+EXP(-(ABS(E65)-displ)/9*sharpness))^(-alpha)*time_step*3600/(H65*rho)+J65/H65)/1000 -> 2.1972656e-06 | C66: =C65+((I65+dp_dy*(1+EXP(-(ABS(E65)-displ)/9*sharpness))^(-alpha)/(H65*rho))/H65*COS(H65*time_step*3600)+J65/H65*SIN(H65*time_step*3600)-(I65+dp_dy*(1+EXP(-(ABS(E65)-displ)/9*sharpness))^(-alpha)/(H65*rho))/H65)/1000 -> 0 | D66: =B66 -> 2.1972656e-06 | E66: =360*(init_km_from_eq+C66)/(2*PI()*6.37*10^3) -> 1e-06 | F66: =dp_dy*(1+EXP(-(ABS(E65)-displ)/9*sharpness))^(-alpha) -> -0.00027308946 | G66: =F66*10^5/100 -> -0.27308946 | H66: =2*7.292*10^(-5)*SIN(E66*PI()/180) -> 2.5453882e-12 | I66: =(I65+dp_dy*(1+EXP(-(ABS(E65)-displ)/9*sharpness))^(-alpha)/(H65*rho))*COS(H65*time_step*3600)+J65*SIN(H65*time_step*3600)-dp_dy*(1+EXP(-(ABS(E65)-displ)/9*sharpness))^(-alpha)/(H65*rho) -> 0 | J66: =-(I65+dp_dy*(1+EXP(-(ABS(E65)-displ)/9*sharpness))^(-alpha)/(H65*rho))*SIN(H65*time_step*3600)+J65*COS(H65*time_step*3600) -> 10.036038 | V66: P-grad slope
A67: =A66+time_step -> 4.1666667 | B67: =B66+((I66+dp_dy*(1+EXP(-(ABS(E66)-displ)/9*sharpness))^(-alpha)/(H66*rho))/H66*SIN(H66*time_step*3600)-J66/H66*COS(H66*time_step*3600)-dp_dy*(1+EXP(-(ABS(E66)-displ)/9*sharpness))^(-alpha)*time_step*3600/(H66*rho)+J66/H66)/1000 -> 2.1972656e-06 | C67: =C66+((I66+dp_dy*(1+EXP(-(ABS(E66)-displ)/9*sharpness))^(-alpha)/(H66*rho))/H66*COS(H66*time_step*3600)+J66/H66*SIN(H66*time_step*3600)-(I66+dp_dy*(1+EXP(-(ABS(E66)-displ)/9*sharpness))^(-alpha)/(H66*rho))/H66)/1000 -> 0 | D67: =B67 -> 2.1972656e-06 | E67: =360*(init_km_from_eq+C67)/(2*PI()*6.37*10^3) -> 1e-06 | F67: =dp_dy*(1+EXP(-(ABS(E66)-displ)/9*sharpness))^(-alpha) -> -0.00027308946 | G67: =F67*10^5/100 -> -0.27308946 | H67: =2*7.292*10^(-5)*SIN(E67*PI()/180) -> 2.5453882e-12 | I67: =(I66+dp_dy*(1+EXP(-(ABS(E66)-displ)/9*sharpness))^(-alpha)/(H66*rho))*COS(H66*time_step*3600)+J66*SIN(H66*time_step*3600)-dp_dy*(1+EXP(-(ABS(E66)-displ)/9*sharpness))^(-alpha)/(H66*rho) -> 0 | J67: =-(I66+dp_dy*(1+EXP(-(ABS(E66)-displ)/9*sharpness))^(-alpha)/(H66*rho))*SIN(H66*time_step*3600)+J66*COS(H66*time_step*3600) -> 10.240855 | V67: displ | W67: alpha
A68: =A67+time_step -> 4.25 | B68: =B67+((I67+dp_dy*(1+EXP(-(ABS(E67)-displ)/9*sharpness))^(-alpha)/(H67*rho))/H67*SIN(H67*time_step*3600)-J67/H67*COS(H67*time_step*3600)-dp_dy*(1+EXP(-(ABS(E67)-displ)/9*sharpness))^(-alpha)*time_step*3600/(H67*rho)+J67/H67)/1000 -> 2.1972656e-06 | C68: =C67+((I67+dp_dy*(1+EXP(-(ABS(E67)-displ)/9*sharpness))^(-alpha)/(H67*rho))/H67*COS(H67*time_step*3600)+J67/H67*SIN(H67*time_step*3600)-(I67+dp_dy*(1+EXP(-(ABS(E67)-displ)/9*sharpness))^(-alpha)/(H67*rho))/H67)/1000 -> 0 | D68: =B68 -> 2.1972656e-06 | E68: =360*(init_km_from_eq+C68)/(2*PI()*6.37*10^3) -> 1e-06 | F68: =dp_dy*(1+EXP(-(ABS(E67)-displ)/9*sharpness))^(-alpha) -> -0.00027308946 | G68: =F68*10^5/100 -> -0.27308946 | H68: =2*7.292*10^(-5)*SIN(E68*PI()/180) -> 2.5453882e-12 | I68: =(I67+dp_dy*(1+EXP(-(ABS(E67)-displ)/9*sharpness))^(-alpha)/(H67*rho))*COS(H67*time_step*3600)+J67*SIN(H67*time_step*3600)-dp_dy*(1+EXP(-(ABS(E67)-displ)/9*sharpness))^(-alpha)/(H67*rho) -> 0 | J68: =-(I67+dp_dy*(1+EXP(-(ABS(E67)-displ)/9*sharpness))^(-alpha)/(H67*rho))*SIN(H67*time_step*3600)+J67*COS(H67*time_step*3600) -> 10.445672 | V68: 45 | W68: 1
A69: =A68+time_step -> 4.3333333 | B69: =B68+((I68+dp_dy*(1+EXP(-(ABS(E68)-displ)/9*sharpness))^(-alpha)/(H68*rho))/H68*SIN(H68*time_step*3600)-J68/H68*COS(H68*time_step*3600)-dp_dy*(1+EXP(-(ABS(E68)-displ)/9*sharpness))^(-alpha)*time_step*3600/(H68*rho)+J68/H68)/1000 -> 2.1972656e-06 | C69: =C68+((I68+dp_dy*(1+EXP(-(ABS(E68)-displ)/9*sharpness))^(-alpha)/(H68*rho))/H68*COS(H68*time_step*3600)+J68/H68*SIN(H68*time_step*3600)-(I68+dp_dy*(1+EXP(-(ABS(E68)-displ)/9*sharpness))^(-alpha)/(H68*rho))/H68)/1000 -> 0 | D69: =B69 -> 2.1972656e-06 | E69: =360*(init_km_from_eq+C69)/(2*PI()*6.37*10^3) -> 1e-06 | F69: =dp_dy*(1+EXP(-(ABS(E68)-displ)/9*sharpness))^(-alpha) -> -0.00027308946 | G69: =F69*10^5/100 -> -0.27308946 | H69: =2*7.292*10^(-5)*SIN(E69*PI()/180) -> 2.5453882e-12 | I69: =(I68+dp_dy*(1+EXP(-(ABS(E68)-displ)/9*sharpness))^(-alpha)/(H68*rho))*COS(H68*time_step*3600)+J68*SIN(H68*time_step*3600)-dp_dy*(1+EXP(-(ABS(E68)-displ)/9*sharpness))^(-alpha)/(H68*rho) -> 0 | J69: =-(I68+dp_dy*(1+EXP(-(ABS(E68)-displ)/9*sharpness))^(-alpha)/(H68*rho))*SIN(H68*time_step*3600)+J68*COS(H68*time_step*3600) -> 10.650489
A70: =A69+time_step -> 4.4166667 | B70: =B69+((I69+dp_dy*(1+EXP(-(ABS(E69)-displ)/9*sharpness))^(-alpha)/(H69*rho))/H69*SIN(H69*time_step*3600)-J69/H69*COS(H69*time_step*3600)-dp_dy*(1+EXP(-(ABS(E69)-displ)/9*sharpness))^(-alpha)*time_step*3600/(H69*rho)+J69/H69)/1000 -> 2.1972656e-06 | C70: =C69+((I69+dp_dy*(1+EXP(-(ABS(E69)-displ)/9*sharpness))^(-alpha)/(H69*rho))/H69*COS(H69*time_step*3600)+J69/H69*SIN(H69*time_step*3600)-(I69+dp_dy*(1+EXP(-(ABS(E69)-displ)/9*sharpness))^(-alpha)/(H69*rho))/H69)/1000 -> 0 | D70: =B70 -> 2.1972656e-06 | E70: =360*(init_km_from_eq+C70)/(2*PI()*6.37*10^3) -> 1e-06 | F70: =dp_dy*(1+EXP(-(ABS(E69)-displ)/9*sharpness))^(-alpha) -> -0.00027308946 | G70: =F70*10^5/100 -> -0.27308946 | H70: =2*7.292*10^(-5)*SIN(E70*PI()/180) -> 2.5453882e-12 | I70: =(I69+dp_dy*(1+EXP(-(ABS(E69)-displ)/9*sharpness))^(-alpha)/(H69*rho))*COS(H69*time_step*3600)+J69*SIN(H69*time_step*3600)-dp_dy*(1+EXP(-(ABS(E69)-displ)/9*sharpness))^(-alpha)/(H69*rho) -> 0 | J70: =-(I69+dp_dy*(1+EXP(-(ABS(E69)-displ)/9*sharpness))^(-alpha)/(H69*rho))*SIN(H69*time_step*3600)+J69*COS(H69*time_step*3600) -> 10.855306
A71: =A70+time_step -> 4.5 | B71: =B70+((I70+dp_dy*(1+EXP(-(ABS(E70)-displ)/9*sharpness))^(-alpha)/(H70*rho))/H70*SIN(H70*time_step*3600)-J70/H70*COS(H70*time_step*3600)-dp_dy*(1+EXP(-(ABS(E70)-displ)/9*sharpness))^(-alpha)*time_step*3600/(H70*rho)+J70/H70)/1000 -> 2.1972656e-06 | C71: =C70+((I70+dp_dy*(1+EXP(-(ABS(E70)-displ)/9*sharpness))^(-alpha)/(H70*rho))/H70*COS(H70*time_step*3600)+J70/H70*SIN(H70*time_step*3600)-(I70+dp_dy*(1+EXP(-(ABS(E70)-displ)/9*sharpness))^(-alpha)/(H70*rho))/H70)/1000 -> 0 | D71: =B71 -> 2.1972656e-06 | E71: =360*(init_km_from_eq+C71)/(2*PI()*6.37*10^3) -> 1e-06 | F71: =dp_dy*(1+EXP(-(ABS(E70)-displ)/9*sharpness))^(-alpha) -> -0.00027308946 | G71: =F71*10^5/100 -> -0.27308946 | H71: =2*7.292*10^(-5)*SIN(E71*PI()/180) -> 2.5453882e-12 | I71: =(I70+dp_dy*(1+EXP(-(ABS(E70)-displ)/9*sharpness))^(-alpha)/(H70*rho))*COS(H70*time_step*3600)+J70*SIN(H70*time_step*3600)-dp_dy*(1+EXP(-(ABS(E70)-displ)/9*sharpness))^(-alpha)/(H70*rho) -> 0 | J71: =-(I70+dp_dy*(1+EXP(-(ABS(E70)-displ)/9*sharpness))^(-alpha)/(H70*rho))*SIN(H70*time_step*3600)+J70*COS(H70*time_step*3600) -> 11.060123 | U71: latitude | V71: fraction of p gradient at pole | X71: hPa 100km-1
A72: =A71+time_step -> 4.5833333 | B72: =B71+((I71+dp_dy*(1+EXP(-(ABS(E71)-displ)/9*sharpness))^(-alpha)/(H71*rho))/H71*SIN(H71*time_step*3600)-J71/H71*COS(H71*time_step*3600)-dp_dy*(1+EXP(-(ABS(E71)-displ)/9*sharpness))^(-alpha)*time_step*3600/(H71*rho)+J71/H71)/1000 -> 2.6855469e-06 | C72: =C71+((I71+dp_dy*(1+EXP(-(ABS(E71)-displ)/9*sharpness))^(-alpha)/(H71*rho))/H71*COS(H71*time_step*3600)+J71/H71*SIN(H71*time_step*3600)-(I71+dp_dy*(1+EXP(-(ABS(E71)-displ)/9*sharpness))^(-alpha)/(H71*rho))/H71)/1000 -> 0 | D72: =B72 -> 2.6855469e-06 | E72: =360*(init_km_from_eq+C72)/(2*PI()*6.37*10^3) -> 1e-06 | F72: =dp_dy*(1+EXP(-(ABS(E71)-displ)/9*sharpness))^(-alpha) -> -0.00027308946 | G72: =F72*10^5/100 -> -0.27308946 | H72: =2*7.292*10^(-5)*SIN(E72*PI()/180) -> 2.5453882e-12 | I72: =(I71+dp_dy*(1+EXP(-(ABS(E71)-displ)/9*sharpness))^(-alpha)/(H71*rho))*COS(H71*time_step*3600)+J71*SIN(H71*time_step*3600)-dp_dy*(1+EXP(-(ABS(E71)-displ)/9*sharpness))^(-alpha)/(H71*rho) -> 0 | J72: =-(I71+dp_dy*(1+EXP(-(ABS(E71)-displ)/9*sharpness))^(-alpha)/(H71*rho))*SIN(H71*time_step*3600)+J71*COS(H71*time_step*3600) -> 11.26494 | U72: -45 | V72: =(1+EXP(-(U72-displ)/9*sharpness))^(-alpha) -> 0.0066928509 | X72: =V72*$D$4 -> -0.024094263
A73: =A72+time_step -> 4.6666667 | B73: =B72+((I72+dp_dy*(1+EXP(-(ABS(E72)-displ)/9*sharpness))^(-alpha)/(H72*rho))/H72*SIN(H72*time_step*3600)-J72/H72*COS(H72*time_step*3600)-dp_dy*(1+EXP(-(ABS(E72)-displ)/9*sharpness))^(-alpha)*time_step*3600/(H72*rho)+J72/H72)/1000 -> 2.6855469e-06 | C73: =C72+((I72+dp_dy*(1+EXP(-(ABS(E72)-displ)/9*sharpness))^(-alpha)/(H72*rho))/H72*COS(H72*time_step*3600)+J72/H72*SIN(H72*time_step*3600)-(I72+dp_dy*(1+EXP(-(ABS(E72)-displ)/9*sharpness))^(-alpha)/(H72*rho))/H72)/1000 -> 0 | D73: =B73 -> 2.6855469e-06 | E73: =360*(init_km_from_eq+C73)/(2*PI()*6.37*10^3) -> 1e-06 | F73: =dp_dy*(1+EXP(-(ABS(E72)-displ)/9*sharpness))^(-alpha) -> -0.00027308946 | G73: =F73*10^5/100 -> -0.27308946 | H73: =2*7.292*10^(-5)*SIN(E73*PI()/180) -> 2.5453882e-12 | I73: =(I72+dp_dy*(1+EXP(-(ABS(E72)-displ)/9*sharpness))^(-alpha)/(H72*rho))*COS(H72*time_step*3600)+J72*SIN(H72*time_step*3600)-dp_dy*(1+EXP(-(ABS(E72)-displ)/9*sharpness))^(-alpha)/(H72*rho) -> 0 | J73: =-(I72+dp_dy*(1+EXP(-(ABS(E72)-displ)/9*sharpness))^(-alpha)/(H72*rho))*SIN(H72*time_step*3600)+J72*COS(H72*time_step*3600) -> 11.469757 | U73: =U72+9 -> -36 | V73: =(1+EXP(-(U73-displ)/9*sharpness))^(-alpha) -> 0.010986943 | X73: =V73*$D$4 -> -0.039552993
A74: =A73+time_step -> 4.75 | B74: =B73+((I73+dp_dy*(1+EXP(-(ABS(E73)-displ)/9*sharpness))^(-alpha)/(H73*rho))/H73*SIN(H73*time_step*3600)-J73/H73*COS(H73*time_step*3600)-dp_dy*(1+EXP(-(ABS(E73)-displ)/9*sharpness))^(-alpha)*time_step*3600/(H73*rho)+J73/H73)/1000 -> 2.6855469e-06 | C74: =C73+((I73+dp_dy*(1+EXP(-(ABS(E73)-displ)/9*sharpness))^(-alpha)/(H73*rho))/H73*COS(H73*time_step*3600)+J73/H73*SIN(H73*time_step*3600)-(I73+dp_dy*(1+EXP(-(ABS(E73)-displ)/9*sharpness))^(-alpha)/(H73*rho))/H73)/1000 -> 0 | D74: =B74 -> 2.6855469e-06 | E74: =360*(init_km_from_eq+C74)/(2*PI()*6.37*10^3) -> 1e-06 | F74: =dp_dy*(1+EXP(-(ABS(E73)-displ)/9*sharpness))^(-alpha) -> -0.00027308946 | G74: =F74*10^5/100 -> -0.27308946 | H74: =2*7.292*10^(-5)*SIN(E74*PI()/180) -> 2.5453882e-12 | I74: =(I73+dp_dy*(1+EXP(-(ABS(E73)-displ)/9*sharpness))^(-alpha)/(H73*rho))*COS(H73*time_step*3600)+J73*SIN(H73*time_step*3600)-dp_dy*(1+EXP(-(ABS(E73)-displ)/9*sharpness))^(-alpha)/(H73*rho) -> 0 | J74: =-(I73+dp_dy*(1+EXP(-(ABS(E73)-displ)/9*sharpness))^(-alpha)/(H73*rho))*SIN(H73*time_step*3600)+J73*COS(H73*time_step*3600) -> 11.674575 | L74: Southern Hemisphere | U74: =U73+9 -> -27 | V74: =(1+EXP(-(U74-displ)/9*sharpness))^(-alpha) -> 0.01798621 | X74: =V74*$D$4 -> -0.064750356
A75: =A74+time_step -> 4.8333333 | B75: =B74+((I74+dp_dy*(1+EXP(-(ABS(E74)-displ)/9*sharpness))^(-alpha)/(H74*rho))/H74*SIN(H74*time_step*3600)-J74/H74*COS(H74*time_step*3600)-dp_dy*(1+EXP(-(ABS(E74)-displ)/9*sharpness))^(-alpha)*time_step*3600/(H74*rho)+J74/H74)/1000 -> 2.6855469e-06 | C75: =C74+((I74+dp_dy*(1+EXP(-(ABS(E74)-displ)/9*sharpness))^(-alpha)/(H74*rho))/H74*COS(H74*time_step*3600)+J74/H74*SIN(H74*time_step*3600)-(I74+dp_dy*(1+EXP(-(ABS(E74)-displ)/9*sharpness))^(-alpha)/(H74*rho))/H74)/1000 -> 0 | D75: =B75 -> 2.6855469e-06 | E75: =360*(init_km_from_eq+C75)/(2*PI()*6.37*10^3) -> 1e-06 | F75: =dp_dy*(1+EXP(-(ABS(E74)-displ)/9*sharpness))^(-alpha) -> -0.00027308946 | G75: =F75*10^5/100 -> -0.27308946 | H75: =2*7.292*10^(-5)*SIN(E75*PI()/180) -> 2.5453882e-12 | I75: =(I74+dp_dy*(1+EXP(-(ABS(E74)-displ)/9*sharpness))^(-alpha)/(H74*rho))*COS(H74*time_step*3600)+J74*SIN(H74*time_step*3600)-dp_dy*(1+EXP(-(ABS(E74)-displ)/9*sharpness))^(-alpha)/(H74*rho) -> 0 | J75: =-(I74+dp_dy*(1+EXP(-(ABS(E74)-displ)/9*sharpness))^(-alpha)/(H74*rho))*SIN(H74*time_step*3600)+J74*COS(H74*time_step*3600) -> 11.879392 | L75: Typical climatology of NS pressure gradient at 250hPa | Q75: Δ z | S75: ∂p/∂n | U75: =U74+9 -> -18 | V75: =(1+EXP(-(U75-displ)/9*sharpness))^(-alpha) -> 0.029312231 | X75: =V75*$D$4 -> -0.10552403
A76: =A75+time_step -> 4.9166667 | B76: =B75+((I75+dp_dy*(1+EXP(-(ABS(E75)-displ)/9*sharpness))^(-alpha)/(H75*rho))/H75*SIN(H75*time_step*3600)-J75/H75*COS(H75*time_step*3600)-dp_dy*(1+EXP(-(ABS(E75)-displ)/9*sharpness))^(-alpha)*time_step*3600/(H75*rho)+J75/H75)/1000 -> 2.6855469e-06 | C76: =C75+((I75+dp_dy*(1+EXP(-(ABS(E75)-displ)/9*sharpness))^(-alpha)/(H75*rho))/H75*COS(H75*time_step*3600)+J75/H75*SIN(H75*time_step*3600)-(I75+dp_dy*(1+EXP(-(ABS(E75)-displ)/9*sharpness))^(-alpha)/(H75*rho))/H75)/1000 -> 0 | D76: =B76 -> 2.6855469e-06 | E76: =360*(init_km_from_eq+C76)/(2*PI()*6.37*10^3) -> 1e-06 | F76: =dp_dy*(1+EXP(-(ABS(E75)-displ)/9*sharpness))^(-alpha) -> -0.00027308946 | G76: =F76*10^5/100 -> -0.27308946 | H76: =2*7.292*10^(-5)*SIN(E76*PI()/180) -> 2.5453882e-12 | I76: =(I75+dp_dy*(1+EXP(-(ABS(E75)-displ)/9*sharpness))^(-alpha)/(H75*rho))*COS(H75*time_step*3600)+J75*SIN(H75*time_step*3600)-dp_dy*(1+EXP(-(ABS(E75)-displ)/9*sharpness))^(-alpha)/(H75*rho) -> 0 | J76: =-(I75+dp_dy*(1+EXP(-(ABS(E75)-displ)/9*sharpness))^(-alpha)/(H75*rho))*SIN(H75*time_step*3600)+J75*COS(H75*time_step*3600) -> 12.084209 | S76: hPa 100km-1 | U76: =U75+9 -> -9 | V76: =(1+EXP(-(U76-displ)/9*sharpness))^(-alpha) -> 0.047425873 | X76: =V76*$D$4 -> -0.17073314
A77: =A76+time_step -> 5 | B77: =B76+((I76+dp_dy*(1+EXP(-(ABS(E76)-displ)/9*sharpness))^(-alpha)/(H76*rho))/H76*SIN(H76*time_step*3600)-J76/H76*COS(H76*time_step*3600)-dp_dy*(1+EXP(-(ABS(E76)-displ)/9*sharpness))^(-alpha)*time_step*3600/(H76*rho)+J76/H76)/1000 -> 2.6855469e-06 | C77: =C76+((I76+dp_dy*(1+EXP(-(ABS(E76)-displ)/9*sharpness))^(-alpha)/(H76*rho))/H76*COS(H76*time_step*3600)+J76/H76*SIN(H76*time_step*3600)-(I76+dp_dy*(1+EXP(-(ABS(E76)-displ)/9*sharpness))^(-alpha)/(H76*rho))/H76)/1000 -> 0 | D77: =B77 -> 2.6855469e-06 | E77: =360*(init_km_from_eq+C77)/(2*PI()*6.37*10^3) -> 1e-06 | F77: =dp_dy*(1+EXP(-(ABS(E76)-displ)/9*sharpness))^(-alpha) -> -0.00027308946 | G77: =F77*10^5/100 -> -0.27308946 | H77: =2*7.292*10^(-5)*SIN(E77*PI()/180) -> 2.5453882e-12 | I77: =(I76+dp_dy*(1+EXP(-(ABS(E76)-displ)/9*sharpness))^(-alpha)/(H76*rho))*COS(H76*time_step*3600)+J76*SIN(H76*time_step*3600)-dp_dy*(1+EXP(-(ABS(E76)-displ)/9*sharpness))^(-alpha)/(H76*rho) -> 0 | J77: =-(I76+dp_dy*(1+EXP(-(ABS(E76)-displ)/9*sharpness))^(-alpha)/(H76*rho))*SIN(H76*time_step*3600)+J76*COS(H76*time_step*3600) -> 12.289026 | L77: 250 height at latitude 0 (equator): | O77: 10970 | P77: m | U77: =U76+9 -> 0 | V77: =(1+EXP(-(U77-displ)/9*sharpness))^(-alpha) -> 0.07585818 | X77: =V77*$D$4 -> -0.27308945
A78: =A77+time_step -> 5.0833333 | B78: =B77+((I77+dp_dy*(1+EXP(-(ABS(E77)-displ)/9*sharpness))^(-alpha)/(H77*rho))/H77*SIN(H77*time_step*3600)-J77/H77*COS(H77*time_step*3600)-dp_dy*(1+EXP(-(ABS(E77)-displ)/9*sharpness))^(-alpha)*time_step*3600/(H77*rho)+J77/H77)/1000 -> 2.6855469e-06 | C78: =C77+((I77+dp_dy*(1+EXP(-(ABS(E77)-displ)/9*sharpness))^(-alpha)/(H77*rho))/H77*COS(H77*time_step*3600)+J77/H77*SIN(H77*time_step*3600)-(I77+dp_dy*(1+EXP(-(ABS(E77)-displ)/9*sharpness))^(-alpha)/(H77*rho))/H77)/1000 -> 0 | D78: =B78 -> 2.6855469e-06 | E78: =360*(init_km_from_eq+C78)/(2*PI()*6.37*10^3) -> 1e-06 | F78: =dp_dy*(1+EXP(-(ABS(E77)-displ)/9*sharpness))^(-alpha) -> -0.00027308946 | G78: =F78*10^5/100 -> -0.27308946 | H78: =2*7.292*10^(-5)*SIN(E78*PI()/180) -> 2.5453882e-12 | I78: =(I77+dp_dy*(1+EXP(-(ABS(E77)-displ)/9*sharpness))^(-alpha)/(H77*rho))*COS(H77*time_step*3600)+J77*SIN(H77*time_step*3600)-dp_dy*(1+EXP(-(ABS(E77)-displ)/9*sharpness))^(-alpha)/(H77*rho) -> 0 | J78: =-(I77+dp_dy*(1+EXP(-(ABS(E77)-displ)/9*sharpness))^(-alpha)/(H77*rho))*SIN(H77*time_step*3600)+J77*COS(H77*time_step*3600) -> 12.493843 | Q78: =O77-O79 -> 30 | R78: m | S78: 0.22 | U78: =U77+9 -> 9 | V78: =(1+EXP(-(U78-displ)/9*sharpness))^(-alpha) -> 0.11920292 | X78: =V78*$D$4 -> -0.42913052
...

Sheet Traj 2
C2: Enter:
C3: air density r | D3: 0.4 | E3: kg m-3 | F3: 1.225 | G3: kg m-3 at MSL | I3: 0.4 | J3: kg m-3 at tropopause
C4: N-S pressure gradient at pole | D4: ='Traj 1'!D4 -> -3.6 | E4: hPa 100km-1
C5: = | D5: =D4*100/10^5 -> -0.0036 | E5: Pa m-1
C6: inflection of NS press. gradient | D6: 0.5 | E6: see diagram to right
C7: initial latitude | D7: ='Multiple trajectories'!G3 -> 5 | E7: deg | H7: =2*PI()*6.37*10^3*IF(latitude=0,10^(-3),latitude)/360 -> 555.88737 | I7: km from equator (y distance) | L7: where f = | M7: =2*7.292*10^(-5)*SIN(360*H7/(2*PI()*6.37*10^3)*PI()/180) -> 1.2710794e-05 | N7: s-1
C8: f = | D8: =2*7.292*10^(-5)*SIN(IF(latitude=0,10^(-3),latitude)*PI()/180) -> 1.2710794e-05 | E8: s-1 | L8: =IF(latitude>0,"Air parcel initially in Northern Hemisphere",IF(latitude=0,"Air parcel initially at equator","Air parcel initially in Southern Hemisphere")) -> Air parcel initially in Northern Hemisphere
B10: initial velocity | C10: uo = | D10: 0 | E10: m s-1
C11: vo = | D11: 0 | E11: m s-1 | L11: Equator is at | M11: =-init_km_from_eq -> -555.88737 | N11: km on y-axis
C13: time-step = | D13: ='Multiple trajectories'!C3 -> 0.083333333 | E13: hr | I13: max u:
I14: =MAX(I17:I400) -> 63.378899 | J14: m s-1
F15: dp/dy | G15: dp/dy
A16: time (hr) | B16: x (km) | C16: y (km) | D16: =B16 -> x (km) | E16: lat (deg) | F16: Pa m-1 | G16: hPa 100km-1 | H16: f (s-1) | I16: u (ms-1) | J16: v (ms-1)
A17: 0 | B17: =((uo+dp_dy/(f*rho))/f*SIN(f*A17*3600)-vo/f*COS(f*A17*3600)-dp_dy*A17*3600/(f*rho)+vo/f)/1000 -> 0 | C17: =((uo+dp_dy/(f*rho))/f*COS(f*A17*3600)+vo/f*SIN(f*A17*3600)-(uo+dp_dy/(f*rho))/f)/1000 -> 0 | D17: =B17 -> 0 | E17: =IF(latitude=0,10^(-3),latitude) -> 5 | F17: =dp_dy*(1+EXP(-(ABS(E17)-displ)/9*sharpness))^(-alpha) -> -0.00027308945 | G17: =F17*10^5/100 -> -0.27308945 | H17: =2*7.292*10^(-5)*SIN(E17*PI()/180) -> 1.2710794e-05 | I17: =(uo+dp_dy/(f*rho))*COS(f*$A17*3600)+vo*SIN(f*$A17*3600)-dp_dy/(f*rho) -> 0 | J17: =-(uo+dp_dy/(f*rho))*SIN(f*$A17*3600)+vo*COS(f*$A17*3600) -> 0
A18: =A17+time_step -> 0.083333333 | B18: =B17+((I17+dp_dy*(1+EXP(-(ABS(E17)-displ)/9*sharpness))^(-alpha)/(H17*rho))/H17*SIN(H17*time_step*3600)-J17/H17*COS(H17*time_step*3600)-dp_dy*(1+EXP(-(ABS(E17)-displ)/9*sharpness))^(-alpha)*time_step*3600/(H17*rho)+J17/H17)/1000 -> 3.9050787e-05 | C18: =C17+((I17+dp_dy*(1+EXP(-(ABS(E17)-displ)/9*sharpness))^(-alpha)/(H17*rho))/H17*COS(H17*time_step*3600)+J17/H17*SIN(H17*time_step*3600)-(I17+dp_dy*(1+EXP(-(ABS(E17)-displ)/9*sharpness))^(-alpha)/(H17*rho))/H17)/1000 -> 0.030722526 | D18: =B18 -> 3.9050787e-05 | E18: =360*(init_km_from_eq+C18)/(2*PI()*6.37*10^3) -> 5.0002763 | F18: =dp_dy*(1+EXP(-(ABS(E17)-displ)/9*sharpness))^(-alpha) -> -0.00027308945 | G18: =F18*10^5/100 -> -0.27308945 | H18: =2*7.292*10^(-5)*SIN(E18*PI()/180) -> 1.2711494e-05 | I18: =(I17+dp_dy*(1+EXP(-(ABS(E17)-displ)/9*sharpness))^(-alpha)/(H17*rho))*COS(H17*time_step*3600)+J17*SIN(H17*time_step*3600)-dp_dy*(1+EXP(-(ABS(E17)-displ)/9*sharpness))^(-alpha)/(H17*rho) -> 0.00039050768 | J18: =-(I17+dp_dy*(1+EXP(-(ABS(E17)-displ)/9*sharpness))^(-alpha)/(H17*rho))*SIN(H17*time_step*3600)+J17*COS(H17*time_step*3600) -> 0.20481659
A19: =A18+time_step -> 0.16666667 | B19: =B18+((I18+dp_dy*(1+EXP(-(ABS(E18)-displ)/9*sharpness))^(-alpha)/(H18*rho))/H18*SIN(H18*time_step*3600)-J18/H18*COS(H18*time_step*3600)-dp_dy*(1+EXP(-(ABS(E18)-displ)/9*sharpness))^(-alpha)*time_step*3600/(H18*rho)+J18/H18)/1000 -> 0.00031241478 | C19: =C18+((I18+dp_dy*(1+EXP(-(ABS(E18)-displ)/9*sharpness))^(-alpha)/(H18*rho))/H18*COS(H18*time_step*3600)+J18/H18*SIN(H18*time_step*3600)-(I18+dp_dy*(1+EXP(-(ABS(E18)-displ)/9*sharpness))^(-alpha)/(H18*rho))/H18)/1000 -> 0.12289009 | D19: =B19 -> 0.00031241478 | E19: =360*(init_km_from_eq+C19)/(2*PI()*6.37*10^3) -> 5.0011054 | F19: =dp_dy*(1+EXP(-(ABS(E18)-displ)/9*sharpness))^(-alpha) -> -0.00027309332 | G19: =F19*10^5/100 -> -0.27309332 | H19: =2*7.292*10^(-5)*SIN(E19*PI()/180) -> 1.2713596e-05 | I19: =(I18+dp_dy*(1+EXP(-(ABS(E18)-displ)/9*sharpness))^(-alpha)/(H18*rho))*COS(H18*time_step*3600)+J18*SIN(H18*time_step*3600)-dp_dy*(1+EXP(-(ABS(E18)-displ)/9*sharpness))^(-alpha)/(H18*rho) -> 0.0015620952 | J19: =-(I18+dp_dy*(1+EXP(-(ABS(E18)-displ)/9*sharpness))^(-alpha)/(H18*rho))*SIN(H18*time_step*3600)+J18*COS(H18*time_step*3600) -> 0.40963311
A20: =A19+time_step -> 0.25 | B20: =B19+((I19+dp_dy*(1+EXP(-(ABS(E19)-displ)/9*sharpness))^(-alpha)/(H19*rho))/H19*SIN(H19*time_step*3600)-J19/H19*COS(H19*time_step*3600)-dp_dy*(1+EXP(-(ABS(E19)-displ)/9*sharpness))^(-alpha)*time_step*3600/(H19*rho)+J19/H19)/1000 -> 0.0010544595 | C20: =C19+((I19+dp_dy*(1+EXP(-(ABS(E19)-displ)/9*sharpness))^(-alpha)/(H19*rho))/H19*COS(H19*time_step*3600)+J19/H19*SIN(H19*time_step*3600)-(I19+dp_dy*(1+EXP(-(ABS(E19)-displ)/9*sharpness))^(-alpha)/(H19*rho))/H19)/1000 -> 0.2765031 | D20: =B20 -> 0.0010544595 | E20: =360*(init_km_from_eq+C20)/(2*PI()*6.37*10^3) -> 5.002487 | F20: =dp_dy*(1+EXP(-(ABS(E19)-displ)/9*sharpness))^(-alpha) -> -0.00027310495 | G20: =F20*10^5/100 -> -0.27310495 | H20: =2*7.292*10^(-5)*SIN(E20*PI()/180) -> 1.27171e-05 | I20: =(I19+dp_dy*(1+EXP(-(ABS(E19)-displ)/9*sharpness))^(-alpha)/(H19*rho))*COS(H19*time_step*3600)+J19*SIN(H19*time_step*3600)-dp_dy*(1+EXP(-(ABS(E19)-displ)/9*sharpness))^(-alpha)/(H19*rho) -> 0.003515069 | J20: =-(I19+dp_dy*(1+EXP(-(ABS(E19)-displ)/9*sharpness))^(-alpha)/(H19*rho))*SIN(H19*time_step*3600)+J19*COS(H19*time_step*3600) -> 0.61445238
A21: =A20+time_step -> 0.33333333 | B21: =B20+((I20+dp_dy*(1+EXP(-(ABS(E20)-displ)/9*sharpness))^(-alpha)/(H20*rho))/H20*SIN(H20*time_step*3600)-J20/H20*COS(H20*time_step*3600)-dp_dy*(1+EXP(-(ABS(E20)-displ)/9*sharpness))^(-alpha)*time_step*3600/(H20*rho)+J20/H20)/1000 -> 0.0024996847 | C21: =C20+((I20+dp_dy*(1+EXP(-(ABS(E20)-displ)/9*sharpness))^(-alpha)/(H20*rho))/H20*COS(H20*time_step*3600)+J20/H20*SIN(H20*time_step*3600)-(I20+dp_dy*(1+EXP(-(ABS(E20)-displ)/9*sharpness))^(-alpha)/(H20*rho))/H20)/1000 -> 0.49156281 | D21: =B21 -> 0.0024996847 | E21: =360*(init_km_from_eq+C21)/(2*PI()*6.37*10^3) -> 5.0044214 | F21: =dp_dy*(1+EXP(-(ABS(E20)-displ)/9*sharpness))^(-alpha) -> -0.00027312432 | G21: =F21*10^5/100 -> -0.27312432 | H21: =2*7.292*10^(-5)*SIN(E21*PI()/180) -> 1.2722005e-05 | I21: =(I20+dp_dy*(1+EXP(-(ABS(E20)-displ)/9*sharpness))^(-alpha)/(H20*rho))*COS(H20*time_step*3600)+J20*SIN(H20*time_step*3600)-dp_dy*(1+EXP(-(ABS(E20)-displ)/9*sharpness))^(-alpha)/(H20*rho) -> 0.0062500047 | J21: =-(I20+dp_dy*(1+EXP(-(ABS(E20)-displ)/9*sharpness))^(-alpha)/(H20*rho))*SIN(H20*time_step*3600)+J20*COS(H20*time_step*3600) -> 0.81927724
A22: =A21+time_step -> 0.41666667 | B22: =B21+((I21+dp_dy*(1+EXP(-(ABS(E21)-displ)/9*sharpness))^(-alpha)/(H21*rho))/H21*SIN(H21*time_step*3600)-J21/H21*COS(H21*time_step*3600)-dp_dy*(1+EXP(-(ABS(E21)-displ)/9*sharpness))^(-alpha)*time_step*3600/(H21*rho)+J21/H21)/1000 -> 0.0048828033 | C22: =C21+((I21+dp_dy*(1+EXP(-(ABS(E21)-displ)/9*sharpness))^(-alpha)/(H21*rho))/H21*COS(H21*time_step*3600)+J21/H21*SIN(H21*time_step*3600)-(I21+dp_dy*(1+EXP(-(ABS(E21)-displ)/9*sharpness))^(-alpha)/(H21*rho))/H21)/1000 -> 0.7680713 | D22: =B22 -> 0.0048828033 | E22: =360*(init_km_from_eq+C22)/(2*PI()*6.37*10^3) -> 5.0069085 | F22: =dp_dy*(1+EXP(-(ABS(E21)-displ)/9*sharpness))^(-alpha) -> -0.00027315145 | G22: =F22*10^5/100 -> -0.27315145 | H22: =2*7.292*10^(-5)*SIN(E22*PI()/180) -> 1.2728311e-05 | I22: =(I21+dp_dy*(1+EXP(-(ABS(E21)-displ)/9*sharpness))^(-alpha)/(H21*rho))*COS(H21*time_step*3600)+J21*SIN(H21*time_step*3600)-dp_dy*(1+EXP(-(ABS(E21)-displ)/9*sharpness))^(-alpha)/(H21*rho) -> 0.0097677472 | J22: =-(I21+dp_dy*(1+EXP(-(ABS(E21)-displ)/9*sharpness))^(-alpha)/(H21*rho))*SIN(H21*time_step*3600)+J21*COS(H21*time_step*3600) -> 1.0241105
A23: =A22+time_step -> 0.5 | B23: =B22+((I22+dp_dy*(1+EXP(-(ABS(E22)-displ)/9*sharpness))^(-alpha)/(H22*rho))/H22*SIN(H22*time_step*3600)-J22/H22*COS(H22*time_step*3600)-dp_dy*(1+EXP(-(ABS(E22)-displ)/9*sharpness))^(-alpha)*time_step*3600/(H22*rho)+J22/H22)/1000 -> 0.008438822 | C23: =C22+((I22+dp_dy*(1+EXP(-(ABS(E22)-displ)/9*sharpness))^(-alpha)/(H22*rho))/H22*COS(H22*time_step*3600)+J22/H22*SIN(H22*time_step*3600)-(I22+dp_dy*(1+EXP(-(ABS(E22)-displ)/9*sharpness))^(-alpha)/(H22*rho))/H22)/1000 -> 1.1060315 | D23: =B23 -> 0.008438822 | E23: =360*(init_km_from_eq+C23)/(2*PI()*6.37*10^3) -> 5.0099483 | F23: =dp_dy*(1+EXP(-(ABS(E22)-displ)/9*sharpness))^(-alpha) -> -0.00027318633 | G23: =F23*10^5/100 -> -0.27318633 | H23: =2*7.292*10^(-5)*SIN(E23*PI()/180) -> 1.2736019e-05 | I23: =(I22+dp_dy*(1+EXP(-(ABS(E22)-displ)/9*sharpness))^(-alpha)/(H22*rho))*COS(H22*time_step*3600)+J22*SIN(H22*time_step*3600)-dp_dy*(1+EXP(-(ABS(E22)-displ)/9*sharpness))^(-alpha)/(H22*rho) -> 0.01406941 | J23: =-(I22+dp_dy*(1+EXP(-(ABS(E22)-displ)/9*sharpness))^(-alpha)/(H22*rho))*SIN(H22*time_step*3600)+J22*COS(H22*time_step*3600) -> 1.228955
A24: =A23+time_step -> 0.58333333 | B24: =B23+((I23+dp_dy*(1+EXP(-(ABS(E23)-displ)/9*sharpness))^(-alpha)/(H23*rho))/H23*SIN(H23*time_step*3600)-J23/H23*COS(H23*time_step*3600)-dp_dy*(1+EXP(-(ABS(E23)-displ)/9*sharpness))^(-alpha)*time_step*3600/(H23*rho)+J23/H23)/1000 -> 0.013403122 | C24: =C23+((I23+dp_dy*(1+EXP(-(ABS(E23)-displ)/9*sharpness))^(-alpha)/(H23*rho))/H23*COS(H23*time_step*3600)+J23/H23*SIN(H23*time_step*3600)-(I23+dp_dy*(1+EXP(-(ABS(E23)-displ)/9*sharpness))^(-alpha)/(H23*rho))/H23)/1000 -> 1.5054473 | D24: =B24 -> 0.013403122 | E24: =360*(init_km_from_eq+C24)/(2*PI()*6.37*10^3) -> 5.0135409 | F24: =dp_dy*(1+EXP(-(ABS(E23)-displ)/9*sharpness))^(-alpha) -> -0.00027322896 | G24: =F24*10^5/100 -> -0.27322896 | H24: =2*7.292*10^(-5)*SIN(E24*PI()/180) -> 1.2745129e-05 | I24: =(I23+dp_dy*(1+EXP(-(ABS(E23)-displ)/9*sharpness))^(-alpha)/(H23*rho))*COS(H23*time_step*3600)+J23*SIN(H23*time_step*3600)-dp_dy*(1+EXP(-(ABS(E23)-displ)/9*sharpness))^(-alpha)/(H23*rho) -> 0.019156377 | J24: =-(I23+dp_dy*(1+EXP(-(ABS(E23)-displ)/9*sharpness))^(-alpha)/(H23*rho))*SIN(H23*time_step*3600)+J23*COS(H23*time_step*3600) -> 1.4338135
A25: =A24+time_step -> 0.66666667 | B25: =B24+((I24+dp_dy*(1+EXP(-(ABS(E24)-displ)/9*sharpness))^(-alpha)/(H24*rho))/H24*SIN(H24*time_step*3600)-J24/H24*COS(H24*time_step*3600)-dp_dy*(1+EXP(-(ABS(E24)-displ)/9*sharpness))^(-alpha)*time_step*3600/(H24*rho)+J24/H24)/1000 -> 0.02001154 | C25: =C24+((I24+dp_dy*(1+EXP(-(ABS(E24)-displ)/9*sharpness))^(-alpha)/(H24*rho))/H24*COS(H24*time_step*3600)+J24/H24*SIN(H24*time_step*3600)-(I24+dp_dy*(1+EXP(-(ABS(E24)-displ)/9*sharpness))^(-alpha)/(H24*rho))/H24)/1000 -> 1.9663232 | D25: =B25 -> 0.02001154 | E25: =360*(init_km_from_eq+C25)/(2*PI()*6.37*10^3) -> 5.0176863 | F25: =dp_dy*(1+EXP(-(ABS(E24)-displ)/9*sharpness))^(-alpha) -> -0.00027327936 | G25: =F25*10^5/100 -> -0.27327936 | H25: =2*7.292*10^(-5)*SIN(E25*PI()/180) -> 1.275564e-05 | I25: =(I24+dp_dy*(1+EXP(-(ABS(E24)-displ)/9*sharpness))^(-alpha)/(H24*rho))*COS(H24*time_step*3600)+J24*SIN(H24*time_step*3600)-dp_dy*(1+EXP(-(ABS(E24)-displ)/9*sharpness))^(-alpha)/(H24*rho) -> 0.0250303 | J25: =-(I24+dp_dy*(1+EXP(-(ABS(E24)-displ)/9*sharpness))^(-alpha)/(H24*rho))*SIN(H24*time_step*3600)+J24*COS(H24*time_step*3600) -> 1.6386888
A26: =A25+time_step -> 0.75 | B26: =B25+((I25+dp_dy*(1+EXP(-(ABS(E25)-displ)/9*sharpness))^(-alpha)/(H25*rho))/H25*SIN(H25*time_step*3600)-J25/H25*COS(H25*time_step*3600)-dp_dy*(1+EXP(-(ABS(E25)-displ)/9*sharpness))^(-alpha)*time_step*3600/(H25*rho)+J25/H25)/1000 -> 0.028500448 | C26: =C25+((I25+dp_dy*(1+EXP(-(ABS(E25)-displ)/9*sharpness))^(-alpha)/(H25*rho))/H25*COS(H25*time_step*3600)+J25/H25*SIN(H25*time_step*3600)-(I25+dp_dy*(1+EXP(-(ABS(E25)-displ)/9*sharpness))^(-alpha)/(H25*rho))/H25)/1000 -> 2.4886647 | D26: =B26 -> 0.028500448 | E26: =360*(init_km_from_eq+C26)/(2*PI()*6.37*10^3) -> 5.0223846 | F26: =dp_dy*(1+EXP(-(ABS(E25)-displ)/9*sharpness))^(-alpha) -> -0.00027333753 | G26: =F26*10^5/100 -> -0.27333753 | H26: =2*7.292*10^(-5)*SIN(E26*PI()/180) -> 1.2767553e-05 | I26: =(I25+dp_dy*(1+EXP(-(ABS(E25)-displ)/9*sharpness))^(-alpha)/(H25*rho))*COS(H25*time_step*3600)+J25*SIN(H25*time_step*3600)-dp_dy*(1+EXP(-(ABS(E25)-displ)/9*sharpness))^(-alpha)/(H25*rho) -> 0.0316931 | J26: =-(I25+dp_dy*(1+EXP(-(ABS(E25)-displ)/9*sharpness))^(-alpha)/(H25*rho))*SIN(H25*time_step*3600)+J25*COS(H25*time_step*3600) -> 1.8435837
A27: =A26+time_step -> 0.83333333 | B27: =B26+((I26+dp_dy*(1+EXP(-(ABS(E26)-displ)/9*sharpness))^(-alpha)/(H26*rho))/H26*SIN(H26*time_step*3600)-J26/H26*COS(H26*time_step*3600)-dp_dy*(1+EXP(-(ABS(E26)-displ)/9*sharpness))^(-alpha)*time_step*3600/(H26*rho)+J26/H26)/1000 -> 0.039106836 | C27: =C26+((I26+dp_dy*(1+EXP(-(ABS(E26)-displ)/9*sharpness))^(-alpha)/(H26*rho))/H26*COS(H26*time_step*3600)+J26/H26*SIN(H26*time_step*3600)-(I26+dp_dy*(1+EXP(-(ABS(E26)-displ)/9*sharpness))^(-alpha)/(H26*rho))/H26)/1000 -> 3.0724781 | D27: =B27 -> 0.039106836 | E27: =360*(init_km_from_eq+C27)/(2*PI()*6.37*10^3) -> 5.0276358 | F27: =dp_dy*(1+EXP(-(ABS(E26)-displ)/9*sharpness))^(-alpha) -> -0.00027340346 | G27: =F27*10^5/100 -> -0.27340346 | H27: =2*7.292*10^(-5)*SIN(E27*PI()/180) -> 1.2780868e-05 | I27: =(I26+dp_dy*(1+EXP(-(ABS(E26)-displ)/9*sharpness))^(-alpha)/(H26*rho))*COS(H26*time_step*3600)+J26*SIN(H26*time_step*3600)-dp_dy*(1+EXP(-(ABS(E26)-displ)/9*sharpness))^(-alpha)/(H26*rho) -> 0.039146969 | J27: =-(I26+dp_dy*(1+EXP(-(ABS(E26)-displ)/9*sharpness))^(-alpha)/(H26*rho))*SIN(H26*time_step*3600)+J26*COS(H26*time_step*3600) -> 2.0485008
A28: =A27+time_step -> 0.91666667 | B28: =B27+((I27+dp_dy*(1+EXP(-(ABS(E27)-displ)/9*sharpness))^(-alpha)/(H27*rho))/H27*SIN(H27*time_step*3600)-J27/H27*COS(H27*time_step*3600)-dp_dy*(1+EXP(-(ABS(E27)-displ)/9*sharpness))^(-alpha)*time_step*3600/(H27*rho)+J27/H27)/1000 -> 0.052068391 | C28: =C27+((I27+dp_dy*(1+EXP(-(ABS(E27)-displ)/9*sharpness))^(-alpha)/(H27*rho))/H27*COS(H27*time_step*3600)+J27/H27*SIN(H27*time_step*3600)-(I27+dp_dy*(1+EXP(-(ABS(E27)-displ)/9*sharpness))^(-alpha)/(H27*rho))/H27)/1000 -> 3.7177705 | D28: =B28 -> 0.052068391 | E28: =360*(init_km_from_eq+C28)/(2*PI()*6.37*10^3) -> 5.03344 | F28: =dp_dy*(1+EXP(-(ABS(E27)-displ)/9*sharpness))^(-alpha) -> -0.00027347717 | G28: =F28*10^5/100 -> -0.27347717 | H28: =2*7.292*10^(-5)*SIN(E28*PI()/180) -> 1.2795585e-05 | I28: =(I27+dp_dy*(1+EXP(-(ABS(E27)-displ)/9*sharpness))^(-alpha)/(H27*rho))*COS(H27*time_step*3600)+J27*SIN(H27*time_step*3600)-dp_dy*(1+EXP(-(ABS(E27)-displ)/9*sharpness))^(-alpha)/(H27*rho) -> 0.047394366 | J28: =-(I27+dp_dy*(1+EXP(-(ABS(E27)-displ)/9*sharpness))^(-alpha)/(H27*rho))*SIN(H27*time_step*3600)+J27*COS(H27*time_step*3600) -> 2.2534431
A29: =A28+time_step -> 1 | B29: =B28+((I28+dp_dy*(1+EXP(-(ABS(E28)-displ)/9*sharpness))^(-alpha)/(H28*rho))/H28*SIN(H28*time_step*3600)-J28/H28*COS(H28*time_step*3600)-dp_dy*(1+EXP(-(ABS(E28)-displ)/9*sharpness))^(-alpha)*time_step*3600/(H28*rho)+J28/H28)/1000 -> 0.067623579 | C29: =C28+((I28+dp_dy*(1+EXP(-(ABS(E28)-displ)/9*sharpness))^(-alpha)/(H28*rho))/H28*COS(H28*time_step*3600)+J28/H28*SIN(H28*time_step*3600)-(I28+dp_dy*(1+EXP(-(ABS(E28)-displ)/9*sharpness))^(-alpha)/(H28*rho))/H28)/1000 -> 4.4245497 | D29: =B29 -> 0.067623579 | E29: =360*(init_km_from_eq+C29)/(2*PI()*6.37*10^3) -> 5.0397972 | F29: =dp_dy*(1+EXP(-(ABS(E28)-displ)/9*sharpness))^(-alpha) -> -0.00027355867 | G29: =F29*10^5/100 -> -0.27355867 | H29: =2*7.292*10^(-5)*SIN(E29*PI()/180) -> 1.2811704e-05 | I29: =(I28+dp_dy*(1+EXP(-(ABS(E28)-displ)/9*sharpness))^(-alpha)/(H28*rho))*COS(H28*time_step*3600)+J28*SIN(H28*time_step*3600)-dp_dy*(1+EXP(-(ABS(E28)-displ)/9*sharpness))^(-alpha)/(H28*rho) -> 0.05643802 | J29: =-(I28+dp_dy*(1+EXP(-(ABS(E28)-displ)/9*sharpness))^(-alpha)/(H28*rho))*SIN(H28*time_step*3600)+J28*COS(H28*time_step*3600) -> 2.458413
... A65: =A64+time_step -> 4 | B65: =B64+((I64+dp_dy*(1+EXP(-(ABS(E64)-displ)/9*sharpness))^(-alpha)/(H64*rho))/H64*SIN(H64*time_step*3600)-J64/H64*COS(H64*time_step*3600)-dp_dy*(1+EXP(-(ABS(E64)-displ)/9*sharpness))^(-alpha)*time_step*3600/(H64*rho)+J64/H64)/1000 -> 4.4839504 | C65: =C64+((I64+dp_dy*(1+EXP(-(ABS(E64)-displ)/9*sharpness))^(-alpha)/(H64*rho))/H64*COS(H64*time_step*3600)+J64/H64*SIN(H64*time_step*3600)-(I64+dp_dy*(1+EXP(-(ABS(E64)-displ)/9*sharpness))^(-alpha)/(H64*rho))/H64)/1000 -> 70.944504 | D65: =B65 -> 4.4839504 | E65: =360*(init_km_from_eq+C65)/(2*PI()*6.37*10^3) -> 5.6381194 | F65: =dp_dy*(1+EXP(-(ABS(E64)-displ)/9*sharpness))^(-alpha) -> -0.00028179128 | G65: =F65*10^5/100 -> -0.28179128 | H65: =2*7.292*10^(-5)*SIN(E65*PI()/180) -> 1.4328053e-05 | I65: =(I64+dp_dy*(1+EXP(-(ABS(E64)-displ)/9*sharpness))^(-alpha)/(H64*rho))*COS(H64*time_step*3600)+J64*SIN(H64*time_step*3600)-dp_dy*(1+EXP(-(ABS(E64)-displ)/9*sharpness))^(-alpha)/(H64*rho) -> 0.95754401 | J65: =-(I64+dp_dy*(1+EXP(-(ABS(E64)-displ)/9*sharpness))^(-alpha)/(H64*rho))*SIN(H64*time_step*3600)+J64*COS(H64*time_step*3600) -> 9.8748172
A66: =A65+time_step -> 4.0833333 | B66: =B65+((I65+dp_dy*(1+EXP(-(ABS(E65)-displ)/9*sharpness))^(-alpha)/(H65*rho))/H65*SIN(H65*time_step*3600)-J65/H65*COS(H65*time_step*3600)-dp_dy*(1+EXP(-(ABS(E65)-displ)/9*sharpness))^(-alpha)*time_step*3600/(H65*rho)+J65/H65)/1000 -> 4.7776251 | C66: =C65+((I65+dp_dy*(1+EXP(-(ABS(E65)-displ)/9*sharpness))^(-alpha)/(H65*rho))/H65*COS(H65*time_step*3600)+J65/H65*SIN(H65*time_step*3600)-(I65+dp_dy*(1+EXP(-(ABS(E65)-displ)/9*sharpness))^(-alpha)/(H65*rho))/H65)/1000 -> 73.938067 | D66: =B66 -> 4.7776251 | E66: =360*(init_km_from_eq+C66)/(2*PI()*6.37*10^3) -> 5.6650454 | F66: =dp_dy*(1+EXP(-(ABS(E65)-displ)/9*sharpness))^(-alpha) -> -0.00028217197 | G66: =F66*10^5/100 -> -0.28217197 | H66: =2*7.292*10^(-5)*SIN(E66*PI()/180) -> 1.4396256e-05 | I66: =(I65+dp_dy*(1+EXP(-(ABS(E65)-displ)/9*sharpness))^(-alpha)/(H65*rho))*COS(H65*time_step*3600)+J65*SIN(H65*time_step*3600)-dp_dy*(1+EXP(-(ABS(E65)-displ)/9*sharpness))^(-alpha)/(H65*rho) -> 1.0004359 | J66: =-(I65+dp_dy*(1+EXP(-(ABS(E65)-displ)/9*sharpness))^(-alpha)/(H65*rho))*SIN(H65*time_step*3600)+J65*COS(H65*time_step*3600) -> 10.082238 | V66: P-grad slope
A67: =A66+time_step -> 4.1666667 | B67: =B66+((I66+dp_dy*(1+EXP(-(ABS(E66)-displ)/9*sharpness))^(-alpha)/(H66*rho))/H66*SIN(H66*time_step*3600)-J66/H66*COS(H66*time_step*3600)-dp_dy*(1+EXP(-(ABS(E66)-displ)/9*sharpness))^(-alpha)*time_step*3600/(H66*rho)+J66/H66)/1000 -> 5.0843323 | C67: =C66+((I66+dp_dy*(1+EXP(-(ABS(E66)-displ)/9*sharpness))^(-alpha)/(H66*rho))/H66*COS(H66*time_step*3600)+J66/H66*SIN(H66*time_step*3600)-(I66+dp_dy*(1+EXP(-(ABS(E66)-displ)/9*sharpness))^(-alpha)/(H66*rho))/H66)/1000 -> 76.993869 | D67: =B67 -> 5.0843323 | E67: =360*(init_km_from_eq+C67)/(2*PI()*6.37*10^3) -> 5.6925312 | F67: =dp_dy*(1+EXP(-(ABS(E66)-displ)/9*sharpness))^(-alpha) -> -0.00028256123 | G67: =F67*10^5/100 -> -0.28256123 | H67: =2*7.292*10^(-5)*SIN(E67*PI()/180) -> 1.4465875e-05 | I67: =(I66+dp_dy*(1+EXP(-(ABS(E66)-displ)/9*sharpness))^(-alpha)/(H66*rho))*COS(H66*time_step*3600)+J66*SIN(H66*time_step*3600)-dp_dy*(1+EXP(-(ABS(E66)-displ)/9*sharpness))^(-alpha)/(H66*rho) -> 1.0444281 | J67: =-(I66+dp_dy*(1+EXP(-(ABS(E66)-displ)/9*sharpness))^(-alpha)/(H66*rho))*SIN(H66*time_step*3600)+J66*COS(H66*time_step*3600) -> 10.289744 | V67: displ | W67: alpha
A68: =A67+time_step -> 4.25 | B68: =B67+((I67+dp_dy*(1+EXP(-(ABS(E67)-displ)/9*sharpness))^(-alpha)/(H67*rho))/H67*SIN(H67*time_step*3600)-J67/H67*COS(H67*time_step*3600)-dp_dy*(1+EXP(-(ABS(E67)-displ)/9*sharpness))^(-alpha)*time_step*3600/(H67*rho)+J67/H67)/1000 -> 5.404404 | C68: =C67+((I67+dp_dy*(1+EXP(-(ABS(E67)-displ)/9*sharpness))^(-alpha)/(H67*rho))/H67*COS(H67*time_step*3600)+J67/H67*SIN(H67*time_step*3600)-(I67+dp_dy*(1+EXP(-(ABS(E67)-displ)/9*sharpness))^(-alpha)/(H67*rho))/H67)/1000 -> 80.111935 | D68: =B68 -> 5.404404 | E68: =360*(init_km_from_eq+C68)/(2*PI()*6.37*10^3) -> 5.720577 | F68: =dp_dy*(1+EXP(-(ABS(E67)-displ)/9*sharpness))^(-alpha) -> -0.00028295909 | G68: =F68*10^5/100 -> -0.28295909 | H68: =2*7.292*10^(-5)*SIN(E68*PI()/180) -> 1.4536909e-05 | I68: =(I67+dp_dy*(1+EXP(-(ABS(E67)-displ)/9*sharpness))^(-alpha)/(H67*rho))*COS(H67*time_step*3600)+J67*SIN(H67*time_step*3600)-dp_dy*(1+EXP(-(ABS(E67)-displ)/9*sharpness))^(-alpha)/(H67*rho) -> 1.0895336 | J68: =-(I67+dp_dy*(1+EXP(-(ABS(E67)-displ)/9*sharpness))^(-alpha)/(H67*rho))*SIN(H67*time_step*3600)+J67*COS(H67*time_step*3600) -> 10.497333 | V68: 50 | W68: 1
A69: =A68+time_step -> 4.3333333 | B69: =B68+((I68+dp_dy*(1+EXP(-(ABS(E68)-displ)/9*sharpness))^(-alpha)/(H68*rho))/H68*SIN(H68*time_step*3600)-J68/H68*COS(H68*time_step*3600)-dp_dy*(1+EXP(-(ABS(E68)-displ)/9*sharpness))^(-alpha)*time_step*3600/(H68*rho)+J68/H68)/1000 -> 5.7381763 | C69: =C68+((I68+dp_dy*(1+EXP(-(ABS(E68)-displ)/9*sharpness))^(-alpha)/(H68*rho))/H68*COS(H68*time_step*3600)+J68/H68*SIN(H68*time_step*3600)-(I68+dp_dy*(1+EXP(-(ABS(E68)-displ)/9*sharpness))^(-alpha)/(H68*rho))/H68)/1000 -> 83.292291 | D69: =B69 -> 5.7381763 | E69: =360*(init_km_from_eq+C69)/(2*PI()*6.37*10^3) -> 5.7491832 | F69: =dp_dy*(1+EXP(-(ABS(E68)-displ)/9*sharpness))^(-alpha) -> -0.00028336558 | G69: =F69*10^5/100 -> -0.28336558 | H69: =2*7.292*10^(-5)*SIN(E69*PI()/180) -> 1.4609358e-05 | I69: =(I68+dp_dy*(1+EXP(-(ABS(E68)-displ)/9*sharpness))^(-alpha)/(H68*rho))*COS(H68*time_step*3600)+J68*SIN(H68*time_step*3600)-dp_dy*(1+EXP(-(ABS(E68)-displ)/9*sharpness))^(-alpha)/(H68*rho) -> 1.1357662 | J69: =-(I68+dp_dy*(1+EXP(-(ABS(E68)-displ)/9*sharpness))^(-alpha)/(H68*rho))*SIN(H68*time_step*3600)+J68*COS(H68*time_step*3600) -> 10.705005
A70: =A69+time_step -> 4.4166667 | B70: =B69+((I69+dp_dy*(1+EXP(-(ABS(E69)-displ)/9*sharpness))^(-alpha)/(H69*rho))/H69*SIN(H69*time_step*3600)-J69/H69*COS(H69*time_step*3600)-dp_dy*(1+EXP(-(ABS(E69)-displ)/9*sharpness))^(-alpha)*time_step*3600/(H69*rho)+J69/H69)/1000 -> 6.0859894 | C70: =C69+((I69+dp_dy*(1+EXP(-(ABS(E69)-displ)/9*sharpness))^(-alpha)/(H69*rho))/H69*COS(H69*time_step*3600)+J69/H69*SIN(H69*time_step*3600)-(I69+dp_dy*(1+EXP(-(ABS(E69)-displ)/9*sharpness))^(-alpha)/(H69*rho))/H69)/1000 -> 86.534961 | D70: =B70 -> 6.0859894 | E70: =360*(init_km_from_eq+C70)/(2*PI()*6.37*10^3) -> 5.7783498 | F70: =dp_dy*(1+EXP(-(ABS(E69)-displ)/9*sharpness))^(-alpha) -> -0.00028378075 | G70: =F70*10^5/100 -> -0.28378075 | H70: =2*7.292*10^(-5)*SIN(E70*PI()/180) -> 1.4683223e-05 | I70: =(I69+dp_dy*(1+EXP(-(ABS(E69)-displ)/9*sharpness))^(-alpha)/(H69*rho))*COS(H69*time_step*3600)+J69*SIN(H69*time_step*3600)-dp_dy*(1+EXP(-(ABS(E69)-displ)/9*sharpness))^(-alpha)/(H69*rho) -> 1.1831395 | J70: =-(I69+dp_dy*(1+EXP(-(ABS(E69)-displ)/9*sharpness))^(-alpha)/(H69*rho))*SIN(H69*time_step*3600)+J69*COS(H69*time_step*3600) -> 10.912759
A71: =A70+time_step -> 4.5 | B71: =B70+((I70+dp_dy*(1+EXP(-(ABS(E70)-displ)/9*sharpness))^(-alpha)/(H70*rho))/H70*SIN(H70*time_step*3600)-J70/H70*COS(H70*time_step*3600)-dp_dy*(1+EXP(-(ABS(E70)-displ)/9*sharpness))^(-alpha)*time_step*3600/(H70*rho)+J70/H70)/1000 -> 6.4481876 | C71: =C70+((I70+dp_dy*(1+EXP(-(ABS(E70)-displ)/9*sharpness))^(-alpha)/(H70*rho))/H70*COS(H70*time_step*3600)+J70/H70*SIN(H70*time_step*3600)-(I70+dp_dy*(1+EXP(-(ABS(E70)-displ)/9*sharpness))^(-alpha)/(H70*rho))/H70)/1000 -> 89.83997 | D71: =B71 -> 6.4481876 | E71: =360*(init_km_from_eq+C71)/(2*PI()*6.37*10^3) -> 5.8080771 | F71: =dp_dy*(1+EXP(-(ABS(E70)-displ)/9*sharpness))^(-alpha) -> -0.00028420462 | G71: =F71*10^5/100 -> -0.28420462 | H71: =2*7.292*10^(-5)*SIN(E71*PI()/180) -> 1.4758504e-05 | I71: =(I70+dp_dy*(1+EXP(-(ABS(E70)-displ)/9*sharpness))^(-alpha)/(H70*rho))*COS(H70*time_step*3600)+J70*SIN(H70*time_step*3600)-dp_dy*(1+EXP(-(ABS(E70)-displ)/9*sharpness))^(-alpha)/(H70*rho) -> 1.2316677 | J71: =-(I70+dp_dy*(1+EXP(-(ABS(E70)-displ)/9*sharpness))^(-alpha)/(H70*rho))*SIN(H70*time_step*3600)+J70*COS(H70*time_step*3600) -> 11.120595 | U71: latitude | V71: fraction of p gradient at pole | X71: hPa 100km-1
A72: =A71+time_step -> 4.5833333 | B72: =B71+((I71+dp_dy*(1+EXP(-(ABS(E71)-displ)/9*sharpness))^(-alpha)/(H71*rho))/H71*SIN(H71*time_step*3600)-J71/H71*COS(H71*time_step*3600)-dp_dy*(1+EXP(-(ABS(E71)-displ)/9*sharpness))^(-alpha)*time_step*3600/(H71*rho)+J71/H71)/1000 -> 6.8251195 | C72: =C71+((I71+dp_dy*(1+EXP(-(ABS(E71)-displ)/9*sharpness))^(-alpha)/(H71*rho))/H71*COS(H71*time_step*3600)+J71/H71*SIN(H71*time_step*3600)-(I71+dp_dy*(1+EXP(-(ABS(E71)-displ)/9*sharpness))^(-alpha)/(H71*rho))/H71)/1000 -> 93.207341 | D72: =B72 -> 6.8251195 | E72: =360*(init_km_from_eq+C72)/(2*PI()*6.37*10^3) -> 5.8383653 | F72: =dp_dy*(1+EXP(-(ABS(E71)-displ)/9*sharpness))^(-alpha) -> -0.00028463723 | G72: =F72*10^5/100 -> -0.28463723 | H72: =2*7.292*10^(-5)*SIN(E72*PI()/180) -> 1.4835202e-05 | I72: =(I71+dp_dy*(1+EXP(-(ABS(E71)-displ)/9*sharpness))^(-alpha)/(H71*rho))*COS(H71*time_step*3600)+J71*SIN(H71*time_step*3600)-dp_dy*(1+EXP(-(ABS(E71)-displ)/9*sharpness))^(-alpha)/(H71*rho) -> 1.281365 | J72: =-(I71+dp_dy*(1+EXP(-(ABS(E71)-displ)/9*sharpness))^(-alpha)/(H71*rho))*SIN(H71*time_step*3600)+J71*COS(H71*time_step*3600) -> 11.32851 | U72: -45 | V72: =(1+EXP(-(U72-displ)/9*sharpness))^(-alpha) -> 0.0050778438 | X72: =V72*$D$4 -> -0.018280238
